Workbook

Sheet Analysis
D1: Games | H1: Goals | L1: Pro-Rated Goals | P1: Player Ratio | T1: Player Goals Above Average | X1: Assists | AB1: Pro-Rated Assists | AF1: Player Ratio | AJ1: Player Assists Above Average | AN1: PPP | AR1: Pro-Rated PPP | AV1: Player Ratio | AZ1: Player PPP Above Average | BD1: SOG | BH1: Pro-Rated SOG | BL1: Player Ratio | BP1: Player SOG Above Average | BT1: SUB-TOTAL | CA1: 2012-2013 Ranked Names | CD1: 2013-2014 Ranked Names | CH1: 2010-2013 Ranked Names | CK1: 2010-2013 Ranked Names | CR1: Average Ranked
C2: Optimus-Reim | D2: 2010-2011 | E2: 2011-2012 | F2: 2012-2013 | G2: 2013-2014 | H2: 2010-2011 | I2: 2011-2012 | J2: 2012-2013 | K2: 2013-2014 | L2: 2010-2011 | M2: 2011-2012 | N2: 2012-2013 | O2: 2013-2014 | P2: 2010-2011 | Q2: 2011-2012 | R2: 2012-2013 | S2: 2013-2014 | T2: 2010-2011 | U2: 2011-2012 | V2: 2012-2013 | W2: 2013-2014 | X2: 2010-2011 | Y2: 2011-2012 | Z2: 2012-2013 | AA2: 2013-2014 | AB2: 2010-2011 | AC2: 2011-2012 | AD2: 2012-2013 | AE2: 2013-2014 | AF2: 2010-2011 | AG2: 2011-2012 | AH2: 2012-2013 | AI2: 2013-2014 | AJ2: 2010-2011 | AK2: 2011-2012 | AL2: 2012-2013 | AM2: 2013-2014 | AN2: 2010-2011 | AO2: 2011-2012 | AP2: 2012-2013 | AQ2: 2013-2014 | AR2: 2010-2011 | AS2: 2011-2012 | AT2: 2012-2013 | AU2: 2013-2014 | AV2: 2010-2011 | AW2: 2011-2012 | AX2: 2012-2013 | AY2: 2013-2014 | AZ2: 2010-2011 | BA2: 2011-2012 | BB2: 2012-2013 | BC2: 2013-2014 | BD2: 2010-2011 | BE2: 2011-2012 | BF2: 2012-2013 | BG2: 2013-2014 | BH2: 2010-2011 | BI2: 2011-2012 | BJ2: 2012-2013 | BK2: 2013-2014 | BL2: 2010-2011 | BM2: 2011-2012 | BN2: 2012-2013 | BO2: 2013-2014 | BP2: 2010-2011 | BQ2: 2011-2012 | BR2: 2012-2013 | BS2: 2013-2014 | BT2: 2010-2011 | BU2: 2011-2012 | BV2: 2012-2013 | BW2: 2013-2014 | BX2: AVG. | BZ2: No. | CA2: Optimus-Reim | CC2: Desired No. | CD2: Optimus-Reim | CG2: No. | CH2: Optimus-Reim | CJ2: Desired No. | CK2: Optimus-Reim | CN2: No. | CO2: Optimus-Reim | CQ2: Desired No. | CR2: Optimus-Reim
A3: =C3 -> Tyler Bozak | B3: =RIGHT(C3,LEN(C3)-FIND(" ",C3)) -> Bozak | C3: Tyler Bozak | D3: 82 | E3: 73 | F3: 46 | G3: =VLOOKUP(A3,'Hard Stats 2013-2014'!$A$2:$L$691,4,0) -> 58 | H3: 15 | I3: 18 | J3: 12 | K3: =VLOOKUP(A3,'Hard Stats 2013-2014'!$A$2:$L$691,5,0) -> 19 | L3: =(H3/D3)*77 -> 14.085366 | M3: =(I3/E3)*77 -> 18.986301 | N3: =(J3/F3)*77 -> 20.086957 | O3: =(K3/G3)*77 -> 25.224138 | P3: =(L3/(L$146))*1000 -> 6.024548 | Q3: =(M3/(M$146))*1000 -> 7.6021822 | R3: =(N3/(N$146))*1000 -> 7.7710331 | S3: =(O3/(O$146))*1000 -> 8.9070168 | T3: =(P3-H$147) -> -2.1721733 | U3: =(Q3-I$147) -> -0.14975578 | V3: =(R3-J$147) -> 0.30834654 | W3: =(S3-K$147) -> 1.6077468 | X3: 17 | Y3: 29 | Z3: 16 | AA3: =VLOOKUP(A3,'Hard Stats 2013-2014'!$A$2:$L$691,6,0) -> 30 | AB3: =(X3/D3)*77 -> 15.963415 | AC3: =(Y3/E3)*77 -> 30.589041 | AD3: =(Z3/F3)*77 -> 26.782609 | AE3: =(AA3/G3)*77 -> 39.827586 | AF3: =(AB3/AB$146)*1000 -> 3.9270967 | AG3: =(AC3/AC$146)*1000 -> 7.3983723 | AH3: =(AD3/AD$146)*1000 -> 5.7988103 | AI3: =(AE3/AE$146)*1000 -> 8.5110947 | AJ3: =(AF3-H$147) -> -4.2696246 | AK3: =(AG3-I$147) -> -0.35356568 | AL3: =(AH3-J$147) -> -1.6638763 | AM3: =(AI3-K$147) -> 1.2118246 | AN3: 11 | AO3: 12 | AP3: 9 | AQ3: =VLOOKUP(A3,'Hard Stats 2013-2014'!$A$2:$L$691,8,0) -> 8 | AR3: =(AN3/D3)*77 -> 10.329268 | AS3: =(AO3/E3)*77 -> 12.657534 | AT3: =(AP3/F3)*77 -> 15.065217 | AU3: =(AQ3/G3)*77 -> 10.62069 | AV3: =((AR3/AR$146)*1000) -> 5.0134557 | AW3: =((AS3/AS$146)*1000) -> 6.3052728 | AX3: =((AT3/AT$146)*1000) -> 6.3979608 | AY3: =((AU3/AU$146)*1000) -> 4.3451852 | AZ3: =(AV3-H$147) -> -3.1832656 | BA3: =(AW3-I$147) -> -1.4466652 | BB3: =(AX3-J$147) -> -1.0647257 | BC3: =(AY3-K$147) -> -2.9540849 | BD3: 120 | BE3: 109 | BF3: 61 | BG3: =VLOOKUP(A3,'Hard Stats 2013-2014'!$A$2:$L$691,9,0) -> 90 | BH3: =(BD3/D3)*77 -> 112.68293 | BI3: =(BE3/E3)*77 -> 114.9726 | BJ3: =(BF3/F3)*77 -> 102.1087 | BK3: =(BG3/G3)*77 -> 119.48276 | BL3: =(BH3/BH$146)*1000 -> 4.8083574 | BM3: =(BI3/BI$146)*1000 -> 4.7771462 | BN3: =(BJ3/BJ$146)*1000 -> 4.0793942 | BO3: =(BK3/BK$146)*1000 -> 4.4839938 | BP3: =(BL3-H$147) -> -3.3883639 | BQ3: =(BM3-I$147) -> -2.9747917 | BR3: =(BN3-J$147) -> -3.3832924 | BS3: =(BO3-K$147) -> -2.8152762 | BT3: =(((BP3+AZ3)+AJ3)+T3) -> -13.013427 | BU3: =(((BQ3+BA3)+AK3)+U3) -> -4.9247784 | BV3: =(((BR3+BB3)+AL3)+V3) -> -5.8035479 | BW3: =(((BS3+BC3)+AM3)+W3) -> -2.9497898 | BX3: =((BW3*0.6)+(BV3*0.3)+(BU3*0.1)) -> -4.0034161 | BZ3: =RANK(CB3,CB$3:CB$17) -> 13 | CA3: =C3 -> Tyler Bozak | CB3: =BW3 -> -2.9497898 | CC3: 1 | CD3: =VLOOKUP(CC3,BZ$3:CB$17,2,FALSE) -> James Neal | CE3: =VLOOKUP(CD3,CA$3:CC$17,2,FALSE) -> 18.267339 | CG3: =RANK(CI3,CI$3:CI$161) -> #REF! | CH3: =#REF! -> #REF! | CI3: =#REF! -> #REF! | CJ3: 1 | CK3: =VLOOKUP(CJ3,CG$3:CI$161,2,FALSE) -> #N/A | CL3: =VLOOKUP(CK3,CH$3:CJ$161,2,FALSE) -> #N/A | CN3: =RANK(CP3,CP$3:CP$17) -> 13 | CO3: =C3 -> Tyler Bozak | CP3: =BX3 -> -4.0034161 | CQ3: 1 | CR3: =VLOOKUP(CQ3,CN$3:CP$17,2,FALSE) -> James Neal | CS3: =VLOOKUP(CR3,CO$3:CQ$17,2,FALSE) -> 17.783731
A4: =C4 -> Jordan Eberle | B4: =RIGHT(C4,LEN(C4)-FIND(" ",C4)) -> Eberle | C4: Jordan Eberle | D4: 69 | E4: 78 | F4: 48 | G4: =VLOOKUP(A4,'Hard Stats 2013-2014'!$A$2:$L$691,4,0) -> 80 | H4: 18 | I4: 34 | J4: 16 | K4: =VLOOKUP(A4,'Hard Stats 2013-2014'!$A$2:$L$691,5,0) -> 28 | L4: =(H4/D4)*77 -> 20.086957 | M4: =(I4/E4)*77 -> 33.564103 | N4: =(J4/F4)*77 -> 25.666667 | O4: =(K4/G4)*77 -> 26.95 | P4: =(L4/(L$146))*1000 -> 8.5915294 | Q4: =(M4/(M$146))*1000 -> 13.439185 | R4: =(N4/(N$146))*1000 -> 9.9296534 | S4: =(O4/(O$146))*1000 -> 9.5164443 | T4: =(P4-H$147) -> 0.39480805 | U4: =(Q4-I$147) -> 5.6872474 | V4: =(R4-J$147) -> 2.4669669 | W4: =(S4-K$147) -> 2.2171742 | X4: 25 | Y4: 42 | Z4: 21 | AA4: =VLOOKUP(A4,'Hard Stats 2013-2014'!$A$2:$L$691,6,0) -> 37 | AB4: =(X4/D4)*77 -> 27.898551 | AC4: =(Y4/E4)*77 -> 41.461538 | AD4: =(Z4/F4)*77 -> 33.6875 | AE4: =(AA4/G4)*77 -> 35.6125 | AF4: =(AB4/AB$146)*1000 -> 6.8632125 | AG4: =(AC4/AC$146)*1000 -> 10.028032 | AH4: =(AD4/AD$146)*1000 -> 7.293816 | AI4: =(AE4/AE$146)*1000 -> 7.6103372 | AJ4: =(AF4-H$147) -> -1.3335088 | AK4: =(AG4-I$147) -> 2.2760945 | AL4: =(AH4-J$147) -> -0.16887053 | AM4: =(AI4-K$147) -> 0.31106709 | AN4: 11 | AO4: 20 | AP4: 9 | AQ4: =VLOOKUP(A4,'Hard Stats 2013-2014'!$A$2:$L$691,8,0) -> 20 | AR4: =(AN4/D4)*77 -> 12.275362 | AS4: =(AO4/E4)*77 -> 19.74359 | AT4: =(AP4/F4)*77 -> 14.4375 | AU4: =(AQ4/G4)*77 -> 19.25 | AV4: =((AR4/AR$146)*1000) -> 5.9580198 | AW4: =((AS4/AS$146)*1000) -> 9.8351477 | AX4: =((AT4/AT$146)*1000) -> 6.1313791 | AY4: =((AU4/AU$146)*1000) -> 7.8756482 | AZ4: =(AV4-H$147) -> -2.2387015 | BA4: =(AW4-I$147) -> 2.0832097 | BB4: =(AX4-J$147) -> -1.3313074 | BC4: =(AY4-K$147) -> 0.5763781 | BD4: 158 | BE4: 180 | BF4: 133 | BG4: =VLOOKUP(A4,'Hard Stats 2013-2014'!$A$2:$L$691,9,0) -> 200 | BH4: =(BD4/D4)*77 -> 176.31884 | BI4: =(BE4/E4)*77 -> 177.69231 | BJ4: =(BF4/F4)*77 -> 213.35417 | BK4: =(BG4/G4)*77 -> 192.5 | BL4: =(BH4/BH$146)*1000 -> 7.5238018 | BM4: =(BI4/BI$146)*1000 -> 7.3831689 | BN4: =(BJ4/BJ$146)*1000 -> 8.5238161 | BO4: =(BK4/BK$146)*1000 -> 7.2242123 | BP4: =(BL4-H$147) -> -0.67291953 | BQ4: =(BM4-I$147) -> -0.36876913 | BR4: =(BN4-J$147) -> 1.0611295 | BS4: =(BO4-K$147) -> -0.0750578 | BT4: =(((BP4+AZ4)+AJ4)+T4) -> -3.8503218 | BU4: =(((BQ4+BA4)+AK4)+U4) -> 9.6777825 | BV4: =(((BR4+BB4)+AL4)+V4) -> 2.0279184 | BW4: =(((BS4+BC4)+AM4)+W4) -> 3.0295616 | BX4: =((BW4*0.6)+(BV4*0.3)+(BU4*0.1)) -> 3.3938907 | BZ4: =RANK(CB4,CB$3:CB$17) -> 7 | CA4: =C4 -> Jordan Eberle | CB4: =BW4 -> 3.0295616 | CC4: =CC3+1 -> 2 | CD4: =VLOOKUP(CC4,BZ$3:CB$17,2,FALSE) -> Ryan Getzlaf | CE4: =VLOOKUP(CD4,CA$3:CC$17,2,FALSE) -> 10.782248 | CG4: =RANK(CI4,CI$3:CI$161) -> #REF! | CH4: =#REF! -> #REF! | CI4: =#REF! -> #REF! | CJ4: =CJ3+1 -> 2 | CK4: =VLOOKUP(CJ4,CG$3:CI$161,2,FALSE) -> #N/A | CL4: =VLOOKUP(CK4,CH$3:CJ$161,2,FALSE) -> #N/A | CN4: =RANK(CP4,CP$3:CP$17) -> 6 | CO4: =C4 -> Jordan Eberle | CP4: =BX4 -> 3.3938907 | CQ4: =CQ3+1 -> 2 | CR4: =VLOOKUP(CQ4,CN$3:CP$17,2,FALSE) -> Phil Kessel | CS4: =VLOOKUP(CR4,CO$3:CQ$17,2,FALSE) -> 13.108642
A5: =C5 -> Patrik Elias | B5: =RIGHT(C5,LEN(C5)-FIND(" ",C5)) -> Elias | C5: Patrik Elias | D5: 81 | E5: 81 | F5: 48 | G5: =VLOOKUP(A5,'Hard Stats 2013-2014'!$A$2:$L$691,4,0) -> 65 | H5: 21 | I5: 26 | J5: 14 | K5: =VLOOKUP(A5,'Hard Stats 2013-2014'!$A$2:$L$691,5,0) -> 18 | L5: =(H5/D5)*77 -> 19.962963 | M5: =(I5/E5)*77 -> 24.716049 | N5: =(J5/F5)*77 -> 22.458333 | O5: =(K5/G5)*77 -> 21.323077 | P5: =(L5/(L$146))*1000 -> 8.5384952 | Q5: =(M5/(M$146))*1000 -> 9.8963936 | R5: =(N5/(N$146))*1000 -> 8.6884467 | S5: =(O5/(O$146))*1000 -> 7.5294944 | T5: =(P5-H$147) -> 0.34177391 | U5: =(Q5-I$147) -> 2.1444556 | V5: =(R5-J$147) -> 1.2257602 | W5: =(S5-K$147) -> 0.23022432 | X5: 41 | Y5: 52 | Z5: 22 | AA5: =VLOOKUP(A5,'Hard Stats 2013-2014'!$A$2:$L$691,6,0) -> 35 | AB5: =(X5/D5)*77 -> 38.975309 | AC5: =(Y5/E5)*77 -> 49.432099 | AD5: =(Z5/F5)*77 -> 35.291667 | AE5: =(AA5/G5)*77 -> 41.461538 | AF5: =(AB5/AB$146)*1000 -> 9.5881621 | AG5: =(AC5/AC$146)*1000 -> 11.95582 | AH5: =(AD5/AD$146)*1000 -> 7.6411406 | AI5: =(AE5/AE$146)*1000 -> 8.8602678 | AJ5: =(AF5-H$147) -> 1.3914408 | AK5: =(AG5-I$147) -> 4.203882 | AL5: =(AH5-J$147) -> 0.17845405 | AM5: =(AI5-K$147) -> 1.5609977 | AN5: 20 | AO5: 29 | AP5: 14 | AQ5: =VLOOKUP(A5,'Hard Stats 2013-2014'!$A$2:$L$691,8,0) -> 17 | AR5: =(AN5/D5)*77 -> 19.012346 | AS5: =(AO5/E5)*77 -> 27.567901 | AT5: =(AP5/F5)*77 -> 22.458333 | AU5: =(AQ5/G5)*77 -> 20.138462 | AV5: =((AR5/AR$146)*1000) -> 9.2279094 | AW5: =((AS5/AS$146)*1000) -> 13.73278 | AX5: =((AT5/AT$146)*1000) -> 9.5377009 | AY5: =((AU5/AU$146)*1000) -> 8.2391396 | AZ5: =(AV5-H$147) -> 1.0311881 | BA5: =(AW5-I$147) -> 5.9808423 | BB5: =(AX5-J$147) -> 2.0750143 | BC5: =(AY5-K$147) -> 0.93986955 | BD5: 204 | BE5: 164 | BF5: 118 | BG5: =VLOOKUP(A5,'Hard Stats 2013-2014'!$A$2:$L$691,9,0) -> 116 | BH5: =(BD5/D5)*77 -> 193.92593 | BI5: =(BE5/E5)*77 -> 155.90123 | BJ5: =(BF5/F5)*77 -> 189.29167 | BK5: =(BG5/G5)*77 -> 137.41538 | BL5: =(BH5/BH$146)*1000 -> 8.2751238 | BM5: =(BI5/BI$146)*1000 -> 6.4777432 | BN5: =(BJ5/BJ$146)*1000 -> 7.5624834 | BO5: =(BK5/BK$146)*1000 -> 5.1569761 | BP5: =(BL5-H$147) -> 0.07840245 | BQ5: =(BM5-I$147) -> -1.2741948 | BR5: =(BN5-J$147) -> 0.099796851 | BS5: =(BO5-K$147) -> -2.1422939 | BT5: =(((BP5+AZ5)+AJ5)+T5) -> 2.8428053 | BU5: =(((BQ5+BA5)+AK5)+U5) -> 11.054985 | BV5: =(((BR5+BB5)+AL5)+V5) -> 3.5790254 | BW5: =(((BS5+BC5)+AM5)+W5) -> 0.58879767 | BX5: =((BW5*0.6)+(BV5*0.3)+(BU5*0.1)) -> 2.5324847 | BZ5: =RANK(CB5,CB$3:CB$17) -> 9 | CA5: =C5 -> Patrik Elias | CB5: =BW5 -> 0.58879767 | CC5: =CC4+1 -> 3 | CD5: =VLOOKUP(CC5,BZ$3:CB$17,2,FALSE) -> Phil Kessel | CE5: =VLOOKUP(CD5,CA$3:CC$17,2,FALSE) -> 10.132012 | CG5: =RANK(CI5,CI$3:CI$161) -> #REF! | CH5: =#REF! -> #REF! | CI5: =#REF! -> #REF! | CJ5: =CJ4+1 -> 3 | CK5: =VLOOKUP(CJ5,CG$3:CI$161,2,FALSE) -> #N/A | CL5: =VLOOKUP(CK5,CH$3:CJ$161,2,FALSE) -> #N/A | CN5: =RANK(CP5,CP$3:CP$17) -> 8 | CO5: =C5 -> Patrik Elias | CP5: =BX5 -> 2.5324847 | CQ5: =CQ4+1 -> 3 | CR5: =VLOOKUP(CQ5,CN$3:CP$17,2,FALSE) -> Ryan Getzlaf | CS5: =VLOOKUP(CR5,CO$3:CQ$17,2,FALSE) -> 10.001589
A6: =C6 -> Ryan Getzlaf | B6: =RIGHT(C6,LEN(C6)-FIND(" ",C6)) -> Getzlaf | C6: Ryan Getzlaf | D6: 67 | E6: 82 | F6: 44 | G6: =VLOOKUP(A6,'Hard Stats 2013-2014'!$A$2:$L$691,4,0) -> 77 | H6: 19 | I6: 11 | J6: 15 | K6: =VLOOKUP(A6,'Hard Stats 2013-2014'!$A$2:$L$691,5,0) -> 31 | L6: =(H6/D6)*77 -> 21.835821 | M6: =(I6/E6)*77 -> 10.329268 | N6: =(J6/F6)*77 -> 26.25 | O6: =(K6/G6)*77 -> 31 | P6: =(L6/(L$146))*1000 -> 9.3395481 | Q6: =(M6/(M$146))*1000 -> 4.1358756 | R6: =(N6/(N$146))*1000 -> 10.155327 | S6: =(O6/(O$146))*1000 -> 10.946559 | T6: =(P6-H$147) -> 1.1428268 | U6: =(Q6-I$147) -> -3.6160624 | V6: =(R6-J$147) -> 2.6926408 | W6: =(S6-K$147) -> 3.6472892 | X6: 57 | Y6: 46 | Z6: 34 | AA6: =VLOOKUP(A6,'Hard Stats 2013-2014'!$A$2:$L$691,6,0) -> 56 | AB6: =(X6/D6)*77 -> 65.507463 | AC6: =(Y6/E6)*77 -> 43.195122 | AD6: =(Z6/F6)*77 -> 59.5 | AE6: =(AA6/G6)*77 -> 56 | AF6: =(AB6/AB$146)*1000 -> 16.115233 | AG6: =(AC6/AC$146)*1000 -> 10.447323 | AH6: =(AD6/AD$146)*1000 -> 12.882584 | AI6: =(AE6/AE$146)*1000 -> 11.967115 | AJ6: =(AF6-H$147) -> 7.9185115 | AK6: =(AG6-I$147) -> 2.6953851 | AL6: =(AH6-J$147) -> 5.4198976 | AM6: =(AI6-K$147) -> 4.6678449 | AN6: 27 | AO6: 23 | AP6: 15 | AQ6: =VLOOKUP(A6,'Hard Stats 2013-2014'!$A$2:$L$691,8,0) -> 23 | AR6: =(AN6/D6)*77 -> 31.029851 | AS6: =(AO6/E6)*77 -> 21.597561 | AT6: =(AP6/F6)*77 -> 26.25 | AU6: =(AQ6/G6)*77 -> 23 | AV6: =((AR6/AR$146)*1000) -> 15.060775 | AW6: =((AS6/AS$146)*1000) -> 10.758692 | AX6: =((AT6/AT$146)*1000) -> 11.147962 | AY6: =((AU6/AU$146)*1000) -> 9.4098653 | AZ6: =(AV6-H$147) -> 6.8640533 | BA6: =(AW6-I$147) -> 3.0067541 | BB6: =(AX6-J$147) -> 3.6852755 | BC6: =(AY6-K$147) -> 2.1105953 | BD6: 117 | BE6: 185 | BF6: 99 | BG6: =VLOOKUP(A6,'Hard Stats 2013-2014'!$A$2:$L$691,9,0) -> 204 | BH6: =(BD6/D6)*77 -> 134.46269 | BI6: =(BE6/E6)*77 -> 173.71951 | BJ6: =(BF6/F6)*77 -> 173.25 | BK6: =(BG6/G6)*77 -> 204 | BL6: =(BH6/BH$146)*1000 -> 5.737734 | BM6: =(BI6/BI$146)*1000 -> 7.218098 | BN6: =(BJ6/BJ$146)*1000 -> 6.921595 | BO6: =(BK6/BK$146)*1000 -> 7.6557886 | BP6: =(BL6-H$147) -> -2.4589873 | BQ6: =(BM6-I$147) -> -0.53383997 | BR6: =(BN6-J$147) -> -0.54109157 | BS6: =(BO6-K$147) -> 0.35651852 | BT6: =(((BP6+AZ6)+AJ6)+T6) -> 13.466404 | BU6: =(((BQ6+BA6)+AK6)+U6) -> 1.5522367 | BV6: =(((BR6+BB6)+AL6)+V6) -> 11.256722 | BW6: =(((BS6+BC6)+AM6)+W6) -> 10.782248 | BX6: =((BW6*0.6)+(BV6*0.3)+(BU6*0.1)) -> 10.001589 | BZ6: =RANK(CB6,CB$3:CB$17) -> 2 | CA6: =C6 -> Ryan Getzlaf | CB6: =BW6 -> 10.782248 | CC6: =CC5+1 -> 4 | CD6: =VLOOKUP(CC6,BZ$3:CB$17,2,FALSE) -> Kyle Okposo | CE6: =VLOOKUP(CD6,CA$3:CC$17,2,FALSE) -> 5.4684696 | CG6: =RANK(CI6,CI$6:CI$178) -> #REF! | CH6: =#REF! -> #REF! | CI6: =#REF! -> #REF! | CJ6: 1 | CK6: =VLOOKUP(CJ6,CG$6:CI$178,2,FALSE) -> #N/A | CL6: =VLOOKUP(CK6,CH$6:CJ$178,2,FALSE) -> #N/A | CN6: =RANK(CP6,CP$3:CP$17) -> 3 | CO6: =C6 -> Ryan Getzlaf | CP6: =BX6 -> 10.001589 | CQ6: 4 | CR6: =VLOOKUP(CQ6,CN$3:CP$17,2,FALSE) -> Anze Kopitar | CS6: =VLOOKUP(CR6,CO$3:CQ$17,2,FALSE) -> 5.4446775
A7: =C7 -> Phil Kessel | B7: =RIGHT(C7,LEN(C7)-FIND(" ",C7)) -> Kessel | C7: Phil Kessel | D7: 82 | E7: 82 | F7: 48 | G7: =VLOOKUP(A7,'Hard Stats 2013-2014'!$A$2:$L$691,4,0) -> 82 | H7: 32 | I7: 37 | J7: 20 | K7: =VLOOKUP(A7,'Hard Stats 2013-2014'!$A$2:$L$691,5,0) -> 37 | L7: =(H7/D7)*77 -> 30.04878 | M7: =(I7/E7)*77 -> 34.743902 | N7: =(J7/F7)*77 -> 32.083333 | O7: =(K7/G7)*77 -> 34.743902 | P7: =(L7/(L$146))*1000 -> 12.852369 | Q7: =(M7/(M$146))*1000 -> 13.911581 | R7: =(N7/(N$146))*1000 -> 12.412067 | S7: =(O7/(O$146))*1000 -> 12.268587 | T7: =(P7-H$147) -> 4.6556478 | U7: =(Q7-I$147) -> 6.1596434 | V7: =(R7-J$147) -> 4.9493802 | W7: =(S7-K$147) -> 4.9693167 | X7: 32 | Y7: 45 | Z7: 32 | AA7: =VLOOKUP(A7,'Hard Stats 2013-2014'!$A$2:$L$691,6,0) -> 43 | AB7: =(X7/D7)*77 -> 30.04878 | AC7: =(Y7/E7)*77 -> 42.256098 | AD7: =(Z7/F7)*77 -> 51.333333 | AE7: =(AA7/G7)*77 -> 40.378049 | AF7: =(AB7/AB$146)*1000 -> 7.3921821 | AG7: =(AC7/AC$146)*1000 -> 10.220207 | AH7: =(AD7/AD$146)*1000 -> 11.114386 | AI7: =(AE7/AE$146)*1000 -> 8.6287277 | AJ7: =(AF7-H$147) -> -0.80453922 | AK7: =(AG7-I$147) -> 2.4682693 | AL7: =(AH7-J$147) -> 3.6516998 | AM7: =(AI7-K$147) -> 1.3294576 | AN7: 23 | AO7: 23 | AP7: 21 | AQ7: =VLOOKUP(A7,'Hard Stats 2013-2014'!$A$2:$L$691,8,0) -> 20 | AR7: =(AN7/D7)*77 -> 21.597561 | AS7: =(AO7/E7)*77 -> 21.597561 | AT7: =(AP7/F7)*77 -> 33.6875 | AU7: =(AQ7/G7)*77 -> 18.780488 | AV7: =((AR7/AR$146)*1000) -> 10.48268 | AW7: =((AS7/AS$146)*1000) -> 10.758692 | AX7: =((AT7/AT$146)*1000) -> 14.306551 | AY7: =((AU7/AU$146)*1000) -> 7.6835592 | AZ7: =(AV7-H$147) -> 2.2859587 | BA7: =(AW7-I$147) -> 3.0067541 | BB7: =(AX7-J$147) -> 6.8438647 | BC7: =(AY7-K$147) -> 0.38428912 | BD7: 325 | BE7: 295 | BF7: 161 | BG7: =VLOOKUP(A7,'Hard Stats 2013-2014'!$A$2:$L$691,9,0) -> 305 | BH7: =(BD7/D7)*77 -> 305.18293 | BI7: =(BE7/E7)*77 -> 277.0122 | BJ7: =(BF7/F7)*77 -> 258.27083 | BK7: =(BG7/G7)*77 -> 286.40244 | BL7: =(BH7/BH$146)*1000 -> 13.022635 | BM7: =(BI7/BI$146)*1000 -> 11.50994 | BN7: =(BJ7/BJ$146)*1000 -> 10.318304 | BO7: =(BK7/BK$146)*1000 -> 10.748218 | BP7: =(BL7-H$147) -> 4.8259134 | BQ7: =(BM7-I$147) -> 3.7580021 | BR7: =(BN7-J$147) -> 2.8556171 | BS7: =(BO7-K$147) -> 3.4489482 | BT7: =(((BP7+AZ7)+AJ7)+T7) -> 10.962981 | BU7: =(((BQ7+BA7)+AK7)+U7) -> 15.392669 | BV7: =(((BR7+BB7)+AL7)+V7) -> 18.300562 | BW7: =(((BS7+BC7)+AM7)+W7) -> 10.132012 | BX7: =((BW7*0.6)+(BV7*0.3)+(BU7*0.1)) -> 13.108642 | BZ7: =RANK(CB7,CB$3:CB$17) -> 3 | CA7: =C7 -> Phil Kessel | CB7: =BW7 -> 10.132012 | CC7: =CC6+1 -> 5 | CD7: =VLOOKUP(CC7,BZ$3:CB$17,2,FALSE) -> Anze Kopitar | CE7: =VLOOKUP(CD7,CA$3:CC$17,2,FALSE) -> 4.5303356 | CG7: =RANK(CI7,CI$6:CI$178) -> #REF! | CH7: =#REF! -> #REF! | CI7: =#REF! -> #REF! | CJ7: =CJ173+1 -> 4 | CK7: =VLOOKUP(CJ7,CG$6:CI$178,2,FALSE) -> #N/A | CL7: =VLOOKUP(CK7,CH$6:CJ$178,2,FALSE) -> #N/A | CN7: =RANK(CP7,CP$3:CP$17) -> 2 | CO7: =C7 -> Phil Kessel | CP7: =BX7 -> 13.108642 | CQ7: 5 | CR7: =VLOOKUP(CQ7,CN$3:CP$17,2,FALSE) -> Joffrey Lupul | CS7: =VLOOKUP(CR7,CO$3:CQ$17,2,FALSE) -> 3.9551721
A8: =C8 -> Mikko Koivu | B8: =RIGHT(C8,LEN(C8)-FIND(" ",C8)) -> Koivu | C8: Mikko Koivu | D8: 71 | E8: 55 | F8: 48 | G8: =VLOOKUP(A8,'Hard Stats 2013-2014'!$A$2:$L$691,4,0) -> 65 | H8: 17 | I8: 12 | J8: 11 | K8: =VLOOKUP(A8,'Hard Stats 2013-2014'!$A$2:$L$691,5,0) -> 11 | L8: =(H8/D8)*77 -> 18.43662 | M8: =(I8/E8)*77 -> 16.8 | N8: =(J8/F8)*77 -> 17.645833 | O8: =(K8/G8)*77 -> 13.030769 | P8: =(L8/(L$146))*1000 -> 7.8856525 | Q8: =(M8/(M$146))*1000 -> 6.7267794 | R8: =(N8/(N$146))*1000 -> 6.8266367 | S8: =(O8/(O$146))*1000 -> 4.6013577 | T8: =(P8-H$147) -> -0.31106878 | U8: =(Q8-I$147) -> -1.0251586 | V8: =(R8-J$147) -> -0.63604984 | W8: =(S8-K$147) -> -2.6979124 | X8: 45 | Y8: 32 | Z8: 26 | AA8: =VLOOKUP(A8,'Hard Stats 2013-2014'!$A$2:$L$691,6,0) -> 43 | AB8: =(X8/D8)*77 -> 48.802817 | AC8: =(Y8/E8)*77 -> 44.8 | AD8: =(Z8/F8)*77 -> 41.708333 | AE8: =(AA8/G8)*77 -> 50.938462 | AF8: =(AB8/AB$146)*1000 -> 12.005789 | AG8: =(AC8/AC$146)*1000 -> 10.835484 | AH8: =(AD8/AD$146)*1000 -> 9.0304389 | AI8: =(AE8/AE$146)*1000 -> 10.885472 | AJ8: =(AF8-H$147) -> 3.8090674 | AK8: =(AG8-I$147) -> 3.0835465 | AL8: =(AH8-J$147) -> 1.5677523 | AM8: =(AI8-K$147) -> 3.5862018 | AN8: 22 | AO8: 15 | AP8: 13 | AQ8: =VLOOKUP(A8,'Hard Stats 2013-2014'!$A$2:$L$691,8,0) -> 18 | AR8: =(AN8/D8)*77 -> 23.859155 | AS8: =(AO8/E8)*77 -> 21 | AT8: =(AP8/F8)*77 -> 20.854167 | AU8: =(AQ8/G8)*77 -> 21.323077 | AV8: =((AR8/AR$146)*1000) -> 11.580376 | AW8: =((AS8/AS$146)*1000) -> 10.461021 | AX8: =((AT8/AT$146)*1000) -> 8.8564365 | AY8: =((AU8/AU$146)*1000) -> 8.7237949 | AZ8: =(AV8-H$147) -> 3.3836552 | BA8: =(AW8-I$147) -> 2.7090827 | BB8: =(AX8-J$147) -> 1.39375 | BC8: =(AY8-K$147) -> 1.4245248 | BD8: 191 | BE8: 129 | BF8: 127 | BG8: =VLOOKUP(A8,'Hard Stats 2013-2014'!$A$2:$L$691,9,0) -> 147 | BH8: =(BD8/D8)*77 -> 207.14085 | BI8: =(BE8/E8)*77 -> 180.6 | BJ8: =(BF8/F8)*77 -> 203.72917 | BK8: =(BG8/G8)*77 -> 174.13846 | BL8: =(BH8/BH$146)*1000 -> 8.8390251 | BM8: =(BI8/BI$146)*1000 -> 7.5039843 | BN8: =(BJ8/BJ$146)*1000 -> 8.139283 | BO8: =(BK8/BK$146)*1000 -> 6.5351336 | BP8: =(BL8-H$147) -> 0.6423038 | BQ8: =(BM8-I$147) -> -0.24795363 | BR8: =(BN8-J$147) -> 0.67659643 | BS8: =(BO8-K$147) -> -0.76413651 | BT8: =(((BP8+AZ8)+AJ8)+T8) -> 7.5239576 | BU8: =(((BQ8+BA8)+AK8)+U8) -> 4.519517 | BV8: =(((BR8+BB8)+AL8)+V8) -> 3.0020489 | BW8: =(((BS8+BC8)+AM8)+W8) -> 1.5486777 | BX8: =((BW8*0.6)+(BV8*0.3)+(BU8*0.1)) -> 2.281773 | BZ8: =RANK(CB8,CB$3:CB$17) -> 8 | CA8: =C8 -> Mikko Koivu | CB8: =BW8 -> 1.5486777 | CC8: =CC7+1 -> 6 | CD8: =VLOOKUP(CC8,BZ$3:CB$17,2,FALSE) -> Ryan O'Reilly | CE8: =VLOOKUP(CD8,CA$3:CC$17,2,FALSE) -> 3.6475627 | CG8: =RANK(CI8,CI$3:CI$161) -> #REF! | CH8: =#REF! -> #REF! | CI8: =#REF! -> #REF! | CJ8: =CJ125+1 -> 5 | CK8: =VLOOKUP(CJ8,CG$3:CI$161,2,FALSE) -> #N/A | CL8: =VLOOKUP(CK8,CH$3:CJ$161,2,FALSE) -> #N/A | CN8: =RANK(CP8,CP$3:CP$17) -> 9 | CO8: =C8 -> Mikko Koivu | CP8: =BX8 -> 2.281773 | CQ8: 6 | CR8: =VLOOKUP(CQ8,CN$3:CP$17,2,FALSE) -> Jordan Eberle | CS8: =VLOOKUP(CR8,CO$3:CQ$17,2,FALSE) -> 3.3938907
A9: =C9 -> Anze Kopitar | B9: =RIGHT(C9,LEN(C9)-FIND(" ",C9)) -> Kopitar | C9: Anze Kopitar | D9: 75 | E9: 82 | F9: 47 | G9: =VLOOKUP(A9,'Hard Stats 2013-2014'!$A$2:$L$691,4,0) -> 82 | H9: 25 | I9: 25 | J9: 10 | K9: =VLOOKUP(A9,'Hard Stats 2013-2014'!$A$2:$L$691,5,0) -> 29 | L9: =(H9/D9)*77 -> 25.666667 | M9: =(I9/E9)*77 -> 23.47561 | N9: =(J9/F9)*77 -> 16.382979 | O9: =(K9/G9)*77 -> 27.231707 | P9: =(L9/(L$146))*1000 -> 10.978065 | Q9: =(M9/(M$146))*1000 -> 9.3997172 | R9: =(N9/(N$146))*1000 -> 6.3380767 | S9: =(O9/(O$146))*1000 -> 9.6159193 | T9: =(P9-H$147) -> 2.781344 | U9: =(Q9-I$147) -> 1.6477792 | V9: =(R9-J$147) -> -1.1246099 | W9: =(S9-K$147) -> 2.3166493 | X9: 48 | Y9: 51 | Z9: 32 | AA9: =VLOOKUP(A9,'Hard Stats 2013-2014'!$A$2:$L$691,6,0) -> 41 | AB9: =(X9/D9)*77 -> 49.28 | AC9: =(Y9/E9)*77 -> 47.890244 | AD9: =(Z9/F9)*77 -> 52.425532 | AE9: =(AA9/G9)*77 -> 38.5 | AF9: =(AB9/AB$146)*1000 -> 12.123179 | AG9: =(AC9/AC$146)*1000 -> 11.582902 | AH9: =(AD9/AD$146)*1000 -> 11.350863 | AI9: =(AE9/AE$146)*1000 -> 8.2273915 | AJ9: =(AF9-H$147) -> 3.9264573 | AK9: =(AG9-I$147) -> 3.8309636 | AL9: =(AH9-J$147) -> 3.8881761 | AM9: =(AI9-K$147) -> 0.92812145 | AN9: 18 | AO9: 26 | AP9: 16 | AQ9: =VLOOKUP(A9,'Hard Stats 2013-2014'!$A$2:$L$691,8,0) -> 23 | AR9: =(AN9/D9)*77 -> 18.48 | AS9: =(AO9/E9)*77 -> 24.414634 | AT9: =(AP9/F9)*77 -> 26.212766 | AU9: =(AQ9/G9)*77 -> 21.597561 | AV9: =((AR9/AR$146)*1000) -> 8.969528 | AW9: =((AS9/AS$146)*1000) -> 12.162 | AX9: =((AT9/AT$146)*1000) -> 11.132149 | AY9: =((AU9/AU$146)*1000) -> 8.8360931 | AZ9: =(AV9-H$147) -> 0.77280666 | BA9: =(AW9-I$147) -> 4.4100617 | BB9: =(AX9-J$147) -> 3.6694628 | BC9: =(AY9-K$147) -> 1.536823 | BD9: 233 | BE9: 230 | BF9: 98 | BG9: =VLOOKUP(A9,'Hard Stats 2013-2014'!$A$2:$L$691,9,0) -> 200 | BH9: =(BD9/D9)*77 -> 239.21333 | BI9: =(BE9/E9)*77 -> 215.97561 | BJ9: =(BF9/F9)*77 -> 160.55319 | BK9: =(BG9/G9)*77 -> 187.80488 | BL9: =(BH9/BH$146)*1000 -> 10.207609 | BM9: =(BI9/BI$146)*1000 -> 8.9738516 | BN9: =(BJ9/BJ$146)*1000 -> 6.4143386 | BO9: =(BK9/BK$146)*1000 -> 7.048012 | BP9: =(BL9-H$147) -> 2.0108872 | BQ9: =(BM9-I$147) -> 1.2219136 | BR9: =(BN9-J$147) -> -1.0483479 | BS9: =(BO9-K$147) -> -0.2512581 | BT9: =(((BP9+AZ9)+AJ9)+T9) -> 9.4914952 | BU9: =(((BQ9+BA9)+AK9)+U9) -> 11.110718 | BV9: =(((BR9+BB9)+AL9)+V9) -> 5.384681 | BW9: =(((BS9+BC9)+AM9)+W9) -> 4.5303356 | BX9: =((BW9*0.6)+(BV9*0.3)+(BU9*0.1)) -> 5.4446775 | BZ9: =RANK(CB9,CB$3:CB$17) -> 5 | CA9: =C9 -> Anze Kopitar | CB9: =BW9 -> 4.5303356 | CC9: =CC8+1 -> 7 | CD9: =VLOOKUP(CC9,BZ$3:CB$17,2,FALSE) -> Jordan Eberle | CE9: =VLOOKUP(CD9,CA$3:CC$17,2,FALSE) -> 3.0295616 | CG9: =RANK(CI9,CI$3:CI$161) -> #REF! | CH9: =#REF! -> #REF! | CI9: =#REF! -> #REF! | CJ9: =CJ8+1 -> 6 | CK9: =VLOOKUP(CJ9,CG$3:CI$161,2,FALSE) -> #N/A | CL9: =VLOOKUP(CK9,CH$3:CJ$161,2,FALSE) -> #N/A | CN9: =RANK(CP9,CP$3:CP$17) -> 4 | CO9: =C9 -> Anze Kopitar | CP9: =BX9 -> 5.4446775 | CQ9: 7 | CR9: =VLOOKUP(CQ9,CN$3:CP$17,2,FALSE) -> Daniel Sedin | CS9: =VLOOKUP(CR9,CO$3:CQ$17,2,FALSE) -> 3.2416994
A10: =C10 -> Bryan Little | B10: =RIGHT(C10,LEN(C10)-FIND(" ",C10)) -> Little | C10: Bryan Little | D10: 76 | E10: 74 | F10: 48 | G10: =VLOOKUP(A10,'Hard Stats 2013-2014'!$A$2:$L$691,4,0) -> 82 | H10: 18 | I10: 24 | J10: 7 | K10: =VLOOKUP(A10,'Hard Stats 2013-2014'!$A$2:$L$691,5,0) -> 23 | L10: =(H10/D10)*77 -> 18.236842 | M10: =(I10/E10)*77 -> 24.972973 | N10: =(J10/F10)*77 -> 11.229167 | O10: =(K10/G10)*77 -> 21.597561 | P10: =(L10/(L$146))*1000 -> 7.8002043 | Q10: =(M10/(M$146))*1000 -> 9.9992667 | R10: =(N10/(N$146))*1000 -> 4.3442234 | S10: =(O10/(O$146))*1000 -> 7.6264188 | T10: =(P10-H$147) -> -0.39651703 | U10: =(Q10-I$147) -> 2.2473287 | V10: =(R10-J$147) -> -3.1184632 | W10: =(S10-K$147) -> 0.3271487 | X10: 30 | Y10: 22 | Z10: 25 | AA10: =VLOOKUP(A10,'Hard Stats 2013-2014'!$A$2:$L$691,6,0) -> 41 | AB10: =(X10/D10)*77 -> 30.394737 | AC10: =(Y10/E10)*77 -> 22.891892 | AD10: =(Z10/F10)*77 -> 40.104167 | AE10: =(AA10/G10)*77 -> 38.5 | AF10: =(AB10/AB$146)*1000 -> 7.4772894 | AG10: =(AC10/AC$146)*1000 -> 5.5367129 | AH10: =(AD10/AD$146)*1000 -> 8.6831143 | AI10: =(AE10/AE$146)*1000 -> 8.2273915 | AJ10: =(AF10-H$147) -> -0.71943186 | AK10: =(AG10-I$147) -> -2.2152251 | AL10: =(AH10-J$147) -> 1.2204278 | AM10: =(AI10-K$147) -> 0.92812145 | AN10: 10 | AO10: 13 | AP10: 5 | AQ10: =VLOOKUP(A10,'Hard Stats 2013-2014'!$A$2:$L$691,8,0) -> 15 | AR10: =(AN10/D10)*77 -> 10.131579 | AS10: =(AO10/E10)*77 -> 13.527027 | AT10: =(AP10/F10)*77 -> 8.0208333 | AU10: =(AQ10/G10)*77 -> 14.085366 | AV10: =((AR10/AR$146)*1000) -> 4.9175044 | AW10: =((AS10/AS$146)*1000) -> 6.7384052 | AX10: =((AT10/AT$146)*1000) -> 3.4063217 | AY10: =((AU10/AU$146)*1000) -> 5.7626694 | AZ10: =(AV10-H$147) -> -3.2792169 | BA10: =(AW10-I$147) -> -1.0135327 | BB10: =(AX10-J$147) -> -4.0563648 | BC10: =(AY10-K$147) -> -1.5366007 | BD10: 158 | BE10: 162 | BF10: 84 | BG10: =VLOOKUP(A10,'Hard Stats 2013-2014'!$A$2:$L$691,9,0) -> 170 | BH10: =(BD10/D10)*77 -> 160.07895 | BI10: =(BE10/E10)*77 -> 168.56757 | BJ10: =(BF10/F10)*77 -> 134.75 | BK10: =(BG10/G10)*77 -> 159.63415 | BL10: =(BH10/BH$146)*1000 -> 6.83082 | BM10: =(BI10/BI$146)*1000 -> 7.0040332 | BN10: =(BJ10/BJ$146)*1000 -> 5.3834628 | BO10: =(BK10/BK$146)*1000 -> 5.9908102 | BP10: =(BL10-H$147) -> -1.3659013 | BQ10: =(BM10-I$147) -> -0.74790482 | BR10: =(BN10-J$147) -> -2.0792238 | BS10: =(BO10-K$147) -> -1.3084599 | BT10: =(((BP10+AZ10)+AJ10)+T10) -> -5.7610671 | BU10: =(((BQ10+BA10)+AK10)+U10) -> -1.7293339 | BV10: =(((BR10+BB10)+AL10)+V10) -> -8.0336241 | BW10: =(((BS10+BC10)+AM10)+W10) -> -1.5897904 | BX10: =((BW10*0.6)+(BV10*0.3)+(BU10*0.1)) -> -3.5368949 | BZ10: =RANK(CB10,CB$3:CB$17) -> 11 | CA10: =C10 -> Bryan Little | CB10: =BW10 -> -1.5897904 | CC10: =CC9+1 -> 8 | CD10: =VLOOKUP(CC10,BZ$3:CB$17,2,FALSE) -> Mikko Koivu | CE10: =VLOOKUP(CD10,CA$3:CC$17,2,FALSE) -> 1.5486777 | CG10: =RANK(CI10,CI$100:CI$136) -> #REF! | CH10: =#REF! -> #REF! | CI10: =#REF! -> #REF! | CJ10: =CJ104+1 -> #REF! | CK10: =VLOOKUP(CJ10,CG$100:CI$136,2,FALSE) -> #REF! | CL10: =VLOOKUP(CK10,CH$100:CJ$136,2,FALSE) -> #REF! | CN10: =RANK(CP10,CP$3:CP$17) -> 12 | CO10: =C10 -> Bryan Little | CP10: =BX10 -> -3.5368949 | CQ10: 8 | CR10: =VLOOKUP(CQ10,CN$3:CP$17,2,FALSE) -> Patrik Elias | CS10: =VLOOKUP(CR10,CO$3:CQ$17,2,FALSE) -> 2.5324847
A11: =C11 -> Joffrey Lupul | B11: =RIGHT(C11,LEN(C11)-FIND(" ",C11)) -> Lupul | C11: Joffrey Lupul | D11: 28 | E11: 66 | F11: 16 | G11: =VLOOKUP(A11,'Hard Stats 2013-2014'!$A$2:$L$691,4,0) -> 69 | H11: 9 | I11: 25 | J11: 11 | K11: =VLOOKUP(A11,'Hard Stats 2013-2014'!$A$2:$L$691,5,0) -> 22 | L11: =(H11/D11)*77 -> 24.75 | M11: =(I11/E11)*77 -> 29.166667 | N11: =(J11/F11)*77 -> 52.9375 | O11: =(K11/G11)*77 -> 24.550725 | P11: =(L11/(L$146))*1000 -> 10.585992 | Q11: =(M11/(M$146))*1000 -> 11.678436 | R11: =(N11/(N$146))*1000 -> 20.47991 | S11: =(O11/(O$146))*1000 -> 8.6692246 | T11: =(P11-H$147) -> 2.3892702 | U11: =(Q11-I$147) -> 3.9264985 | V11: =(R11-J$147) -> 13.017224 | W11: =(S11-K$147) -> 1.3699545 | X11: 9 | Y11: 42 | Z11: 7 | AA11: =VLOOKUP(A11,'Hard Stats 2013-2014'!$A$2:$L$691,6,0) -> 22 | AB11: =(X11/D11)*77 -> 24.75 | AC11: =(Y11/E11)*77 -> 49 | AD11: =(Z11/F11)*77 -> 33.6875 | AE11: =(AA11/G11)*77 -> 24.550725 | AF11: =(AB11/AB$146)*1000 -> 6.08865 | AG11: =(AC11/AC$146)*1000 -> 11.851311 | AH11: =(AD11/AD$146)*1000 -> 7.293816 | AI11: =(AE11/AE$146)*1000 -> 5.2464526 | AJ11: =(AF11-H$147) -> -2.1080713 | AK11: =(AG11-I$147) -> 4.0993731 | AL11: =(AH11-J$147) -> -0.16887053 | AM11: =(AI11-K$147) -> -2.0528175 | AN11: 7 | AO11: 21 | AP11: 3 | AQ11: =VLOOKUP(A11,'Hard Stats 2013-2014'!$A$2:$L$691,8,0) -> 12 | AR11: =(AN11/D11)*77 -> 19.25 | AS11: =(AO11/E11)*77 -> 24.5 | AT11: =(AP11/F11)*77 -> 14.4375 | AU11: =(AQ11/G11)*77 -> 13.391304 | AV11: =((AR11/AR$146)*1000) -> 9.3432583 | AW11: =((AS11/AS$146)*1000) -> 12.204524 | AX11: =((AT11/AT$146)*1000) -> 6.1313791 | AY11: =((AU11/AU$146)*1000) -> 5.4787118 | AZ11: =(AV11-H$147) -> 1.146537 | BA11: =(AW11-I$147) -> 4.4525862 | BB11: =(AX11-J$147) -> -1.3313074 | BC11: =(AY11-K$147) -> -1.8205583 | BD11: 75 | BE11: 191 | BF11: 42 | BG11: =VLOOKUP(A11,'Hard Stats 2013-2014'!$A$2:$L$691,9,0) -> 191 | BH11: =(BD11/D11)*77 -> 206.25 | BI11: =(BE11/E11)*77 -> 222.83333 | BJ11: =(BF11/F11)*77 -> 202.125 | BK11: =(BG11/G11)*77 -> 213.14493 | BL11: =(BH11/BH$146)*1000 -> 8.8010114 | BM11: =(BI11/BI$146)*1000 -> 9.2587921 | BN11: =(BJ11/BJ$146)*1000 -> 8.0751942 | BO11: =(BK11/BK$146)*1000 -> 7.9989829 | BP11: =(BL11-H$147) -> 0.60429004 | BQ11: =(BM11-I$147) -> 1.5068541 | BR11: =(BN11-J$147) -> 0.61250759 | BS11: =(BO11-K$147) -> 0.69971279 | BT11: =(((BP11+AZ11)+AJ11)+T11) -> 2.0320259 | BU11: =(((BQ11+BA11)+AK11)+U11) -> 13.985312 | BV11: =(((BR11+BB11)+AL11)+V11) -> 12.129553 | BW11: =(((BS11+BC11)+AM11)+W11) -> -1.8037085 | BX11: =((BW11*0.6)+(BV11*0.3)+(BU11*0.1)) -> 3.9551721 | BZ11: =RANK(CB11,CB$3:CB$17) -> 12 | CA11: =C11 -> Joffrey Lupul | CB11: =BW11 -> -1.8037085 | CC11: =CC10+1 -> 9 | CD11: =VLOOKUP(CC11,BZ$3:CB$17,2,FALSE) -> Patrik Elias | CE11: =VLOOKUP(CD11,CA$3:CC$17,2,FALSE) -> 0.58879767 | CH11: =#REF! -> #REF! | CN11: =RANK(CP11,CP$3:CP$17) -> 5 | CO11: =C11 -> Joffrey Lupul | CP11: =BX11 -> 3.9551721 | CQ11: 9 | CR11: =VLOOKUP(CQ11,CN$3:CP$17,2,FALSE) -> Mikko Koivu | CS11: =VLOOKUP(CR11,CO$3:CQ$17,2,FALSE) -> 2.281773
A12: =C12 -> James Neal | B12: =RIGHT(C12,LEN(C12)-FIND(" ",C12)) -> Neal | C12: James Neal | D12: 20 | E12: 80 | F12: 40 | G12: =VLOOKUP(A12,'Hard Stats 2013-2014'!$A$2:$L$691,4,0) -> 59 | H12: 1 | I12: 40 | J12: 21 | K12: =VLOOKUP(A12,'Hard Stats 2013-2014'!$A$2:$L$691,5,0) -> 27 | L12: =(H12/D12)*77 -> 3.85 | M12: =(I12/E12)*77 -> 38.5 | N12: =(J12/F12)*77 -> 40.425 | O12: =(K12/G12)*77 -> 35.237288 | P12: =(L12/(L$146))*1000 -> 1.6467098 | Q12: =(M12/(M$146))*1000 -> 15.415536 | R12: =(N12/(N$146))*1000 -> 15.639204 | S12: =(O12/(O$146))*1000 -> 12.442809 | T12: =(P12-H$147) -> -6.5500115 | U12: =(Q12-I$147) -> 7.6635982 | V12: =(R12-J$147) -> 8.1765176 | W12: =(S12-K$147) -> 5.1435385 | X12: 5 | Y12: 41 | Z12: 15 | AA12: =VLOOKUP(A12,'Hard Stats 2013-2014'!$A$2:$L$691,6,0) -> 34 | AB12: =(X12/D12)*77 -> 19.25 | AC12: =(Y12/E12)*77 -> 39.4625 | AD12: =(Z12/F12)*77 -> 28.875 | AE12: =(AA12/G12)*77 -> 44.372881 | AF12: =(AB12/AB$146)*1000 -> 4.7356167 | AG12: =(AC12/AC$146)*1000 -> 9.5445381 | AH12: =(AD12/AD$146)*1000 -> 6.2518423 | AI12: =(AE12/AE$146)*1000 -> 9.4824174 | AJ12: =(AF12-H$147) -> -3.4611047 | AK12: =(AG12-I$147) -> 1.7926001 | AL12: =(AH12-J$147) -> -1.2108442 | AM12: =(AI12-K$147) -> 2.1831473 | AN12: 2 | AO12: 30 | AP12: 16 | AQ12: =VLOOKUP(A12,'Hard Stats 2013-2014'!$A$2:$L$691,8,0) -> 26 | AR12: =(AN12/D12)*77 -> 7.7 | AS12: =(AO12/E12)*77 -> 28.875 | AT12: =(AP12/F12)*77 -> 30.8 | AU12: =(AQ12/G12)*77 -> 33.932203 | AV12: =((AR12/AR$146)*1000) -> 3.7373033 | AW12: =((AS12/AS$146)*1000) -> 14.383904 | AX12: =((AT12/AT$146)*1000) -> 13.080275 | AY12: =((AU12/AU$146)*1000) -> 13.882498 | AZ12: =(AV12-H$147) -> -4.459418 | BA12: =(AW12-I$147) -> 6.6319655 | BB12: =(AX12-J$147) -> 5.6175889 | BC12: =(AY12-K$147) -> 6.5832284 | BD12: 52 | BE12: 329 | BF12: 136 | BG12: =VLOOKUP(A12,'Hard Stats 2013-2014'!$A$2:$L$691,9,0) -> 238 | BH12: =(BD12/D12)*77 -> 200.2 | BI12: =(BE12/E12)*77 -> 316.6625 | BJ12: =(BF12/F12)*77 -> 261.8 | BK12: =(BG12/G12)*77 -> 310.61017 | BL12: =(BH12/BH$146)*1000 -> 8.5428484 | BM12: =(BI12/BI$146)*1000 -> 13.157422 | BN12: =(BJ12/BJ$146)*1000 -> 10.459299 | BO12: =(BK12/BK$146)*1000 -> 11.656695 | BP12: =(BL12-H$147) -> 0.34612704 | BQ12: =(BM12-I$147) -> 5.4054842 | BR12: =(BN12-J$147) -> 2.9966125 | BS12: =(BO12-K$147) -> 4.357425 | BT12: =(((BP12+AZ12)+AJ12)+T12) -> -14.124407 | BU12: =(((BQ12+BA12)+AK12)+U12) -> 21.493648 | BV12: =(((BR12+BB12)+AL12)+V12) -> 15.579875 | BW12: =(((BS12+BC12)+AM12)+W12) -> 18.267339 | BX12: =((BW12*0.6)+(BV12*0.3)+(BU12*0.1)) -> 17.783731 | BZ12: =RANK(CB12,CB$3:CB$17) -> 1 | CA12: =C12 -> James Neal | CB12: =BW12 -> 18.267339 | CC12: =CC11+1 -> 10 | CD12: =VLOOKUP(CC12,BZ$3:CB$17,2,FALSE) -> Daniel Sedin | CE12: =VLOOKUP(CD12,CA$3:CC$17,2,FALSE) -> 0.38472541 | CH12: =#REF! -> #REF! | CN12: =RANK(CP12,CP$3:CP$17) -> 1 | CO12: =C12 -> James Neal | CP12: =BX12 -> 17.783731 | CQ12: 10 | CR12: =VLOOKUP(CQ12,CN$3:CP$17,2,FALSE) -> Ryan O'Reilly | CS12: =VLOOKUP(CR12,CO$3:CQ$17,2,FALSE) -> 1.5187313
A13: =C13 -> Kyle Okposo | B13: =RIGHT(C13,LEN(C13)-FIND(" ",C13)) -> Okposo | C13: Kyle Okposo | D13: 38 | E13: 79 | F13: 48 | G13: =VLOOKUP(A13,'Hard Stats 2013-2014'!$A$2:$L$691,4,0) -> 71 | H13: 5 | I13: 24 | J13: 4 | K13: =VLOOKUP(A13,'Hard Stats 2013-2014'!$A$2:$L$691,5,0) -> 27 | L13: =(H13/D13)*77 -> 10.131579 | M13: =(I13/E13)*77 -> 23.392405 | N13: =(J13/F13)*77 -> 6.4166667 | O13: =(K13/G13)*77 -> 29.28169 | P13: =(L13/(L$146))*1000 -> 4.3334468 | Q13: =(M13/(M$146))*1000 -> 9.3664017 | R13: =(N13/(N$146))*1000 -> 2.4824134 | S13: =(O13/(O$146))*1000 -> 10.339799 | T13: =(P13-H$147) -> -3.8632745 | U13: =(Q13-I$147) -> 1.6144637 | V13: =(R13-J$147) -> -4.9802732 | W13: =(S13-K$147) -> 3.0405286 | X13: 15 | Y13: 21 | Z13: 20 | AA13: =VLOOKUP(A13,'Hard Stats 2013-2014'!$A$2:$L$691,6,0) -> 42 | AB13: =(X13/D13)*77 -> 30.394737 | AC13: =(Y13/E13)*77 -> 20.468354 | AD13: =(Z13/F13)*77 -> 32.083333 | AE13: =(AA13/G13)*77 -> 45.549296 | AF13: =(AB13/AB$146)*1000 -> 7.4772894 | AG13: =(AC13/AC$146)*1000 -> 4.9505477 | AH13: =(AD13/AD$146)*1000 -> 6.9464915 | AI13: =(AE13/AE$146)*1000 -> 9.7338153 | AJ13: =(AF13-H$147) -> -0.71943186 | AK13: =(AG13-I$147) -> -2.8013903 | AL13: =(AH13-J$147) -> -0.5161951 | AM13: =(AI13-K$147) -> 2.4345453 | AN13: 5 | AO13: 6 | AP13: 3 | AQ13: =VLOOKUP(A13,'Hard Stats 2013-2014'!$A$2:$L$691,8,0) -> 15 | AR13: =(AN13/D13)*77 -> 10.131579 | AS13: =(AO13/E13)*77 -> 5.8481013 | AT13: =(AP13/F13)*77 -> 4.8125 | AU13: =(AQ13/G13)*77 -> 16.267606 | AV13: =((AR13/AR$146)*1000) -> 4.9175044 | AW13: =((AS13/AS$146)*1000) -> 2.9131956 | AX13: =((AT13/AT$146)*1000) -> 2.043793 | AY13: =((AU13/AU$146)*1000) -> 6.6554773 | AZ13: =(AV13-H$147) -> -3.2792169 | BA13: =(AW13-I$147) -> -4.8387423 | BB13: =(AX13-J$147) -> -5.4188935 | BC13: =(AY13-K$147) -> -0.64379275 | BD13: 72 | BE13: 152 | BF13: 101 | BG13: =VLOOKUP(A13,'Hard Stats 2013-2014'!$A$2:$L$691,9,0) -> 195 | BH13: =(BD13/D13)*77 -> 145.89474 | BI13: =(BE13/E13)*77 -> 148.1519 | BJ13: =(BF13/F13)*77 -> 162.02083 | BK13: =(BG13/G13)*77 -> 211.47887 | BL13: =(BH13/BH$146)*1000 -> 6.2255575 | BM13: =(BI13/BI$146)*1000 -> 6.155756 | BN13: =(BJ13/BJ$146)*1000 -> 6.4729731 | BO13: =(BK13/BK$146)*1000 -> 7.9364586 | BP13: =(BL13-H$147) -> -1.9711638 | BQ13: =(BM13-I$147) -> -1.596182 | BR13: =(BN13-J$147) -> -0.98971347 | BS13: =(BO13-K$147) -> 0.63718848 | BT13: =(((BP13+AZ13)+AJ13)+T13) -> -9.8330871 | BU13: =(((BQ13+BA13)+AK13)+U13) -> -7.6218509 | BV13: =(((BR13+BB13)+AL13)+V13) -> -11.905075 | BW13: =(((BS13+BC13)+AM13)+W13) -> 5.4684696 | BX13: =((BW13*0.6)+(BV13*0.3)+(BU13*0.1)) -> -1.052626 | BZ13: =RANK(CB13,CB$3:CB$17) -> 4 | CA13: =C13 -> Kyle Okposo | CB13: =BW13 -> 5.4684696 | CC13: =CC12+1 -> 11 | CD13: =VLOOKUP(CC13,BZ$3:CB$17,2,FALSE) -> Bryan Little | CE13: =VLOOKUP(CD13,CA$3:CC$17,2,FALSE) -> -1.5897904 | CG13: =RANK(CI13,CI$3:CI$161) -> #REF! | CH13: =#REF! -> #REF! | CI13: =#REF! -> #REF! | CJ13: =CJ163+1 -> 3 | CK13: =VLOOKUP(CJ13,CG$3:CI$161,2,FALSE) -> #N/A | CL13: =VLOOKUP(CK13,CH$3:CJ$161,2,FALSE) -> #N/A | CN13: =RANK(CP13,CP$3:CP$17) -> 11 | CO13: =C13 -> Kyle Okposo | CP13: =BX13 -> -1.052626 | CQ13: 11 | CR13: =VLOOKUP(CQ13,CN$3:CP$17,2,FALSE) -> Kyle Okposo | CS13: =VLOOKUP(CR13,CO$3:CQ$17,2,FALSE) -> -1.052626
A14: =C14 -> Ryan O'Reilly | B14: =RIGHT(C14,LEN(C14)-FIND(" ",C14)) -> O'Reilly | C14: Ryan O'Reilly | D14: 74 | E14: 81 | F14: 29 | G14: =VLOOKUP(A14,'Hard Stats 2013-2014'!$A$2:$L$691,4,0) -> 80 | H14: 13 | I14: 18 | J14: 6 | K14: =VLOOKUP(A14,'Hard Stats 2013-2014'!$A$2:$L$691,5,0) -> 28 | L14: =(H14/D14)*77 -> 13.527027 | M14: =(I14/E14)*77 -> 17.111111 | N14: =(J14/F14)*77 -> 15.931034 | O14: =(K14/G14)*77 -> 26.95 | P14: =(L14/(L$146))*1000 -> 5.7857371 | Q14: =(M14/(M$146))*1000 -> 6.8513494 | R14: =(N14/(N$146))*1000 -> 6.1632332 | S14: =(O14/(O$146))*1000 -> 9.5164443 | T14: =(P14-H$147) -> -2.4109842 | U14: =(Q14-I$147) -> -0.90058859 | V14: =(R14-J$147) -> -1.2994534 | W14: =(S14-K$147) -> 2.2171742 | X14: 13 | Y14: 37 | Z14: 14 | AA14: =VLOOKUP(A14,'Hard Stats 2013-2014'!$A$2:$L$691,6,0) -> 36 | AB14: =(X14/D14)*77 -> 13.527027 | AC14: =(Y14/E14)*77 -> 35.17284 | AD14: =(Z14/F14)*77 -> 37.172414 | AE14: =(AA14/G14)*77 -> 34.65 | AF14: =(AB14/AB$146)*1000 -> 3.3277306 | AG14: =(AC14/AC$146)*1000 -> 8.5070258 | AH14: =(AD14/AD$146)*1000 -> 8.0483487 | AI14: =(AE14/AE$146)*1000 -> 7.4046524 | AJ14: =(AF14-H$147) -> -4.8689907 | AK14: =(AG14-I$147) -> 0.75508781 | AL14: =(AH14-J$147) -> 0.58566217 | AM14: =(AI14-K$147) -> 0.1053823 | AN14: 4 | AO14: 15 | AP14: 6 | AQ14: =VLOOKUP(A14,'Hard Stats 2013-2014'!$A$2:$L$691,8,0) -> 22 | AR14: =(AN14/D14)*77 -> 4.1621622 | AS14: =(AO14/E14)*77 -> 14.259259 | AT14: =(AP14/F14)*77 -> 15.931034 | AU14: =(AQ14/G14)*77 -> 21.175 | AV14: =((AR14/AR$146)*1000) -> 2.020164 | AW14: =((AS14/AS$146)*1000) -> 7.1031622 | AX14: =((AT14/AT$146)*1000) -> 6.7656597 | AY14: =((AU14/AU$146)*1000) -> 8.663213 | AZ14: =(AV14-H$147) -> -6.1765574 | BA14: =(AW14-I$147) -> -0.64877576 | BB14: =(AX14-J$147) -> -0.69702684 | BC14: =(AY14-K$147) -> 1.3639429 | BD14: 119 | BE14: 189 | BF14: 66 | BG14: =VLOOKUP(A14,'Hard Stats 2013-2014'!$A$2:$L$691,9,0) -> 201 | BH14: =(BD14/D14)*77 -> 123.82432 | BI14: =(BE14/E14)*77 -> 179.66667 | BJ14: =(BF14/F14)*77 -> 175.24138 | BK14: =(BG14/G14)*77 -> 193.4625 | BL14: =(BH14/BH$146)*1000 -> 5.2837783 | BM14: =(BI14/BI$146)*1000 -> 7.4652041 | BN14: =(BJ14/BJ$146)*1000 -> 7.0011536 | BO14: =(BK14/BK$146)*1000 -> 7.2603333 | BP14: =(BL14-H$147) -> -2.912943 | BQ14: =(BM14-I$147) -> -0.28673392 | BR14: =(BN14-J$147) -> -0.46153301 | BS14: =(BO14-K$147) -> -0.038936739 | BT14: =(((BP14+AZ14)+AJ14)+T14) -> -16.369475 | BU14: =(((BQ14+BA14)+AK14)+U14) -> -1.0810105 | BV14: =(((BR14+BB14)+AL14)+V14) -> -1.8723511 | BW14: =(((BS14+BC14)+AM14)+W14) -> 3.6475627 | BX14: =((BW14*0.6)+(BV14*0.3)+(BU14*0.1)) -> 1.5187313 | BZ14: =RANK(CB14,CB$3:CB$17) -> 6 | CA14: =C14 -> Ryan O'Reilly | CB14: =BW14 -> 3.6475627 | CC14: =CC13+1 -> 12 | CD14: =VLOOKUP(CC14,BZ$3:CB$17,2,FALSE) -> Joffrey Lupul | CE14: =VLOOKUP(CD14,CA$3:CC$17,2,FALSE) -> -1.8037085 | CH14: =#REF! -> #REF! | CN14: =RANK(CP14,CP$3:CP$17) -> 10 | CO14: =C14 -> Ryan O'Reilly | CP14: =BX14 -> 1.5187313 | CQ14: 12 | CR14: =VLOOKUP(CQ14,CN$3:CP$17,2,FALSE) -> Bryan Little | CS14: =VLOOKUP(CR14,CO$3:CQ$17,2,FALSE) -> -3.5368949
A15: =C15 -> Ondrej Palat | B15: =RIGHT(C15,LEN(C15)-FIND(" ",C15)) -> Palat | C15: Ondrej Palat | D15: NA | E15: NA | F15: 14 | G15: =VLOOKUP(A15,'Hard Stats 2013-2014'!$A$2:$L$691,4,0) -> 81 | H15: NA | I15: NA | J15: 2 | K15: =VLOOKUP(A15,'Hard Stats 2013-2014'!$A$2:$L$691,5,0) -> 23 | L15: NA | M15: NA | N15: =(J15/F15)*77 -> 11 | O15: =(K15/G15)*77 -> 21.864198 | P15: NA | Q15: NA | R15: =(N15/(N$146))*1000 -> 4.2555658 | S15: =(O15/(O$146))*1000 -> 7.7205721 | T15: NA | U15: NA | V15: =(R15-J$147) -> -3.2071208 | W15: =(S15-K$147) -> 0.42130202 | X15: NA | Y15: NA | Z15: 2 | AA15: =VLOOKUP(A15,'Hard Stats 2013-2014'!$A$2:$L$691,6,0) -> 36 | AB15: NA | AC15: NA | AD15: =(Z15/F15)*77 -> 11 | AE15: =(AA15/G15)*77 -> 34.222222 | AF15: NA | AG15: NA | AH15: =(AD15/AD$146)*1000 -> 2.3816542 | AI15: =(AE15/AE$146)*1000 -> 7.3132369 | AJ15: NA | AK15: NA | AL15: =(AH15-J$147) -> -5.0810323 | AM15: =(AI15-K$147) -> 0.01396684 | AN15: NA | AO15: NA | AP15: 0 | AQ15: =VLOOKUP(A15,'Hard Stats 2013-2014'!$A$2:$L$691,8,0) -> 11 | AR15: NA | AS15: NA | AT15: =(AP15/F15)*77 -> 0 | AU15: =(AQ15/G15)*77 -> 10.45679 | AV15: NA | AW15: NA | AX15: =((AT15/AT$146)*1000) -> 0 | AY15: =((AU15/AU$146)*1000) -> 4.2781299 | AZ15: NA | BA15: NA | BB15: =(AX15-J$147) -> -7.4626866 | BC15: =(AY15-K$147) -> -3.0211402 | BD15: NA | BE15: NA | BF15: 16 | BG15: =VLOOKUP(A15,'Hard Stats 2013-2014'!$A$2:$L$691,9,0) -> 165 | BH15: NA | BI15: NA | BJ15: =(BF15/F15)*77 -> 88 | BK15: =(BG15/G15)*77 -> 156.85185 | BL15: NA | BM15: NA | BN15: =(BJ15/BJ$146)*1000 -> 3.5157308 | BO15: =(BK15/BK$146)*1000 -> 5.8863952 | BP15: NA | BQ15: NA | BR15: =(BN15-J$147) -> -3.9469558 | BS15: =(BO15-K$147) -> -1.4128749 | BT15: NA | BU15: NA | BV15: =(((BR15+BB15)+AL15)+V15) -> -19.697796 | BW15: =(((BS15+BC15)+AM15)+W15) -> -3.9987462 | BX15: =((BW15*0.65)+(BV15*0.35)) -> -9.4934135 | BZ15: =RANK(CB15,CB$3:CB$17) -> 14 | CA15: =C15 -> Ondrej Palat | CB15: =BW15 -> -3.9987462 | CC15: =CC14+1 -> 13 | CD15: =VLOOKUP(CC15,BZ$3:CB$17,2,FALSE) -> Tyler Bozak | CE15: =VLOOKUP(CD15,CA$3:CC$17,2,FALSE) -> -2.9497898 | CH15: =#REF! -> #REF! | CN15: =RANK(CP15,CP$3:CP$17) -> 15 | CO15: =C15 -> Ondrej Palat | CP15: =BX15 -> -9.4934135 | CQ15: 13 | CR15: =VLOOKUP(CQ15,CN$3:CP$17,2,FALSE) -> Tyler Bozak | CS15: =VLOOKUP(CR15,CO$3:CQ$17,2,FALSE) -> -4.0034161
A16: =C16 -> Daniel Sedin | B16: =RIGHT(C16,LEN(C16)-FIND(" ",C16)) -> Sedin | C16: Daniel Sedin | D16: 82 | E16: 72 | F16: 47 | G16: =VLOOKUP(A16,'Hard Stats 2013-2014'!$A$2:$L$691,4,0) -> 73 | H16: 41 | I16: 30 | J16: 12 | K16: =VLOOKUP(A16,'Hard Stats 2013-2014'!$A$2:$L$691,5,0) -> 16 | L16: =(H16/D16)*77 -> 38.5 | M16: =(I16/E16)*77 -> 32.083333 | N16: =(J16/F16)*77 -> 19.659574 | O16: =(K16/G16)*77 -> 16.876712 | P16: =(L16/(L$146))*1000 -> 16.467098 | Q16: =(M16/(M$146))*1000 -> 12.84628 | R16: =(N16/(N$146))*1000 -> 7.605692 | S16: =(O16/(O$146))*1000 -> 5.9594172 | T16: =(P16-H$147) -> 8.2703766 | U16: =(Q16-I$147) -> 5.0943421 | V16: =(R16-J$147) -> 0.14300541 | W16: =(S16-K$147) -> -1.3398529 | X16: 63 | Y16: 37 | Z16: 28 | AA16: =VLOOKUP(A16,'Hard Stats 2013-2014'!$A$2:$L$691,6,0) -> 31 | AB16: =(X16/D16)*77 -> 59.158537 | AC16: =(Y16/E16)*77 -> 39.569444 | AD16: =(Z16/F16)*77 -> 45.87234 | AE16: =(AA16/G16)*77 -> 32.69863 | AF16: =(AB16/AB$146)*1000 -> 14.553358 | AG16: =(AC16/AC$146)*1000 -> 9.570404 | AH16: =(AD16/AD$146)*1000 -> 9.9320048 | AI16: =(AE16/AE$146)*1000 -> 6.9876476 | AJ16: =(AF16-H$147) -> 6.3566372 | AK16: =(AG16-I$147) -> 1.818466 | AL16: =(AH16-J$147) -> 2.4693183 | AM16: =(AI16-K$147) -> -0.31162248 | AN16: 42 | AO16: 25 | AP16: 12 | AQ16: =VLOOKUP(A16,'Hard Stats 2013-2014'!$A$2:$L$691,8,0) -> 18 | AR16: =(AN16/D16)*77 -> 39.439024 | AS16: =(AO16/E16)*77 -> 26.736111 | AT16: =(AP16/F16)*77 -> 19.659574 | AU16: =(AQ16/G16)*77 -> 18.986301 | AV16: =((AR16/AR$146)*1000) -> 19.142285 | AW16: =((AS16/AS$146)*1000) -> 13.318429 | AX16: =((AT16/AT$146)*1000) -> 8.349112 | AY16: =((AU16/AU$146)*1000) -> 7.7677626 | AZ16: =(AV16-H$147) -> 10.945564 | BA16: =(AW16-I$147) -> 5.5664912 | BB16: =(AX16-J$147) -> 0.88642544 | BC16: =(AY16-K$147) -> 0.46849251 | BD16: 266 | BE16: 229 | BF16: 138 | BG16: =VLOOKUP(A16,'Hard Stats 2013-2014'!$A$2:$L$691,9,0) -> 224 | BH16: =(BD16/D16)*77 -> 249.78049 | BI16: =(BE16/E16)*77 -> 244.90278 | BJ16: =(BF16/F16)*77 -> 226.08511 | BK16: =(BG16/G16)*77 -> 236.27397 | BL16: =(BH16/BH$146)*1000 -> 10.658526 | BM16: =(BI16/BI$146)*1000 -> 10.175784 | BN16: =(BJ16/BJ$146)*1000 -> 9.032436 | BO16: =(BK16/BK$146)*1000 -> 8.8669784 | BP16: =(BL16-H$147) -> 2.4618043 | BQ16: =(BM16-I$147) -> 2.4238461 | BR16: =(BN16-J$147) -> 1.5697495 | BS16: =(BO16-K$147) -> 1.5677083 | BT16: =(((BP16+AZ16)+AJ16)+T16) -> 28.034382 | BU16: =(((BQ16+BA16)+AK16)+U16) -> 14.903145 | BV16: =(((BR16+BB16)+AL16)+V16) -> 5.0684986 | BW16: =(((BS16+BC16)+AM16)+W16) -> 0.38472541 | BX16: =((BW16*0.6)+(BV16*0.3)+(BU16*0.1)) -> 3.2416994 | BZ16: =RANK(CB16,CB$3:CB$17) -> 10 | CA16: =C16 -> Daniel Sedin | CB16: =BW16 -> 0.38472541 | CC16: =CC15+1 -> 14 | CD16: =VLOOKUP(CC16,BZ$3:CB$17,2,FALSE) -> Ondrej Palat | CE16: =VLOOKUP(CD16,CA$3:CC$17,2,FALSE) -> -3.9987462 | CH16: =#REF! -> #REF! | CN16: =RANK(CP16,CP$3:CP$17) -> 7 | CO16: =C16 -> Daniel Sedin | CP16: =BX16 -> 3.2416994 | CQ16: 14 | CR16: =VLOOKUP(CQ16,CN$3:CP$17,2,FALSE) -> Lee Stempniak | CS16: =VLOOKUP(CR16,CO$3:CQ$17,2,FALSE) -> -8.8925004
A17: =C17 -> Lee Stempniak | B17: =RIGHT(C17,LEN(C17)-FIND(" ",C17)) -> Stempniak | C17: Lee Stempniak | D17: 82 | E17: 61 | F17: 47 | G17: =VLOOKUP(A17,'Hard Stats 2013-2014'!$A$2:$L$691,4,0) -> 73 | H17: 19 | I17: 14 | J17: 9 | K17: =VLOOKUP(A17,'Hard Stats 2013-2014'!$A$2:$L$691,5,0) -> 12 | L17: =(H17/D17)*77 -> 17.841463 | M17: =(I17/E17)*77 -> 17.672131 | N17: =(J17/F17)*77 -> 14.744681 | O17: =(K17/G17)*77 -> 12.657534 | P17: =(L17/(L$146))*1000 -> 7.6310942 | Q17: =(M17/(M$146))*1000 -> 7.0759838 | R17: =(N17/(N$146))*1000 -> 5.704269 | S17: =(O17/(O$146))*1000 -> 4.4695629 | T17: =(P17-H$147) -> -0.56562715 | U17: =(Q17-I$147) -> -0.67595418 | V17: =(R17-J$147) -> -1.7584176 | W17: =(S17-K$147) -> -2.8297072 | X17: 19 | Y17: 14 | Z17: 23 | AA17: =VLOOKUP(A17,'Hard Stats 2013-2014'!$A$2:$L$691,6,0) -> 22 | AB17: =(X17/D17)*77 -> 17.841463 | AC17: =(Y17/E17)*77 -> 17.672131 | AD17: =(Z17/F17)*77 -> 37.680851 | AE17: =(AA17/G17)*77 -> 23.205479 | AF17: =(AB17/AB$146)*1000 -> 4.3891081 | AG17: =(AC17/AC$146)*1000 -> 4.2742434 | AH17: =(AD17/AD$146)*1000 -> 8.1584325 | AI17: =(AE17/AE$146)*1000 -> 4.9589757 | AJ17: =(AF17-H$147) -> -3.8076132 | AK17: =(AG17-I$147) -> -3.4776946 | AL17: =(AH17-J$147) -> 0.69574597 | AM17: =(AI17-K$147) -> -2.3402944 | AN17: 6 | AO17: 5 | AP17: 6 | AQ17: =VLOOKUP(A17,'Hard Stats 2013-2014'!$A$2:$L$691,8,0) -> 4 | AR17: =(AN17/D17)*77 -> 5.6341463 | AS17: =(AO17/E17)*77 -> 6.3114754 | AT17: =(AP17/F17)*77 -> 9.8297872 | AU17: =(AQ17/G17)*77 -> 4.2191781 | AV17: =((AR17/AR$146)*1000) -> 2.7346122 | AW17: =((AS17/AS$146)*1000) -> 3.1440226 | AX17: =((AT17/AT$146)*1000) -> 4.174556 | AY17: =((AU17/AU$146)*1000) -> 1.7261695 | AZ17: =(AV17-H$147) -> -5.4621091 | BA17: =(AW17-I$147) -> -4.6079154 | BB17: =(AX17-J$147) -> -3.2881306 | BC17: =(AY17-K$147) -> -5.5731006 | BD17: 199 | BE17: 130 | BF17: 113 | BG17: =VLOOKUP(A17,'Hard Stats 2013-2014'!$A$2:$L$691,9,0) -> 178 | BH17: =(BD17/D17)*77 -> 186.86585 | BI17: =(BE17/E17)*77 -> 164.09836 | BJ17: =(BF17/F17)*77 -> 185.12766 | BK17: =(BG17/G17)*77 -> 187.75342 | BL17: =(BH17/BH$146)*1000 -> 7.9738594 | BM17: =(BI17/BI$146)*1000 -> 6.8183363 | BN17: =(BJ17/BJ$146)*1000 -> 7.3961251 | BO17: =(BK17/BK$146)*1000 -> 7.046081 | BP17: =(BL17-H$147) -> -0.22286192 | BQ17: =(BM17-I$147) -> -0.93360172 | BR17: =(BN17-J$147) -> -0.066561421 | BS17: =(BO17-K$147) -> -0.25318906 | BT17: =(((BP17+AZ17)+AJ17)+T17) -> -10.058211 | BU17: =(((BQ17+BA17)+AK17)+U17) -> -9.6951659 | BV17: =(((BR17+BB17)+AL17)+V17) -> -4.4173636 | BW17: =(((BS17+BC17)+AM17)+W17) -> -10.996291 | BX17: =((BW17*0.6)+(BV17*0.3)+(BU17*0.1)) -> -8.8925004 | BZ17: =RANK(CB17,CB$3:CB$17) -> 15 | CA17: =C17 -> Lee Stempniak | CB17: =BW17 -> -10.996291 | CC17: =CC16+1 -> 15 | CD17: =VLOOKUP(CC17,BZ$3:CB$17,2,FALSE) -> Lee Stempniak | CE17: =VLOOKUP(CD17,CA$3:CC$17,2,FALSE) -> -10.996291 | CH17: =#REF! -> #REF! | CN17: =RANK(CP17,CP$3:CP$17) -> 14 | CO17: =C17 -> Lee Stempniak | CP17: =BX17 -> -8.8925004 | CQ17: 15 | CR17: =VLOOKUP(CQ17,CN$3:CP$17,2,FALSE) -> Ondrej Palat | CS17: =VLOOKUP(CR17,CO$3:CQ$17,2,FALSE) -> -9.4934135
A18: =C18 -> Jay Bouwmeester | B18: =RIGHT(C18,LEN(C18)-FIND(" ",C18)) -> Bouwmeester | C18: Jay Bouwmeester | D18: 82 | E18: 33 | F18: 14 | G18: =VLOOKUP(A18,'Hard Stats 2013-2014'!$A$2:$L$691,4,0) -> 82 | H18: 5 | I18: 6 | J18: 7 | K18: =VLOOKUP(A18,'Hard Stats 2013-2014'!$A$2:$L$691,5,0) -> 4 | L18: =(H18/D18)*77 -> 4.695122 | M18: =(I18/E18)*77 -> 14 | N18: =(J18/F18)*77 -> 38.5 | O18: =(K18/G18)*77 -> 3.7560976 | P18: =(L18/(L$146))*1000 -> 2.0081827 | Q18: =(M18/(M$146))*1000 -> 5.6056495 | R18: =(N18/(N$146))*1000 -> 14.89448 | S18: =(O18/(O$146))*1000 -> 1.3263337 | T18: =(P18-H$147) -> -6.1885386 | U18: =(Q18-I$147) -> -2.1462885 | V18: =(R18-J$147) -> 7.4317936 | W18: =(S18-K$147) -> -5.9729364 | X18: 24 | Y18: 9 | Z18: 15 | AA18: =VLOOKUP(A18,'Hard Stats 2013-2014'!$A$2:$L$691,6,0) -> 33 | AB18: =(X18/D18)*77 -> 22.536585 | AC18: =(Y18/E18)*77 -> 21 | AD18: =(Z18/F18)*77 -> 82.5 | AE18: =(AA18/G18)*77 -> 30.987805 | AF18: =(AB18/AB$146)*1000 -> 5.5441366 | AG18: =(AC18/AC$146)*1000 -> 5.0791333 | AH18: =(AD18/AD$146)*1000 -> 17.862407 | AI18: =(AE18/AE$146)*1000 -> 6.6220468 | AJ18: =(AF18-H$147) -> -2.6525847 | AK18: =(AG18-I$147) -> -2.6728046 | AL18: =(AH18-J$147) -> 10.39972 | AM18: =(AI18-K$147) -> -0.67722323 | AN18: 10 | AO18: 5 | AP18: 7 | AQ18: =VLOOKUP(A18,'Hard Stats 2013-2014'!$A$2:$L$691,8,0) -> 11 | AR18: =(AN18/D18)*77 -> 9.3902439 | AS18: =(AO18/E18)*77 -> 11.666667 | AT18: =(AP18/F18)*77 -> 38.5 | AU18: =(AQ18/G18)*77 -> 10.329268 | AV18: =((AR18/AR$146)*1000) -> 4.557687 | AW18: =((AS18/AS$146)*1000) -> 5.8116782 | AX18: =((AT18/AT$146)*1000) -> 16.350344 | AY18: =((AU18/AU$146)*1000) -> 4.2259576 | AZ18: =(AV18-H$147) -> -3.6390343 | BA18: =(AW18-I$147) -> -1.9402598 | BB18: =(AX18-J$147) -> 8.8876578 | BC18: =(AY18-K$147) -> -3.0733125 | BD18: 107 | BE18: 55 | BF18: 79 | BG18: =VLOOKUP(A18,'Hard Stats 2013-2014'!$A$2:$L$691,9,0) -> 152 | BH18: =(BD18/D18)*77 -> 100.47561 | BI18: =(BE18/E18)*77 -> 128.33333 | BJ18: =(BF18/F18)*77 -> 434.5 | BK18: =(BG18/G18)*77 -> 142.73171 | BL18: =(BH18/BH$146)*1000 -> 4.287452 | BM18: =(BI18/BI$146)*1000 -> 5.3322886 | BN18: =(BJ18/BJ$146)*1000 -> 17.358921 | BO18: =(BK18/BK$146)*1000 -> 5.3564891 | BP18: =(BL18-H$147) -> -3.9092693 | BQ18: =(BM18-I$147) -> -2.4196494 | BR18: =(BN18-J$147) -> 9.8962342 | BS18: =(BO18-K$147) -> -1.942781 | BT18: =(((BP18+AZ18)+AJ18)+T18) -> -16.389427 | BU18: =(((BQ18+BA18)+AK18)+U18) -> -9.1790023 | BV18: =(((BR18+BB18)+AL18)+V18) -> 36.615406 | BW18: =(((BS18+BC18)+AM18)+W18) -> -11.666253 | BX18: =((BW18*0.6)+(BV18*0.3)+(BU18*0.1)) -> 3.0669696 | BZ18: =RANK(CB18,CB$18:CB$25) -> 6 | CA18: =C18 -> Jay Bouwmeester | CB18: =BW18 -> -11.666253 | CC18: 1 | CD18: =VLOOKUP(CC18,BZ$18:CB$25,2,FALSE) -> Mark Giordano | CE18: =VLOOKUP(CD18,CA$18:CC$25,2,FALSE) -> 3.2069939 | CG18: =RANK(CI18,CI$18:CI$120) -> #REF! | CH18: =#REF! -> #REF! | CI18: =#REF! -> #REF! | CJ18: 1 | CK18: =VLOOKUP(CJ18,CG$18:CI$120,2,FALSE) -> #N/A | CL18: =VLOOKUP(CK18,CH$18:CJ$120,2,FALSE) -> #N/A | CN18: =RANK(CP18,CP$18:CP$25) -> 1 | CO18: =C18 -> Jay Bouwmeester | CP18: =BX18 -> 3.0669696 | CQ18: 1 | CR18: =VLOOKUP(CQ18,CN$18:CP$25,2,FALSE) -> Jay Bouwmeester | CS18: =VLOOKUP(CR18,CO$18:CQ$25,2,FALSE) -> 3.0669696
A19: =C19 -> Brian Campbell | B19: =RIGHT(C19,LEN(C19)-FIND(" ",C19)) -> Campbell | C19: Brian Campbell | D19: 65 | E19: 82 | F19: 48 | G19: =VLOOKUP(A19,'Hard Stats 2013-2014'!$A$2:$L$691,4,0) -> 82 | H19: 5 | I19: 4 | J19: 8 | K19: =VLOOKUP(A19,'Hard Stats 2013-2014'!$A$2:$L$691,5,0) -> 7 | L19: =(H19/D19)*77 -> 5.9230769 | M19: =(I19/E19)*77 -> 3.7560976 | N19: =(J19/F19)*77 -> 12.833333 | O19: =(K19/G19)*77 -> 6.5731707 | P19: =(L19/(L$146))*1000 -> 2.5333997 | Q19: =(M19/(M$146))*1000 -> 1.5039547 | R19: =(N19/(N$146))*1000 -> 4.9648267 | S19: =(O19/(O$146))*1000 -> 2.321084 | T19: =(P19-H$147) -> -5.6633216 | U19: =(Q19-I$147) -> -6.2479832 | V19: =(R19-J$147) -> -2.4978599 | W19: =(S19-K$147) -> -4.9781861 | X19: 22 | Y19: 49 | Z19: 19 | AA19: =VLOOKUP(A19,'Hard Stats 2013-2014'!$A$2:$L$691,6,0) -> 30 | AB19: =(X19/D19)*77 -> 26.061538 | AC19: =(Y19/E19)*77 -> 46.012195 | AD19: =(Z19/F19)*77 -> 30.479167 | AE19: =(AA19/G19)*77 -> 28.170732 | AF19: =(AB19/AB$146)*1000 -> 6.4112964 | AG19: =(AC19/AC$146)*1000 -> 11.12867 | AH19: =(AD19/AD$146)*1000 -> 6.5991669 | AI19: =(AE19/AE$146)*1000 -> 6.0200426 | AJ19: =(AF19-H$147) -> -1.7854249 | AK19: =(AG19-I$147) -> 3.3767322 | AL19: =(AH19-J$147) -> -0.86351967 | AM19: =(AI19-K$147) -> -1.2792275 | AN19: 6 | AO19: 31 | AP19: 17 | AQ19: =VLOOKUP(A19,'Hard Stats 2013-2014'!$A$2:$L$691,8,0) -> 12 | AR19: =(AN19/D19)*77 -> 7.1076923 | AS19: =(AO19/E19)*77 -> 29.109756 | AT19: =(AP19/F19)*77 -> 27.270833 | AU19: =(AQ19/G19)*77 -> 11.268293 | AV19: =((AR19/AR$146)*1000) -> 3.4498185 | AW19: =((AS19/AS$146)*1000) -> 14.500846 | AX19: =((AT19/AT$146)*1000) -> 11.581494 | AY19: =((AU19/AU$146)*1000) -> 4.6101355 | AZ19: =(AV19-H$147) -> -4.7469029 | BA19: =(AW19-I$147) -> 6.7489078 | BB19: =(AX19-J$147) -> 4.1188073 | BC19: =(AY19-K$147) -> -2.6891346 | BD19: 84 | BE19: 131 | BF19: 70 | BG19: =VLOOKUP(A19,'Hard Stats 2013-2014'!$A$2:$L$691,9,0) -> 116 | BH19: =(BD19/D19)*77 -> 99.507692 | BI19: =(BE19/E19)*77 -> 123.0122 | BJ19: =(BF19/F19)*77 -> 112.29167 | BK19: =(BG19/G19)*77 -> 108.92683 | BL19: =(BH19/BH$146)*1000 -> 4.2461495 | BM19: =(BI19/BI$146)*1000 -> 5.1111937 | BN19: =(BJ19/BJ$146)*1000 -> 4.486219 | BO19: =(BK19/BK$146)*1000 -> 4.0878469 | BP19: =(BL19-H$147) -> -3.9505718 | BQ19: =(BM19-I$147) -> -2.6407443 | BR19: =(BN19-J$147) -> -2.9764676 | BS19: =(BO19-K$147) -> -3.2114231 | BT19: =(((BP19+AZ19)+AJ19)+T19) -> -16.146221 | BU19: =(((BQ19+BA19)+AK19)+U19) -> 1.2369125 | BV19: =(((BR19+BB19)+AL19)+V19) -> -2.2190398 | BW19: =(((BS19+BC19)+AM19)+W19) -> -12.157971 | BX19: =((BW19*0.6)+(BV19*0.3)+(BU19*0.1)) -> -7.8368034 | BZ19: =RANK(CB19,CB$18:CB$25) -> 7 | CA19: =C19 -> Brian Campbell | CB19: =BW19 -> -12.157971 | CC19: 2 | CD19: =VLOOKUP(CC19,BZ$18:CB$25,2,FALSE) -> Roman Josi | CE19: =VLOOKUP(CD19,CA$18:CC$25,2,FALSE) -> -5.6866936 | CG19: =RANK(CI19,CI$42:CI$49) -> #REF! | CH19: =#REF! -> #REF! | CI19: =#REF! -> #REF! | CJ19: =CJ172+1 -> 3 | CK19: =VLOOKUP(CJ19,CG$42:CI$49,2,FALSE) -> #N/A | CL19: =VLOOKUP(CK19,CH$42:CJ$49,2,FALSE) -> #N/A | CN19: =RANK(CP19,CP$18:CP$25) -> 4 | CO19: =C19 -> Brian Campbell | CP19: =BX19 -> -7.8368034 | CQ19: 2 | CR19: =VLOOKUP(CQ19,CN$18:CP$25,2,FALSE) -> Mark Giordano | CS19: =VLOOKUP(CR19,CO$18:CQ$25,2,FALSE) -> -4.146776
A20: =C20 -> Jason Demers | B20: =RIGHT(C20,LEN(C20)-FIND(" ",C20)) -> Demers | C20: Jason Demers | D20: 75 | E20: 57 | F20: 22 | G20: =VLOOKUP(A20,'Hard Stats 2013-2014'!$A$2:$L$691,4,0) -> 75 | H20: 2 | I20: 4 | J20: 1 | K20: =VLOOKUP(A20,'Hard Stats 2013-2014'!$A$2:$L$691,5,0) -> 5 | L20: =(H20/D20)*77 -> 2.0533333 | M20: =(I20/E20)*77 -> 5.4035088 | N20: =(J20/F20)*77 -> 3.5 | O20: =(K20/G20)*77 -> 5.1333333 | P20: =(L20/(L$146))*1000 -> 0.87824522 | Q20: =(M20/(M$146))*1000 -> 2.163584 | R20: =(N20/(N$146))*1000 -> 1.3540436 | S20: =(O20/(O$146))*1000 -> 1.8126561 | T20: =(P20-H$147) -> -7.3184761 | U20: =(Q20-I$147) -> -5.588354 | V20: =(R20-J$147) -> -6.1086429 | W20: =(S20-K$147) -> -5.486614 | X20: 22 | Y20: 9 | Z20: 2 | AA20: =VLOOKUP(A20,'Hard Stats 2013-2014'!$A$2:$L$691,6,0) -> 29 | AB20: =(X20/D20)*77 -> 22.586667 | AC20: =(Y20/E20)*77 -> 12.157895 | AD20: =(Z20/F20)*77 -> 7 | AE20: =(AA20/G20)*77 -> 29.773333 | AF20: =(AB20/AB$146)*1000 -> 5.5564569 | AG20: =(AC20/AC$146)*1000 -> 2.9405509 | AH20: =(AD20/AD$146)*1000 -> 1.5155981 | AI20: =(AE20/AE$146)*1000 -> 6.3625161 | AJ20: =(AF20-H$147) -> -2.6402644 | AK20: =(AG20-I$147) -> -4.8113871 | AL20: =(AH20-J$147) -> -5.9470884 | AM20: =(AI20-K$147) -> -0.93675396 | AN20: 6 | AO20: 5 | AP20: 0 | AQ20: =VLOOKUP(A20,'Hard Stats 2013-2014'!$A$2:$L$691,8,0) -> 9 | AR20: =(AN20/D20)*77 -> 6.16 | AS20: =(AO20/E20)*77 -> 6.754386 | AT20: =(AP20/F20)*77 -> 0 | AU20: =(AQ20/G20)*77 -> 9.24 | AV20: =((AR20/AR$146)*1000) -> 2.9898427 | AW20: =((AS20/AS$146)*1000) -> 3.3646558 | AX20: =((AT20/AT$146)*1000) -> 0 | AY20: =((AU20/AU$146)*1000) -> 3.7803111 | AZ20: =(AV20-H$147) -> -5.2068787 | BA20: =(AW20-I$147) -> -4.3872822 | BB20: =(AX20-J$147) -> -7.4626866 | BC20: =(AY20-K$147) -> -3.518959 | BD20: 105 | BE20: 73 | BF20: 27 | BG20: =VLOOKUP(A20,'Hard Stats 2013-2014'!$A$2:$L$691,9,0) -> 105 | BH20: =(BD20/D20)*77 -> 107.8 | BI20: =(BE20/E20)*77 -> 98.614035 | BJ20: =(BF20/F20)*77 -> 94.5 | BK20: =(BG20/G20)*77 -> 107.8 | BL20: =(BH20/BH$146)*1000 -> 4.5999953 | BM20: =(BI20/BI$146)*1000 -> 4.0974428 | BN20: =(BJ20/BJ$146)*1000 -> 3.7754155 | BO20: =(BK20/BK$146)*1000 -> 4.0455589 | BP20: =(BL20-H$147) -> -3.596726 | BQ20: =(BM20-I$147) -> -3.6544951 | BR20: =(BN20-J$147) -> -3.6872711 | BS20: =(BO20-K$147) -> -3.2537112 | BT20: =(((BP20+AZ20)+AJ20)+T20) -> -18.762345 | BU20: =(((BQ20+BA20)+AK20)+U20) -> -18.441518 | BV20: =(((BR20+BB20)+AL20)+V20) -> -23.205689 | BW20: =(((BS20+BC20)+AM20)+W20) -> -13.196038 | BX20: =((BW20*0.6)+(BV20*0.3)+(BU20*0.1)) -> -16.723481 | BZ20: =RANK(CB20,CB$18:CB$25) -> 8 | CA20: =C20 -> Jason Demers | CB20: =BW20 -> -13.196038 | CC20: 3 | CD20: =VLOOKUP(CC20,BZ$18:CB$25,2,FALSE) -> Andrei Markov | CE20: =VLOOKUP(CD20,CA$18:CC$25,2,FALSE) -> -6.6933242 | CN20: =RANK(CP20,CP$18:CP$25) -> 8 | CO20: =C20 -> Jason Demers | CP20: =BX20 -> -16.723481 | CQ20: 3 | CR20: =VLOOKUP(CQ20,CN$18:CP$25,2,FALSE) -> Andrei Markov | CS20: =VLOOKUP(CR20,CO$18:CQ$25,2,FALSE) -> -4.4683453
A21: =C21 -> Mark Giordano | B21: =RIGHT(C21,LEN(C21)-FIND(" ",C21)) -> Giordano | C21: Mark Giordano | D21: 82 | E21: 61 | F21: 47 | G21: =VLOOKUP(A21,'Hard Stats 2013-2014'!$A$2:$L$691,4,0) -> 64 | H21: 8 | I21: 9 | J21: 4 | K21: =VLOOKUP(A21,'Hard Stats 2013-2014'!$A$2:$L$691,5,0) -> 14 | L21: =(H21/D21)*77 -> 7.5121951 | M21: =(I21/E21)*77 -> 11.360656 | N21: =(J21/F21)*77 -> 6.5531915 | O21: =(K21/G21)*77 -> 16.84375 | P21: =(L21/(L$146))*1000 -> 3.2130923 | Q21: =(M21/(M$146))*1000 -> 4.5488467 | R21: =(N21/(N$146))*1000 -> 2.5352307 | S21: =(O21/(O$146))*1000 -> 5.9477777 | T21: =(P21-H$147) -> -4.983629 | U21: =(Q21-I$147) -> -3.2030913 | V21: =(R21-J$147) -> -4.9274559 | W21: =(S21-K$147) -> -1.3514924 | X21: 35 | Y21: 18 | Z21: 11 | AA21: =VLOOKUP(A21,'Hard Stats 2013-2014'!$A$2:$L$691,6,0) -> 33 | AB21: =(X21/D21)*77 -> 32.865854 | AC21: =(Y21/E21)*77 -> 22.721311 | AD21: =(Z21/F21)*77 -> 18.021277 | AE21: =(AA21/G21)*77 -> 39.703125 | AF21: =(AB21/AB$146)*1000 -> 8.0851992 | AG21: =(AC21/AC$146)*1000 -> 5.4954557 | AH21: =(AD21/AD$146)*1000 -> 3.901859 | AI21: =(AE21/AE$146)*1000 -> 8.4844975 | AJ21: =(AF21-H$147) -> -0.11152215 | AK21: =(AG21-I$147) -> -2.2564822 | AL21: =(AH21-J$147) -> -3.5608275 | AM21: =(AI21-K$147) -> 1.1852274 | AN21: 25 | AO21: 10 | AP21: 3 | AQ21: =VLOOKUP(A21,'Hard Stats 2013-2014'!$A$2:$L$691,8,0) -> 20 | AR21: =(AN21/D21)*77 -> 23.47561 | AS21: =(AO21/E21)*77 -> 12.622951 | AT21: =(AP21/F21)*77 -> 4.9148936 | AU21: =(AQ21/G21)*77 -> 24.0625 | AV21: =((AR21/AR$146)*1000) -> 11.394217 | AW21: =((AS21/AS$146)*1000) -> 6.2880452 | AX21: =((AT21/AT$146)*1000) -> 2.087278 | AY21: =((AU21/AU$146)*1000) -> 9.8445602 | AZ21: =(AV21-H$147) -> 3.1974961 | BA21: =(AW21-I$147) -> -1.4638927 | BB21: =(AX21-J$147) -> -5.3754086 | BC21: =(AY21-K$147) -> 2.5452901 | BD21: 165 | BE21: 125 | BF21: 58 | BG21: =VLOOKUP(A21,'Hard Stats 2013-2014'!$A$2:$L$691,9,0) -> 180 | BH21: =(BD21/D21)*77 -> 154.93902 | BI21: =(BE21/E21)*77 -> 157.78689 | BJ21: =(BF21/F21)*77 -> 95.021277 | BK21: =(BG21/G21)*77 -> 216.5625 | BL21: =(BH21/BH$146)*1000 -> 6.6114915 | BM21: =(BI21/BI$146)*1000 -> 6.5560926 | BN21: =(BJ21/BJ$146)*1000 -> 3.7962412 | BO21: =(BK21/BK$146)*1000 -> 8.1272388 | BP21: =(BL21-H$147) -> -1.5852299 | BQ21: =(BM21-I$147) -> -1.1958454 | BR21: =(BN21-J$147) -> -3.6664453 | BS21: =(BO21-K$147) -> 0.82796873 | BT21: =(((BP21+AZ21)+AJ21)+T21) -> -3.4828849 | BU21: =(((BQ21+BA21)+AK21)+U21) -> -8.1193117 | BV21: =(((BR21+BB21)+AL21)+V21) -> -17.530137 | BW21: =(((BS21+BC21)+AM21)+W21) -> 3.2069939 | BX21: =((BW21*0.6)+(BV21*0.3)+(BU21*0.1)) -> -4.146776 | BZ21: =RANK(CB21,CB$18:CB$25) -> 1 | CA21: =C21 -> Mark Giordano | CB21: =BW21 -> 3.2069939 | CC21: 4 | CD21: =VLOOKUP(CC21,BZ$18:CB$25,2,FALSE) -> Erik Johnson | CE21: =VLOOKUP(CD21,CA$18:CC$25,2,FALSE) -> -8.7837192 | CG21: =RANK(CI21,CI$18:CI$163) -> #REF! | CH21: =#REF! -> #REF! | CI21: =#REF! -> #REF! | CJ21: =CJ168+1 -> 2 | CK21: =VLOOKUP(CJ21,CG$18:CI$163,2,FALSE) -> #N/A | CL21: =VLOOKUP(CK21,CH$18:CJ$163,2,FALSE) -> #N/A | CN21: =RANK(CP21,CP$18:CP$25) -> 2 | CO21: =C21 -> Mark Giordano | CP21: =BX21 -> -4.146776 | CQ21: 4 | CR21: =VLOOKUP(CQ21,CN$18:CP$25,2,FALSE) -> Brian Campbell | CS21: =VLOOKUP(CR21,CO$18:CQ$25,2,FALSE) -> -7.8368034
A22: =C22 -> Jack Johnson | B22: =RIGHT(C22,LEN(C22)-FIND(" ",C22)) -> Johnson | C22: Jack Johnson | D22: 82 | E22: 82 | F22: 44 | G22: =VLOOKUP(A22,'Hard Stats 2013-2014'!$A$2:$L$691,4,0) -> 82 | H22: 5 | I22: 12 | J22: 5 | K22: =VLOOKUP(A22,'Hard Stats 2013-2014'!$A$2:$L$691,5,0) -> 5 | L22: =(H22/D22)*77 -> 4.695122 | M22: =(I22/E22)*77 -> 11.268293 | N22: =(J22/F22)*77 -> 8.75 | O22: =(K22/G22)*77 -> 4.695122 | P22: =(L22/(L$146))*1000 -> 2.0081827 | Q22: =(M22/(M$146))*1000 -> 4.5118642 | R22: =(N22/(N$146))*1000 -> 3.3851091 | S22: =(O22/(O$146))*1000 -> 1.6579171 | T22: =(P22-H$147) -> -6.1885386 | U22: =(Q22-I$147) -> -3.2400737 | V22: =(R22-J$147) -> -4.0775774 | W22: =(S22-K$147) -> -5.6413529 | X22: 37 | Y22: 26 | Z22: 14 | AA22: =VLOOKUP(A22,'Hard Stats 2013-2014'!$A$2:$L$691,6,0) -> 28 | AB22: =(X22/D22)*77 -> 34.743902 | AC22: =(Y22/E22)*77 -> 24.414634 | AD22: =(Z22/F22)*77 -> 24.5 | AE22: =(AA22/G22)*77 -> 26.292683 | AF22: =(AB22/AB$146)*1000 -> 8.5472105 | AG22: =(AC22/AC$146)*1000 -> 5.9050087 | AH22: =(AD22/AD$146)*1000 -> 5.3045935 | AI22: =(AE22/AE$146)*1000 -> 5.6187064 | AJ22: =(AF22-H$147) -> 0.35048923 | AK22: =(AG22-I$147) -> -1.8469293 | AL22: =(AH22-J$147) -> -2.1580931 | AM22: =(AI22-K$147) -> -1.6805637 | AN22: 28 | AO22: 17 | AP22: 8 | AQ22: =VLOOKUP(A22,'Hard Stats 2013-2014'!$A$2:$L$691,8,0) -> 18 | AR22: =(AN22/D22)*77 -> 26.292683 | AS22: =(AO22/E22)*77 -> 15.963415 | AT22: =(AP22/F22)*77 -> 14 | AU22: =(AQ22/G22)*77 -> 16.902439 | AV22: =((AR22/AR$146)*1000) -> 12.761524 | AW22: =((AS22/AS$146)*1000) -> 7.9520767 | AX22: =((AT22/AT$146)*1000) -> 5.9455798 | AY22: =((AU22/AU$146)*1000) -> 6.9152033 | AZ22: =(AV22-H$147) -> 4.5648022 | BA22: =(AW22-I$147) -> 0.20013875 | BB22: =(AX22-J$147) -> -1.5171068 | BC22: =(AY22-K$147) -> -0.3840668 | BD22: 153 | BE22: 176 | BF22: 96 | BG22: =VLOOKUP(A22,'Hard Stats 2013-2014'!$A$2:$L$691,9,0) -> 147 | BH22: =(BD22/D22)*77 -> 143.67073 | BI22: =(BE22/E22)*77 -> 165.26829 | BJ22: =(BF22/F22)*77 -> 168 | BK22: =(BG22/G22)*77 -> 138.03659 | BL22: =(BH22/BH$146)*1000 -> 6.1306557 | BM22: =(BI22/BI$146)*1000 -> 6.8669473 | BN22: =(BJ22/BJ$146)*1000 -> 6.7118497 | BO22: =(BK22/BK$146)*1000 -> 5.1802888 | BP22: =(BL22-H$147) -> -2.0660656 | BQ22: =(BM22-I$147) -> -0.88499069 | BR22: =(BN22-J$147) -> -0.75083688 | BS22: =(BO22-K$147) -> -2.1189813 | BT22: =(((BP22+AZ22)+AJ22)+T22) -> -3.3393128 | BU22: =(((BQ22+BA22)+AK22)+U22) -> -5.771855 | BV22: =(((BR22+BB22)+AL22)+V22) -> -8.5036142 | BW22: =(((BS22+BC22)+AM22)+W22) -> -9.8249647 | BX22: =((BW22*0.6)+(BV22*0.3)+(BU22*0.1)) -> -9.0232486 | BZ22: =RANK(CB22,CB$18:CB$25) -> 5 | CA22: =C22 -> Jack Johnson | CB22: =BW22 -> -9.8249647 | CC22: 5 | CD22: =VLOOKUP(CC22,BZ$18:CB$25,2,FALSE) -> Jack Johnson | CE22: =VLOOKUP(CD22,CA$18:CC$25,2,FALSE) -> -9.8249647 | CG22: =RANK(CI22,CI$42:CI$49) -> #REF! | CH22: =#REF! -> #REF! | CI22: =#REF! -> #REF! | CJ22: =CJ19+1 -> 4 | CK22: =VLOOKUP(CJ22,CG$42:CI$49,2,FALSE) -> #N/A | CL22: =VLOOKUP(CK22,CH$42:CJ$49,2,FALSE) -> #N/A | CN22: =RANK(CP22,CP$18:CP$25) -> 6 | CO22: =C22 -> Jack Johnson | CP22: =BX22 -> -9.0232486 | CQ22: 5 | CR22: =VLOOKUP(CQ22,CN$18:CP$25,2,FALSE) -> Roman Josi | CS22: =VLOOKUP(CR22,CO$18:CQ$25,2,FALSE) -> -8.5268961
A23: =C23 -> Erik Johnson | B23: =RIGHT(C23,LEN(C23)-FIND(" ",C23)) -> Johnson | C23: Erik Johnson | D23: 77 | E23: 73 | F23: 31 | G23: =VLOOKUP(A23,'Hard Stats 2013-2014'!$A$2:$L$691,4,0) -> 80 | H23: 8 | I23: 4 | J23: 0 | K23: =VLOOKUP(A23,'Hard Stats 2013-2014'!$A$2:$L$691,5,0) -> 9 | L23: =(H23/D23)*77 -> 8 | M23: =(I23/E23)*77 -> 4.2191781 | N23: =(J23/F23)*77 -> 0 | O23: =(K23/G23)*77 -> 8.6625 | P23: =(L23/(L$146))*1000 -> 3.4217346 | Q23: =(M23/(M$146))*1000 -> 1.6893738 | R23: =(N23/(N$146))*1000 -> 0 | S23: =(O23/(O$146))*1000 -> 3.0588571 | T23: =(P23-H$147) -> -4.7749867 | U23: =(Q23-I$147) -> -6.0625642 | V23: =(R23-J$147) -> -7.4626866 | W23: =(S23-K$147) -> -4.240413 | X23: 21 | Y23: 22 | Z23: 4 | AA23: =VLOOKUP(A23,'Hard Stats 2013-2014'!$A$2:$L$691,6,0) -> 30 | AB23: =(X23/D23)*77 -> 21 | AC23: =(Y23/E23)*77 -> 23.205479 | AD23: =(Z23/F23)*77 -> 9.9354839 | AE23: =(AA23/G23)*77 -> 28.875 | AF23: =(AB23/AB$146)*1000 -> 5.1661273 | AG23: =(AC23/AC$146)*1000 -> 5.6125583 | AH23: =(AD23/AD$146)*1000 -> 2.1511716 | AI23: =(AE23/AE$146)*1000 -> 6.1705436 | AJ23: =(AF23-H$147) -> -3.0305941 | AK23: =(AG23-I$147) -> -2.1393797 | AL23: =(AH23-J$147) -> -5.311515 | AM23: =(AI23-K$147) -> -1.1287264 | AN23: 10 | AO23: 12 | AP23: 0 | AQ23: =VLOOKUP(A23,'Hard Stats 2013-2014'!$A$2:$L$691,8,0) -> 14 | AR23: =(AN23/D23)*77 -> 10 | AS23: =(AO23/E23)*77 -> 12.657534 | AT23: =(AP23/F23)*77 -> 0 | AU23: =(AQ23/G23)*77 -> 13.475 | AV23: =((AR23/AR$146)*1000) -> 4.8536407 | AW23: =((AS23/AS$146)*1000) -> 6.3052728 | AX23: =((AT23/AT$146)*1000) -> 0 | AY23: =((AU23/AU$146)*1000) -> 5.5129537 | AZ23: =(AV23-H$147) -> -3.3430806 | BA23: =(AW23-I$147) -> -1.4466652 | BB23: =(AX23-J$147) -> -7.4626866 | BC23: =(AY23-K$147) -> -1.7863164 | BD23: 161 | BE23: 155 | BF23: 64 | BG23: =VLOOKUP(A23,'Hard Stats 2013-2014'!$A$2:$L$691,9,0) -> 157 | BH23: =(BD23/D23)*77 -> 161 | BI23: =(BE23/E23)*77 -> 163.49315 | BJ23: =(BF23/F23)*77 -> 158.96774 | BK23: =(BG23/G23)*77 -> 151.1125 | BL23: =(BH23/BH$146)*1000 -> 6.8701228 | BM23: =(BI23/BI$146)*1000 -> 6.7931896 | BN23: =(BJ23/BJ$146)*1000 -> 6.3509976 | BO23: =(BK23/BK$146)*1000 -> 5.6710066 | BP23: =(BL23-H$147) -> -1.3265985 | BQ23: =(BM23-I$147) -> -0.95874837 | BR23: =(BN23-J$147) -> -1.111689 | BS23: =(BO23-K$147) -> -1.6282634 | BT23: =(((BP23+AZ23)+AJ23)+T23) -> -12.47526 | BU23: =(((BQ23+BA23)+AK23)+U23) -> -10.607357 | BV23: =(((BR23+BB23)+AL23)+V23) -> -21.348577 | BW23: =(((BS23+BC23)+AM23)+W23) -> -8.7837192 | BX23: =((BW23*0.6)+(BV23*0.3)+(BU23*0.1)) -> -12.73554 | BZ23: =RANK(CB23,CB$18:CB$25) -> 4 | CA23: =C23 -> Erik Johnson | CB23: =BW23 -> -8.7837192 | CC23: 6 | CD23: =VLOOKUP(CC23,BZ$18:CB$25,2,FALSE) -> Jay Bouwmeester | CE23: =VLOOKUP(CD23,CA$18:CC$25,2,FALSE) -> -11.666253 | CG23: =RANK(CI23,CI$18:CI$163) -> #REF! | CH23: =#REF! -> #REF! | CI23: =#REF! -> #REF! | CJ23: =CJ166+1 -> 7 | CK23: =VLOOKUP(CJ23,CG$18:CI$163,2,FALSE) -> #N/A | CL23: =VLOOKUP(CK23,CH$18:CJ$163,2,FALSE) -> #N/A | CN23: =RANK(CP23,CP$18:CP$25) -> 7 | CO23: =C23 -> Erik Johnson | CP23: =BX23 -> -12.73554 | CQ23: 6 | CR23: =VLOOKUP(CQ23,CN$18:CP$25,2,FALSE) -> Jack Johnson | CS23: =VLOOKUP(CR23,CO$18:CQ$25,2,FALSE) -> -9.0232486
A24: =C24 -> Roman Josi | B24: =RIGHT(C24,LEN(C24)-FIND(" ",C24)) -> Josi | C24: Roman Josi | D24: NA | E24: 52 | F24: 48 | G24: =VLOOKUP(A24,'Hard Stats 2013-2014'!$A$2:$L$691,4,0) -> 72 | H24: NA | I24: 5 | J24: 5 | K24: =VLOOKUP(A24,'Hard Stats 2013-2014'!$A$2:$L$691,5,0) -> 13 | L24: NA | M24: =(I24/E24)*77 -> 7.4038462 | N24: =(J24/F24)*77 -> 8.0208333 | O24: =(K24/G24)*77 -> 13.902778 | P24: NA | Q24: =(M24/(M$146))*1000 -> 2.9645262 | R24: =(N24/(N$146))*1000 -> 3.1030167 | S24: =(O24/(O$146))*1000 -> 4.9092768 | T24: NA | U24: =(Q24-I$147) -> -4.7874118 | V24: =(R24-J$147) -> -4.3596699 | W24: =(S24-K$147) -> -2.3899933 | X24: NA | Y24: 11 | Z24: 13 | AA24: =VLOOKUP(A24,'Hard Stats 2013-2014'!$A$2:$L$691,6,0) -> 27 | AB24: NA | AC24: =(Y24/E24)*77 -> 16.288462 | AD24: =(Z24/F24)*77 -> 20.854167 | AE24: =(AA24/G24)*77 -> 28.875 | AF24: NA | AG24: =(AC24/AC$146)*1000 -> 3.9395842 | AH24: =(AD24/AD$146)*1000 -> 4.5152195 | AI24: =(AE24/AE$146)*1000 -> 6.1705436 | AJ24: NA | AK24: =(AG24-I$147) -> -3.8123538 | AL24: =(AH24-J$147) -> -2.9474671 | AM24: =(AI24-K$147) -> -1.1287264 | AN24: NA | AO24: 4 | AP24: 7 | AQ24: =VLOOKUP(A24,'Hard Stats 2013-2014'!$A$2:$L$691,8,0) -> 13 | AR24: NA | AS24: =(AO24/E24)*77 -> 5.9230769 | AT24: =(AP24/F24)*77 -> 11.229167 | AU24: =(AQ24/G24)*77 -> 13.902778 | AV24: NA | AW24: =((AS24/AS$146)*1000) -> 2.9505443 | AX24: =((AT24/AT$146)*1000) -> 4.7688504 | AY24: =((AU24/AU$146)*1000) -> 5.6879681 | AZ24: NA | BA24: =(AW24-I$147) -> -4.8013937 | BB24: =(AX24-J$147) -> -2.6938361 | BC24: =(AY24-K$147) -> -1.6113019 | BD24: NA | BE24: 64 | BF24: 96 | BG24: =VLOOKUP(A24,'Hard Stats 2013-2014'!$A$2:$L$691,9,0) -> 168 | BH24: NA | BI24: =(BE24/E24)*77 -> 94.769231 | BJ24: =(BF24/F24)*77 -> 154 | BK24: =(BG24/G24)*77 -> 179.66667 | BL24: NA | BM24: =(BI24/BI$146)*1000 -> 3.9376901 | BN24: =(BJ24/BJ$146)*1000 -> 6.1525289 | BO24: =(BK24/BK$146)*1000 -> 6.7425981 | BP24: NA | BQ24: =(BM24-I$147) -> -3.8142479 | BR24: =(BN24-J$147) -> -1.3101577 | BS24: =(BO24-K$147) -> -0.55667195 | BT24: NA | BU24: =(((BQ24+BA24)+AK24)+U24) -> -17.215407 | BV24: =(((BR24+BB24)+AL24)+V24) -> -11.311131 | BW24: =(((BS24+BC24)+AM24)+W24) -> -5.6866936 | BX24: =((BW24*0.6)+(BV24*0.3)+(BU24*0.1)) -> -8.5268961 | BZ24: =RANK(CB24,CB$18:CB$25) -> 2 | CA24: =C24 -> Roman Josi | CB24: =BW24 -> -5.6866936 | CC24: 7 | CD24: =VLOOKUP(CC24,BZ$18:CB$25,2,FALSE) -> Brian Campbell | CE24: =VLOOKUP(CD24,CA$18:CC$25,2,FALSE) -> -12.157971 | CN24: =RANK(CP24,CP$18:CP$25) -> 5 | CO24: =C24 -> Roman Josi | CP24: =BX24 -> -8.5268961 | CQ24: 7 | CR24: =VLOOKUP(CQ24,CN$18:CP$25,2,FALSE) -> Erik Johnson | CS24: =VLOOKUP(CR24,CO$18:CQ$25,2,FALSE) -> -12.73554
A25: =C25 -> Andrei Markov | B25: =RIGHT(C25,LEN(C25)-FIND(" ",C25)) -> Markov | C25: Andrei Markov | D25: 7 | E25: 13 | F25: 48 | G25: =VLOOKUP(A25,'Hard Stats 2013-2014'!$A$2:$L$691,4,0) -> 81 | H25: 1 | I25: 0 | J25: 10 | K25: =VLOOKUP(A25,'Hard Stats 2013-2014'!$A$2:$L$691,5,0) -> 7 | L25: =(H25/D25)*77 -> 11 | M25: =(I25/E25)*77 -> 0 | N25: =(J25/F25)*77 -> 16.041667 | O25: =(K25/G25)*77 -> 6.654321 | P25: =(L25/(L$146))*1000 -> 4.7048851 | Q25: =(M25/(M$146))*1000 -> 0 | R25: =(N25/(N$146))*1000 -> 6.2060334 | S25: =(O25/(O$146))*1000 -> 2.3497393 | T25: =(P25-H$147) -> -3.4918362 | U25: =(Q25-I$147) -> -7.751938 | V25: =(R25-J$147) -> -1.2566532 | W25: =(S25-K$147) -> -4.9495307 | X25: 2 | Y25: 3 | Z25: 20 | AA25: =VLOOKUP(A25,'Hard Stats 2013-2014'!$A$2:$L$691,6,0) -> 36 | AB25: =(X25/D25)*77 -> 22 | AC25: =(Y25/E25)*77 -> 17.769231 | AD25: =(Z25/F25)*77 -> 32.083333 | AE25: =(AA25/G25)*77 -> 34.222222 | AF25: =(AB25/AB$146)*1000 -> 5.4121333 | AG25: =(AC25/AC$146)*1000 -> 4.2977282 | AH25: =(AD25/AD$146)*1000 -> 6.9464915 | AI25: =(AE25/AE$146)*1000 -> 7.3132369 | AJ25: =(AF25-H$147) -> -2.784588 | AK25: =(AG25-I$147) -> -3.4542098 | AL25: =(AH25-J$147) -> -0.5161951 | AM25: =(AI25-K$147) -> 0.01396684 | AN25: 1 | AO25: 2 | AP25: 23 | AQ25: =VLOOKUP(A25,'Hard Stats 2013-2014'!$A$2:$L$691,8,0) -> 21 | AR25: =(AN25/D25)*77 -> 11 | AS25: =(AO25/E25)*77 -> 11.846154 | AT25: =(AP25/F25)*77 -> 36.895833 | AU25: =(AQ25/G25)*77 -> 19.962963 | AV25: =((AR25/AR$146)*1000) -> 5.3390047 | AW25: =((AS25/AS$146)*1000) -> 5.9010886 | AX25: =((AT25/AT$146)*1000) -> 15.66908 | AY25: =((AU25/AU$146)*1000) -> 8.1673388 | AZ25: =(AV25-H$147) -> -2.8577166 | BA25: =(AW25-I$147) -> -1.8508494 | BB25: =(AX25-J$147) -> 8.2063934 | BC25: =(AY25-K$147) -> 0.86806877 | BD25: 20 | BE25: 17 | BF25: 79 | BG25: =VLOOKUP(A25,'Hard Stats 2013-2014'!$A$2:$L$691,9,0) -> 131 | BH25: =(BD25/D25)*77 -> 220 | BI25: =(BE25/E25)*77 -> 100.69231 | BJ25: =(BF25/F25)*77 -> 126.72917 | BK25: =(BG25/G25)*77 -> 124.53086 | BL25: =(BH25/BH$146)*1000 -> 9.3877454 | BM25: =(BI25/BI$146)*1000 -> 4.1837957 | BN25: =(BJ25/BJ$146)*1000 -> 5.0630186 | BO25: =(BK25/BK$146)*1000 -> 4.673441 | BP25: =(BL25-H$147) -> 1.1910241 | BQ25: =(BM25-I$147) -> -3.5681423 | BR25: =(BN25-J$147) -> -2.399668 | BS25: =(BO25-K$147) -> -2.625829 | BT25: =(((BP25+AZ25)+AJ25)+T25) -> -7.9431166 | BU25: =(((BQ25+BA25)+AK25)+U25) -> -16.625139 | BV25: =(((BR25+BB25)+AL25)+V25) -> 4.0338771 | BW25: =(((BS25+BC25)+AM25)+W25) -> -6.6933242 | BX25: =((BW25*0.6)+(BV25*0.3)+(BU25*0.1)) -> -4.4683453 | BZ25: =RANK(CB25,CB$18:CB$25) -> 3 | CA25: =C25 -> Andrei Markov | CB25: =BW25 -> -6.6933242 | CC25: 8 | CD25: =VLOOKUP(CC25,BZ$18:CB$25,2,FALSE) -> Jason Demers | CE25: =VLOOKUP(CD25,CA$18:CC$25,2,FALSE) -> -13.196038 | CN25: =RANK(CP25,CP$18:CP$25) -> 3 | CO25: =C25 -> Andrei Markov | CP25: =BX25 -> -4.4683453 | CQ25: 8 | CR25: =VLOOKUP(CQ25,CN$18:CP$25,2,FALSE) -> Jason Demers | CS25: =VLOOKUP(CR25,CO$18:CQ$25,2,FALSE) -> -16.723481
C26: Girouxsome Twosome | AF26: =(AB26/AB$146)*1000 -> 0 | AG26: =(AC26/AC$146)*1000 -> 0 | AH26: =(AD26/AD$146)*1000 -> 0 | AI26: =(AE26/AE$146)*1000 -> 0 | AV26: =((AR26/AR$146)*1000) -> 0 | AW26: =((AS26/AS$146)*1000) -> 0 | AX26: =((AT26/AT$146)*1000) -> 0 | AY26: =((AU26/AU$146)*1000) -> 0 | BL26: =(BH26/BH$146)*1000 -> 0 | BM26: =(BI26/BI$146)*1000 -> 0 | BN26: =(BJ26/BJ$146)*1000 -> 0 | BO26: =(BK26/BK$146)*1000 -> 0 | BX26: =((BW26*0.6)+(BV26*0.3)+(BU26*0.1)) -> 0 | CD26: Girouxsome Twosome | CH26: Girouxsome Twosome | CK26: Girouxsome Twosome | CR26: Girouxsome Twosome
A27: =C27 -> Patrice Bergeron | B27: =RIGHT(C27,LEN(C27)-FIND(" ",C27)) -> Bergeron | C27: Patrice Bergeron | D27: 80 | E27: 81 | F27: 42 | G27: =VLOOKUP(A27,'Hard Stats 2013-2014'!$A$2:$L$691,4,0) -> 80 | H27: 22 | I27: 22 | J27: 10 | K27: =VLOOKUP(A27,'Hard Stats 2013-2014'!$A$2:$L$691,5,0) -> 30 | L27: NA | M27: =(I27/E27)*77 -> 20.91358 | N27: =(J27/F27)*77 -> 18.333333 | O27: =(K27/G27)*77 -> 28.875 | P27: NA | Q27: =(M27/(M$146))*1000 -> 8.3738715 | R27: =(N27/(N$146))*1000 -> 7.0926096 | S27: =(O27/(O$146))*1000 -> 10.19619 | T27: NA | U27: =(Q27-I$147) -> 0.6219335 | V27: =(R27-J$147) -> -0.37007698 | W27: =(S27-K$147) -> 2.8969202 | X27: 35 | Y27: 42 | Z27: 22 | AA27: =VLOOKUP(A27,'Hard Stats 2013-2014'!$A$2:$L$691,6,0) -> 32 | AB27: =(X27/D27)*77 -> 33.6875 | AC27: =(Y27/E27)*77 -> 39.925926 | AD27: =(Z27/F27)*77 -> 40.333333 | AE27: =(AA27/G27)*77 -> 30.8 | AF27: =(AB27/AB$146)*1000 -> 8.2873291 | AG27: =(AC27/AC$146)*1000 -> 9.6566239 | AH27: =(AD27/AD$146)*1000 -> 8.7327321 | AI27: =(AE27/AE$146)*1000 -> 6.5819132 | AJ27: =(AF27-H$147) -> 0.090607827 | AK27: =(AG27-I$147) -> 1.9046859 | AL27: =(AH27-J$147) -> 1.2700456 | AM27: =(AI27-K$147) -> -0.71735685 | AN27: 11 | AO27: 14 | AP27: 4 | AQ27: =VLOOKUP(A27,'Hard Stats 2013-2014'!$A$2:$L$691,8,0) -> 11 | AR27: =(AN27/D27)*77 -> 10.5875 | AS27: =(AO27/E27)*77 -> 13.308642 | AT27: =(AP27/F27)*77 -> 7.3333333 | AU27: =(AQ27/G27)*77 -> 10.5875 | AV27: =((AR27/AR$146)*1000) -> 5.1387921 | AW27: =((AS27/AS$146)*1000) -> 6.6296181 | AX27: =((AT27/AT$146)*1000) -> 3.1143513 | AY27: =((AU27/AU$146)*1000) -> 4.3316065 | AZ27: =(AV27-H$147) -> -3.0579292 | BA27: =(AW27-I$147) -> -1.1223199 | BB27: =(AX27-J$147) -> -4.3483353 | BC27: =(AY27-K$147) -> -2.9676636 | BD27: 211 | BE27: 191 | BF27: 125 | BG27: =VLOOKUP(A27,'Hard Stats 2013-2014'!$A$2:$L$691,9,0) -> 243 | BH27: =(BD27/D27)*77 -> 203.0875 | BI27: =(BE27/E27)*77 -> 181.5679 | BJ27: =(BF27/F27)*77 -> 229.16667 | BK27: =(BG27/G27)*77 -> 233.8875 | BL27: =(BH27/BH$146)*1000 -> 8.6660625 | BM27: =(BI27/BI$146)*1000 -> 7.5442009 | BN27: =(BJ27/BJ$146)*1000 -> 9.1555489 | BO27: =(BK27/BK$146)*1000 -> 8.7774179 | BP27: =(BL27-H$147) -> 0.4693412 | BQ27: =(BM27-I$147) -> -0.20773705 | BR27: =(BN27-J$147) -> 1.6928624 | BS27: =(BO27-K$147) -> 1.4781478 | BT27: NA | BU27: =(((BQ27+BA27)+AK27)+U27) -> 1.1965624 | BV27: =(((BR27+BB27)+AL27)+V27) -> -1.7555043 | BW27: =(((BS27+BC27)+AM27)+W27) -> 0.69004766 | BX27: =((BW27*0.6)+(BV27*0.3)+(BU27*0.1)) -> 0.0070335435 | BZ27: =RANK(CB27,CB$27:CB$41) -> 9 | CA27: =C27 -> Patrice Bergeron | CB27: =BW27 -> 0.69004766 | CC27: 1 | CD27: =VLOOKUP(CC27,BZ$27:CB$49,2,FALSE) -> Claude Giroux | CE27: =VLOOKUP(CD27,CA$27:CC$49,2,FALSE) -> 13.799122 | CG27: =RANK(CI27,CI$122:CI$167) -> #REF! | CH27: =#REF! -> #REF! | CI27: =#REF! -> #REF! | CJ27: =CJ51+1 -> #N/A | CK27: =VLOOKUP(CJ27,CG$122:CI$167,2,FALSE) -> #N/A | CL27: =VLOOKUP(CK27,CH$122:CJ$167,2,FALSE) -> #N/A | CN27: =RANK(CP27,CP$27:CP$41) -> 8 | CO27: =C27 -> Patrice Bergeron | CP27: =BX27 -> 0.0070335435 | CQ27: 1 | CR27: =VLOOKUP(CQ27,CN$27:CP$41,2,FALSE) -> Claude Giroux | CS27: =VLOOKUP(CR27,CO$27:CQ$41,2,FALSE) -> 14.808459
A28: =C28 -> Logan Couture | B28: =RIGHT(C28,LEN(C28)-FIND(" ",C28)) -> Couture | C28: Logan Couture | D28: 79 | E28: 80 | F28: 48 | G28: =VLOOKUP(A28,'Hard Stats 2013-2014'!$A$2:$L$691,4,0) -> 65 | H28: 32 | I28: 31 | J28: 21 | K28: =VLOOKUP(A28,'Hard Stats 2013-2014'!$A$2:$L$691,5,0) -> 23 | L28: =(H28/D28)*77 -> 31.189873 | M28: =(I28/E28)*77 -> 29.8375 | N28: =(J28/F28)*77 -> 33.6875 | O28: =(K28/G28)*77 -> 27.246154 | P28: =(L28/(L$146))*1000 -> 13.340434 | Q28: =(M28/(M$146))*1000 -> 11.947041 | R28: =(N28/(N$146))*1000 -> 13.03267 | S28: =(O28/(O$146))*1000 -> 9.6210206 | T28: =(P28-H$147) -> 5.1437125 | U28: =(Q28-I$147) -> 4.1951025 | V28: =(R28-J$147) -> 5.5699835 | W28: =(S28-K$147) -> 2.3217505 | X28: 24 | Y28: 34 | Z28: 13 | AA28: =VLOOKUP(A28,'Hard Stats 2013-2014'!$A$2:$L$691,6,0) -> 31 | AB28: =(X28/D28)*77 -> 23.392405 | AC28: =(Y28/E28)*77 -> 32.725 | AD28: =(Z28/F28)*77 -> 20.854167 | AE28: =(AA28/G28)*77 -> 36.723077 | AF28: =(AB28/AB$146)*1000 -> 5.7546734 | AG28: =(AC28/AC$146)*1000 -> 7.9149828 | AH28: =(AD28/AD$146)*1000 -> 4.5152195 | AI28: =(AE28/AE$146)*1000 -> 7.8476658 | AJ28: =(AF28-H$147) -> -2.4420479 | AK28: =(AG28-I$147) -> 0.1630448 | AL28: =(AH28-J$147) -> -2.9474671 | AM28: =(AI28-K$147) -> 0.54839569 | AN28: 14 | AO28: 26 | AP28: 12 | AQ28: =VLOOKUP(A28,'Hard Stats 2013-2014'!$A$2:$L$691,8,0) -> 13 | AR28: =(AN28/D28)*77 -> 13.64557 | AS28: =(AO28/E28)*77 -> 25.025 | AT28: =(AP28/F28)*77 -> 19.25 | AU28: =(AQ28/G28)*77 -> 15.4 | AV28: =((AR28/AR$146)*1000) -> 6.6230692 | AW28: =((AS28/AS$146)*1000) -> 12.46605 | AX28: =((AT28/AT$146)*1000) -> 8.1751722 | AY28: =((AU28/AU$146)*1000) -> 6.3005185 | AZ28: =(AV28-H$147) -> -1.5736521 | BA28: =(AW28-I$147) -> 4.7141117 | BB28: =(AX28-J$147) -> 0.71248561 | BC28: =(AY28-K$147) -> -0.99875154 | BD28: 253 | BE28: 245 | BF28: 151 | BG28: =VLOOKUP(A28,'Hard Stats 2013-2014'!$A$2:$L$691,9,0) -> 233 | BH28: =(BD28/D28)*77 -> 246.59494 | BI28: =(BE28/E28)*77 -> 235.8125 | BJ28: =(BF28/F28)*77 -> 242.22917 | BK28: =(BG28/G28)*77 -> 276.01538 | BL28: =(BH28/BH$146)*1000 -> 10.522593 | BM28: =(BI28/BI$146)*1000 -> 9.7980803 | BN28: =(BJ28/BJ$146)*1000 -> 9.6774152 | BO28: =(BK28/BK$146)*1000 -> 10.358409 | BP28: =(BL28-H$147) -> 2.3258718 | BQ28: =(BM28-I$147) -> 2.0461424 | BR28: =(BN28-J$147) -> 2.2147287 | BS28: =(BO28-K$147) -> 3.0591389 | BT28: =(((BP28+AZ28)+AJ28)+T28) -> 3.4538843 | BU28: =(((BQ28+BA28)+AK28)+U28) -> 11.118401 | BV28: =(((BR28+BB28)+AL28)+V28) -> 5.5497307 | BW28: =(((BS28+BC28)+AM28)+W28) -> 4.9305336 | BX28: =((BW28*0.6)+(BV28*0.3)+(BU28*0.1)) -> 5.7350795 | BZ28: =RANK(CB28,CB$27:CB$41) -> 4 | CA28: =C28 -> Logan Couture | CB28: =BW28 -> 4.9305336 | CC28: 2 | CD28: =VLOOKUP(CC28,BZ$27:CB$49,2,FALSE) -> Henrik Zetterberg | CE28: =VLOOKUP(CD28,CA$27:CC$49,2,FALSE) -> 13.769075 | CG28: =RANK(CI28,CI$27:CI$55) -> #REF! | CH28: =#REF! -> #REF! | CI28: =#REF! -> #REF! | CJ28: =CJ123+1 -> 2 | CK28: =VLOOKUP(CJ28,CG$27:CI$55,2,FALSE) -> #N/A | CL28: =VLOOKUP(CK28,CH$27:CJ$55,2,FALSE) -> #N/A | CN28: =RANK(CP28,CP$27:CP$41) -> 4 | CO28: =C28 -> Logan Couture | CP28: =BX28 -> 5.7350795 | CQ28: 2 | CR28: =VLOOKUP(CQ28,CN$27:CP$41,2,FALSE) -> Henrik Zetterberg | CS28: =VLOOKUP(CR28,CO$27:CQ$41,2,FALSE) -> 14.33258
A29: =C29 -> Marian Gaborik | B29: =RIGHT(C29,LEN(C29)-FIND(" ",C29)) -> Gaborik | C29: Marian Gaborik | D29: 62 | E29: 82 | F29: 47 | G29: =VLOOKUP(A29,'Hard Stats 2013-2014'!$A$2:$L$691,4,0) -> 41 | H29: 22 | I29: 41 | J29: 12 | K29: =VLOOKUP(A29,'Hard Stats 2013-2014'!$A$2:$L$691,5,0) -> 11 | L29: =(H29/D29)*77 -> 27.322581 | M29: =(I29/E29)*77 -> 38.5 | N29: =(J29/F29)*77 -> 19.659574 | O29: =(K29/G29)*77 -> 20.658537 | P29: =(L29/(L$146))*1000 -> 11.686328 | Q29: =(M29/(M$146))*1000 -> 15.415536 | R29: =(N29/(N$146))*1000 -> 7.605692 | S29: =(O29/(O$146))*1000 -> 7.2948354 | T29: =(P29-H$147) -> 3.4896063 | U29: =(Q29-I$147) -> 7.6635982 | V29: =(R29-J$147) -> 0.14300541 | W29: =(S29-K$147) -> -0.0044347202 | X29: 26 | Y29: 35 | Z29: 15 | AA29: =VLOOKUP(A29,'Hard Stats 2013-2014'!$A$2:$L$691,6,0) -> 19 | AB29: =(X29/D29)*77 -> 32.290323 | AC29: =(Y29/E29)*77 -> 32.865854 | AD29: =(Z29/F29)*77 -> 24.574468 | AE29: =(AA29/G29)*77 -> 35.682927 | AF29: =(AB29/AB$146)*1000 -> 7.943615 | AG29: =(AC29/AC$146)*1000 -> 7.9490501 | AH29: =(AD29/AD$146)*1000 -> 5.3207169 | AI29: =(AE29/AE$146)*1000 -> 7.6253873 | AJ29: =(AF29-H$147) -> -0.25310629 | AK29: =(AG29-I$147) -> 0.19711216 | AL29: =(AH29-J$147) -> -2.1419697 | AM29: =(AI29-K$147) -> 0.3261172 | AN29: 16 | AO29: 21 | AP29: 9 | AQ29: =VLOOKUP(A29,'Hard Stats 2013-2014'!$A$2:$L$691,8,0) -> 7 | AR29: =(AN29/D29)*77 -> 19.870968 | AS29: =(AO29/E29)*77 -> 19.719512 | AT29: =(AP29/F29)*77 -> 14.744681 | AU29: =(AQ29/G29)*77 -> 13.146341 | AV29: =((AR29/AR$146)*1000) -> 9.6446537 | AW29: =((AS29/AS$146)*1000) -> 9.8231536 | AX29: =((AT29/AT$146)*1000) -> 6.261834 | AY29: =((AU29/AU$146)*1000) -> 5.3784914 | AZ29: =(AV29-H$147) -> 1.4479324 | BA29: =(AW29-I$147) -> 2.0712156 | BB29: =(AX29-J$147) -> -1.2008526 | BC29: =(AY29-K$147) -> -1.9207786 | BD29: 192 | BE29: 276 | BF29: 151 | BG29: =VLOOKUP(A29,'Hard Stats 2013-2014'!$A$2:$L$691,9,0) -> 103 | BH29: =(BD29/D29)*77 -> 238.45161 | BI29: =(BE29/E29)*77 -> 259.17073 | BJ29: =(BF29/F29)*77 -> 247.38298 | BK29: =(BG29/G29)*77 -> 193.43902 | BL29: =(BH29/BH$146)*1000 -> 10.175105 | BM29: =(BI29/BI$146)*1000 -> 10.768622 | BN29: =(BJ29/BJ$146)*1000 -> 9.8833177 | BO29: =(BK29/BK$146)*1000 -> 7.2594523 | BP29: =(BL29-H$147) -> 1.9783834 | BQ29: =(BM29-I$147) -> 3.0166839 | BR29: =(BN29-J$147) -> 2.4206311 | BS29: =(BO29-K$147) -> -0.03981774 | BT29: =(((BP29+AZ29)+AJ29)+T29) -> 6.6628158 | BU29: =(((BQ29+BA29)+AK29)+U29) -> 12.94861 | BV29: =(((BR29+BB29)+AL29)+V29) -> -0.77918574 | BW29: =(((BS29+BC29)+AM29)+W29) -> -1.6389139 | BX29: =((BW29*0.6)+(BV29*0.3)+(BU29*0.1)) -> 0.077756921 | BZ29: =RANK(CB29,CB$27:CB$41) -> 10 | CA29: =C29 -> Marian Gaborik | CB29: =BW29 -> -1.6389139 | CC29: 3 | CD29: =VLOOKUP(CC29,BZ$27:CB$49,2,FALSE) -> Jason Spezza | CE29: =VLOOKUP(CD29,CA$27:CC$49,2,FALSE) -> 6.4079702 | CG29: =RANK(CI29,CI$75:CI$184) -> #REF! | CH29: =#REF! -> #REF! | CI29: =#REF! -> #REF! | CJ29: =CJ81+1 -> 8 | CK29: =VLOOKUP(CJ29,CG$75:CI$184,2,FALSE) -> #N/A | CL29: =VLOOKUP(CK29,CH$75:CJ$184,2,FALSE) -> #N/A | CN29: =RANK(CP29,CP$27:CP$41) -> 7 | CO29: =C29 -> Marian Gaborik | CP29: =BX29 -> 0.077756921 | CQ29: 3 | CR29: =VLOOKUP(CQ29,CN$27:CP$41,2,FALSE) -> Jason Spezza | CS29: =VLOOKUP(CR29,CO$27:CQ$41,2,FALSE) -> 9.0561547
A30: =C30 -> Claude Giroux | B30: =RIGHT(C30,LEN(C30)-FIND(" ",C30)) -> Giroux | C30: Claude Giroux | D30: 82 | E30: 77 | F30: 48 | G30: =VLOOKUP(A30,'Hard Stats 2013-2014'!$A$2:$L$691,4,0) -> 82 | H30: 25 | I30: 28 | J30: 13 | K30: =VLOOKUP(A30,'Hard Stats 2013-2014'!$A$2:$L$691,5,0) -> 28 | L30: =(H30/D30)*77 -> 23.47561 | M30: =(I30/E30)*77 -> 28 | N30: =(J30/F30)*77 -> 20.854167 | O30: =(K30/G30)*77 -> 26.292683 | P30: =(L30/(L$146))*1000 -> 10.040913 | Q30: =(M30/(M$146))*1000 -> 11.211299 | R30: =(N30/(N$146))*1000 -> 8.0678434 | S30: =(O30/(O$146))*1000 -> 9.2843359 | T30: =(P30-H$147) -> 1.8441921 | U30: =(Q30-I$147) -> 3.459361 | V30: =(R30-J$147) -> 0.60515684 | W30: =(S30-K$147) -> 1.9850658 | X30: 51 | Y30: 65 | Z30: 35 | AA30: =VLOOKUP(A30,'Hard Stats 2013-2014'!$A$2:$L$691,6,0) -> 58 | AB30: =(X30/D30)*77 -> 47.890244 | AC30: =(Y30/E30)*77 -> 65 | AD30: =(Z30/F30)*77 -> 56.145833 | AE30: =(AA30/G30)*77 -> 54.463415 | AF30: =(AB30/AB$146)*1000 -> 11.78129 | AG30: =(AC30/AC$146)*1000 -> 15.721127 | AH30: =(AD30/AD$146)*1000 -> 12.15636 | AI30: =(AE30/AE$146)*1000 -> 11.638749 | AJ30: =(AF30-H$147) -> 3.5845689 | AK30: =(AG30-I$147) -> 7.969189 | AL30: =(AH30-J$147) -> 4.6936735 | AM30: =(AI30-K$147) -> 4.3394789 | AN30: 19 | AO30: 38 | AP30: 21 | AQ30: =VLOOKUP(A30,'Hard Stats 2013-2014'!$A$2:$L$691,8,0) -> 37 | AR30: =(AN30/D30)*77 -> 17.841463 | AS30: =(AO30/E30)*77 -> 38 | AT30: =(AP30/F30)*77 -> 33.6875 | AU30: =(AQ30/G30)*77 -> 34.743902 | AV30: =((AR30/AR$146)*1000) -> 8.6596053 | AW30: =((AS30/AS$146)*1000) -> 18.929466 | AX30: =((AT30/AT$146)*1000) -> 14.306551 | AY30: =((AU30/AU$146)*1000) -> 14.214585 | AZ30: =(AV30-H$147) -> 0.46288395 | BA30: =(AW30-I$147) -> 11.177528 | BB30: =(AX30-J$147) -> 6.8438647 | BC30: =(AY30-K$147) -> 6.9153144 | BD30: 169 | BE30: 242 | BF30: 137 | BG30: =VLOOKUP(A30,'Hard Stats 2013-2014'!$A$2:$L$691,9,0) -> 223 | BH30: =(BD30/D30)*77 -> 158.69512 | BI30: =(BE30/E30)*77 -> 242 | BJ30: =(BF30/F30)*77 -> 219.77083 | BK30: =(BG30/G30)*77 -> 209.40244 | BL30: =(BH30/BH$146)*1000 -> 6.77177 | BM30: =(BI30/BI$146)*1000 -> 10.055173 | BN30: =(BJ30/BJ$146)*1000 -> 8.7801714 | BO30: =(BK30/BK$146)*1000 -> 7.8585334 | BP30: =(BL30-H$147) -> -1.4249513 | BQ30: =(BM30-I$147) -> 2.3032348 | BR30: =(BN30-J$147) -> 1.3174849 | BS30: =(BO30-K$147) -> 0.55926328 | BT30: =(((BP30+AZ30)+AJ30)+T30) -> 4.4666936 | BU30: =(((BQ30+BA30)+AK30)+U30) -> 24.909313 | BV30: =(((BR30+BB30)+AL30)+V30) -> 13.46018 | BW30: =(((BS30+BC30)+AM30)+W30) -> 13.799122 | BX30: =((BW30*0.6)+(BV30*0.3)+(BU30*0.1)) -> 14.808459 | BZ30: =RANK(CB30,CB$27:CB$41) -> 1 | CA30: =C30 -> Claude Giroux | CB30: =BW30 -> 13.799122 | CC30: =CC57+1 -> 8 | CD30: =VLOOKUP(CC30,BZ$27:CB$49,2,FALSE) -> Gustav Nyquist | CE30: =VLOOKUP(CD30,CA$27:CC$49,2,FALSE) -> 2.6635571 | CG30: =RANK(CI30,CI$27:CI$55) -> #REF! | CH30: =#REF! -> #REF! | CI30: =#REF! -> #REF! | CJ30: =CJ57+1 -> 4 | CK30: =VLOOKUP(CJ30,CG$27:CI$55,2,FALSE) -> #N/A | CL30: =VLOOKUP(CK30,CH$27:CJ$55,2,FALSE) -> #N/A | CN30: =RANK(CP30,CP$27:CP$41) -> 1 | CO30: =C30 -> Claude Giroux | CP30: =BX30 -> 14.808459 | CQ30: 4 | CR30: =VLOOKUP(CQ30,CN$27:CP$41,2,FALSE) -> Logan Couture | CS30: =VLOOKUP(CR30,CO$27:CQ$41,2,FALSE) -> 5.7350795
A31: =C31 -> Mikael Granlund | B31: =RIGHT(C31,LEN(C31)-FIND(" ",C31)) -> Granlund | C31: Mikael Granlund | D31: NA | E31: NA | F31: 27 | G31: =VLOOKUP(A31,'Hard Stats 2013-2014'!$A$2:$L$691,4,0) -> 63 | H31: NA | I31: NA | J31: 2 | K31: =VLOOKUP(A31,'Hard Stats 2013-2014'!$A$2:$L$691,5,0) -> 8 | L31: NA | M31: NA | N31: =(J31/F31)*77 -> 5.7037037 | O31: =(K31/G31)*77 -> 9.7777778 | P31: NA | Q31: NA | R31: =(N31/(N$146))*1000 -> 2.2065896 | S31: =(O31/(O$146))*1000 -> 3.4526782 | T31: NA | U31: NA | V31: =(R31-J$147) -> -5.2560969 | W31: =(S31-K$147) -> -3.8465919 | X31: NA | Y31: NA | Z31: 6 | AA31: =VLOOKUP(A31,'Hard Stats 2013-2014'!$A$2:$L$691,6,0) -> 33 | AB31: NA | AC31: NA | AD31: =(Z31/F31)*77 -> 17.111111 | AE31: =(AA31/G31)*77 -> 40.333333 | AF31: NA | AG31: NA | AH31: =(AD31/AD$146)*1000 -> 3.7047954 | AI31: =(AE31/AE$146)*1000 -> 8.6191721 | AJ31: NA | AK31: NA | AL31: =(AH31-J$147) -> -3.7578911 | AM31: =(AI31-K$147) -> 1.319902 | AN31: NA | AO31: NA | AP31: 2 | AQ31: =VLOOKUP(A31,'Hard Stats 2013-2014'!$A$2:$L$691,8,0) -> 12 | AR31: NA | AS31: NA | AT31: =(AP31/F31)*77 -> 5.7037037 | AU31: =(AQ31/G31)*77 -> 14.666667 | AV31: NA | AW31: NA | AX31: =((AT31/AT$146)*1000) -> 2.4222732 | AY31: =((AU31/AU$146)*1000) -> 6.0004938 | AZ31: NA | BA31: NA | BB31: =(AX31-J$147) -> -5.0404133 | BC31: =(AY31-K$147) -> -1.2987762 | BD31: NA | BE31: NA | BF31: 36 | BG31: =VLOOKUP(A31,'Hard Stats 2013-2014'!$A$2:$L$691,9,0) -> 104 | BH31: NA | BI31: NA | BJ31: =(BF31/F31)*77 -> 102.66667 | BK31: =(BG31/G31)*77 -> 127.11111 | BL31: NA | BM31: NA | BN31: =(BJ31/BJ$146)*1000 -> 4.1016859 | BO31: =(BK31/BK$146)*1000 -> 4.7702735 | BP31: NA | BQ31: NA | BR31: =(BN31-J$147) -> -3.3610006 | BS31: =(BO31-K$147) -> -2.5289966 | BT31: NA | BU31: NA | BV31: =(((BR31+BB31)+AL31)+V31) -> -17.415402 | BW31: =(((BS31+BC31)+AM31)+W31) -> -6.3544627 | BX31: =((BW31*0.65)+(BV31*0.35)) -> -10.225791 | BZ31: =RANK(CB31,CB$27:CB$41) -> 14 | CA31: =C31 -> Mikael Granlund | CB31: =BW31 -> -6.3544627 | CC31: 5 | CD31: =VLOOKUP(CC31,BZ$27:CB$49,2,FALSE) -> Marian Hossa | CE31: =VLOOKUP(CD31,CA$27:CC$49,2,FALSE) -> 4.3485653 | CG31: =RANK(CI31,CI$27:CI$55) -> #REF! | CH31: =#REF! -> #REF! | CI31: =#REF! -> #REF! | CJ31: =CJ30+1 -> 5 | CK31: =VLOOKUP(CJ31,CG$27:CI$55,2,FALSE) -> #N/A | CL31: =VLOOKUP(CK31,CH$27:CJ$55,2,FALSE) -> #N/A | CN31: =RANK(CP31,CP$27:CP$41) -> 15 | CO31: =C31 -> Mikael Granlund | CP31: =BX31 -> -10.225791 | CQ31: 5 | CR31: =VLOOKUP(CQ31,CN$27:CP$41,2,FALSE) -> Jakub Voracek | CS31: =VLOOKUP(CR31,CO$27:CQ$41,2,FALSE) -> 5.2910651
A32: =C32 -> Ales Hemsky | B32: =RIGHT(C32,LEN(C32)-FIND(" ",C32)) -> Hemsky | C32: Ales Hemsky | D32: 47 | E32: 69 | F32: 38 | G32: =VLOOKUP(A32,'Hard Stats 2013-2014'!$A$2:$L$691,4,0) -> 75 | H32: 14 | I32: 10 | J32: 9 | K32: =VLOOKUP(A32,'Hard Stats 2013-2014'!$A$2:$L$691,5,0) -> 13 | L32: =(H32/D32)*77 -> 22.93617 | M32: =(I32/E32)*77 -> 11.15942 | N32: =(J32/F32)*77 -> 18.236842 | O32: =(K32/G32)*77 -> 13.346667 | P32: =(L32/(L$146))*1000 -> 9.810186 | Q32: =(M32/(M$146))*1000 -> 4.4682713 | R32: =(N32/(N$146))*1000 -> 7.0552801 | S32: =(O32/(O$146))*1000 -> 4.7129057 | T32: =(P32-H$147) -> 1.6134647 | U32: =(Q32-I$147) -> -3.2836666 | V32: =(R32-J$147) -> -0.40740651 | W32: =(S32-K$147) -> -2.5863643 | X32: 28 | Y32: 26 | Z32: 11 | AA32: =VLOOKUP(A32,'Hard Stats 2013-2014'!$A$2:$L$691,6,0) -> 30 | AB32: =(X32/D32)*77 -> 45.87234 | AC32: =(Y32/E32)*77 -> 29.014493 | AD32: =(Z32/F32)*77 -> 22.289474 | AE32: =(AA32/G32)*77 -> 30.8 | AF32: =(AB32/AB$146)*1000 -> 11.284874 | AG32: =(AC32/AC$146)*1000 -> 7.0175465 | AH32: =(AD32/AD$146)*1000 -> 4.8259835 | AI32: =(AE32/AE$146)*1000 -> 6.5819132 | AJ32: =(AF32-H$147) -> 3.0881524 | AK32: =(AG32-I$147) -> -0.73439144 | AL32: =(AH32-J$147) -> -2.636703 | AM32: =(AI32-K$147) -> -0.71735685 | AN32: 9 | AO32: 9 | AP32: 9 | AQ32: =VLOOKUP(A32,'Hard Stats 2013-2014'!$A$2:$L$691,8,0) -> 13 | AR32: =(AN32/D32)*77 -> 14.744681 | AS32: =(AO32/E32)*77 -> 10.043478 | AT32: =(AP32/F32)*77 -> 18.236842 | AU32: =(AQ32/G32)*77 -> 13.346667 | AV32: =((AR32/AR$146)*1000) -> 7.1565383 | AW32: =((AS32/AS$146)*1000) -> 5.0030969 | AX32: =((AT32/AT$146)*1000) -> 7.7449 | AY32: =((AU32/AU$146)*1000) -> 5.4604494 | AZ32: =(AV32-H$147) -> -1.040183 | BA32: =(AW32-I$147) -> -2.7488411 | BB32: =(AX32-J$147) -> 0.28221339 | BC32: =(AY32-K$147) -> -1.8388207 | BD32: 100 | BE32: 137 | BF32: 82 | BG32: =VLOOKUP(A32,'Hard Stats 2013-2014'!$A$2:$L$691,9,0) -> 138 | BH32: =(BD32/D32)*77 -> 163.82979 | BI32: =(BE32/E32)*77 -> 152.88406 | BJ32: =(BF32/F32)*77 -> 166.15789 | BK32: =(BG32/G32)*77 -> 141.68 | BL32: =(BH32/BH$146)*1000 -> 6.9908743 | BM32: =(BI32/BI$146)*1000 -> 6.3523786 | BN32: =(BJ32/BJ$146)*1000 -> 6.6382548 | BO32: =(BK32/BK$146)*1000 -> 5.3170202 | BP32: =(BL32-H$147) -> -1.205847 | BQ32: =(BM32-I$147) -> -1.3995594 | BR32: =(BN32-J$147) -> -0.82443172 | BS32: =(BO32-K$147) -> -1.9822498 | BT32: =(((BP32+AZ32)+AJ32)+T32) -> 2.455587 | BU32: =(((BQ32+BA32)+AK32)+U32) -> -8.1664586 | BV32: =(((BR32+BB32)+AL32)+V32) -> -3.5863279 | BW32: =(((BS32+BC32)+AM32)+W32) -> -7.1247917 | BX32: =((BW32*0.6)+(BV32*0.3)+(BU32*0.1)) -> -6.1674192 | BZ32: =RANK(CB32,CB$27:CB$41) -> 15 | CA32: =C32 -> Ales Hemsky | CB32: =BW32 -> -7.1247917 | CC32: 6 | CD32: =VLOOKUP(CC32,BZ$27:CB$49,2,FALSE) -> Ryan Johansen | CE32: =VLOOKUP(CD32,CA$27:CC$49,2,FALSE) -> 3.8006687 | CG32: =RANK(CI32,CI$122:CI$167) -> #REF! | CH32: =#REF! -> #REF! | CI32: =#REF! -> #REF! | CJ32: =CJ167+1 -> 5 | CK32: =VLOOKUP(CJ32,CG$122:CI$167,2,FALSE) -> #N/A | CL32: =VLOOKUP(CK32,CH$122:CJ$167,2,FALSE) -> #N/A | CN32: =RANK(CP32,CP$27:CP$41) -> 13 | CO32: =C32 -> Ales Hemsky | CP32: =BX32 -> -6.1674192 | CQ32: 6 | CR32: =VLOOKUP(CQ32,CN$27:CP$41,2,FALSE) -> Marian Hossa | CS32: =VLOOKUP(CR32,CO$27:CQ$41,2,FALSE) -> 4.3837216
A33: =C33 -> Marian Hossa | B33: =RIGHT(C33,LEN(C33)-FIND(" ",C33)) -> Hossa | C33: Marian Hossa | D33: 65 | E33: 81 | F33: 40 | G33: =VLOOKUP(A33,'Hard Stats 2013-2014'!$A$2:$L$691,4,0) -> 72 | H33: 25 | I33: 29 | J33: 17 | K33: =VLOOKUP(A33,'Hard Stats 2013-2014'!$A$2:$L$691,5,0) -> 30 | L33: =(H33/D33)*77 -> 29.615385 | M33: =(I33/E33)*77 -> 27.567901 | N33: =(J33/F33)*77 -> 32.725 | O33: =(K33/G33)*77 -> 32.083333 | P33: =(L33/(L$146))*1000 -> 12.666998 | Q33: =(M33/(M$146))*1000 -> 11.038285 | R33: =(N33/(N$146))*1000 -> 12.660308 | S33: =(O33/(O$146))*1000 -> 11.3291 | T33: =(P33-H$147) -> 4.4702771 | U33: =(Q33-I$147) -> 3.2863472 | V33: =(R33-J$147) -> 5.1976215 | W33: =(S33-K$147) -> 4.0298303 | X33: 32 | Y33: 48 | Z33: 14 | AA33: =VLOOKUP(A33,'Hard Stats 2013-2014'!$A$2:$L$691,6,0) -> 30 | AB33: =(X33/D33)*77 -> 37.907692 | AC33: =(Y33/E33)*77 -> 45.62963 | AD33: =(Z33/F33)*77 -> 26.95 | AE33: =(AA33/G33)*77 -> 32.083333 | AF33: =(AB33/AB$146)*1000 -> 9.325522 | AG33: =(AC33/AC$146)*1000 -> 11.036142 | AH33: =(AD33/AD$146)*1000 -> 5.8350528 | AI33: =(AE33/AE$146)*1000 -> 6.8561596 | AJ33: =(AF33-H$147) -> 1.1288007 | AK33: =(AG33-I$147) -> 3.2842036 | AL33: =(AH33-J$147) -> -1.6276337 | AM33: =(AI33-K$147) -> -0.44311047 | AN33: 19 | AO33: 20 | AP33: 6 | AQ33: =VLOOKUP(A33,'Hard Stats 2013-2014'!$A$2:$L$691,8,0) -> 13 | AR33: =(AN33/D33)*77 -> 22.507692 | AS33: =(AO33/E33)*77 -> 19.012346 | AT33: =(AP33/F33)*77 -> 11.55 | AU33: =(AQ33/G33)*77 -> 13.902778 | AV33: =((AR33/AR$146)*1000) -> 10.924425 | AW33: =((AS33/AS$146)*1000) -> 9.470883 | AX33: =((AT33/AT$146)*1000) -> 4.9051033 | AY33: =((AU33/AU$146)*1000) -> 5.6879681 | AZ33: =(AV33-H$147) -> 2.7277038 | BA33: =(AW33-I$147) -> 1.718945 | BB33: =(AX33-J$147) -> -2.5575833 | BC33: =(AY33-K$147) -> -1.6113019 | BD33: 205 | BE33: 248 | BF33: 116 | BG33: =VLOOKUP(A33,'Hard Stats 2013-2014'!$A$2:$L$691,9,0) -> 241 | BH33: =(BD33/D33)*77 -> 242.84615 | BI33: =(BE33/E33)*77 -> 235.75309 | BJ33: =(BF33/F33)*77 -> 223.3 | BK33: =(BG33/G33)*77 -> 257.73611 | BL33: =(BH33/BH$146)*1000 -> 10.362627 | BM33: =(BI33/BI$146)*1000 -> 9.7956117 | BN33: =(BJ33/BJ$146)*1000 -> 8.9211669 | BO33: =(BK33/BK$146)*1000 -> 9.6724175 | BP33: =(BL33-H$147) -> 2.1659054 | BQ33: =(BM33-I$147) -> 2.0436737 | BR33: =(BN33-J$147) -> 1.4584803 | BS33: =(BO33-K$147) -> 2.3731475 | BT33: =(((BP33+AZ33)+AJ33)+T33) -> 10.492687 | BU33: =(((BQ33+BA33)+AK33)+U33) -> 10.333169 | BV33: =(((BR33+BB33)+AL33)+V33) -> 2.4708849 | BW33: =(((BS33+BC33)+AM33)+W33) -> 4.3485653 | BX33: =((BW33*0.6)+(BV33*0.3)+(BU33*0.1)) -> 4.3837216 | BZ33: =RANK(CB33,CB$27:CB$41) -> 5 | CA33: =C33 -> Marian Hossa | CB33: =BW33 -> 4.3485653 | CC33: 7 | CD33: =VLOOKUP(CC33,BZ$27:CB$49,2,FALSE) -> Jakub Voracek | CE33: =VLOOKUP(CD33,CA$27:CC$49,2,FALSE) -> 3.372901 | CG33: =RANK(CI33,CI$27:CI$55) -> #REF! | CH33: =#REF! -> #REF! | CI33: =#REF! -> #REF! | CJ33: =CJ82+1 -> 7 | CK33: =VLOOKUP(CJ33,CG$27:CI$55,2,FALSE) -> #N/A | CL33: =VLOOKUP(CK33,CH$27:CJ$55,2,FALSE) -> #N/A | CN33: =RANK(CP33,CP$27:CP$41) -> 6 | CO33: =C33 -> Marian Hossa | CP33: =BX33 -> 4.3837216 | CQ33: 7 | CR33: =VLOOKUP(CQ33,CN$27:CP$41,2,FALSE) -> Marian Gaborik | CS33: =VLOOKUP(CR33,CO$27:CQ$41,2,FALSE) -> 0.077756921
A34: =C34 -> Ryan Johansen | B34: =RIGHT(C34,LEN(C34)-FIND(" ",C34)) -> Johansen | C34: Ryan Johansen | D34: NA | E34: 67 | F34: 40 | G34: =VLOOKUP(A34,'Hard Stats 2013-2014'!$A$2:$L$691,4,0) -> 82 | H34: NA | I34: 9 | J34: 5 | K34: =VLOOKUP(A34,'Hard Stats 2013-2014'!$A$2:$L$691,5,0) -> 33 | L34: NA | M34: =(I34/E34)*77 -> 10.343284 | N34: =(J34/F34)*77 -> 9.625 | O34: =(K34/G34)*77 -> 30.987805 | P34: NA | Q34: =(M34/(M$146))*1000 -> 4.1414873 | R34: =(N34/(N$146))*1000 -> 3.72362 | S34: =(O34/(O$146))*1000 -> 10.942253 | T34: NA | U34: =(Q34-I$147) -> -3.6104507 | V34: =(R34-J$147) -> -3.7390665 | W34: =(S34-K$147) -> 3.642983 | X34: NA | Y34: 12 | Z34: 7 | AA34: =VLOOKUP(A34,'Hard Stats 2013-2014'!$A$2:$L$691,6,0) -> 30 | AB34: NA | AC34: =(Y34/E34)*77 -> 13.791045 | AD34: =(Z34/F34)*77 -> 13.475 | AE34: =(AA34/G34)*77 -> 28.170732 | AF34: NA | AG34: =(AC34/AC$146)*1000 -> 3.3355503 | AH34: =(AD34/AD$146)*1000 -> 2.9175264 | AI34: =(AE34/AE$146)*1000 -> 6.0200426 | AJ34: NA | AK34: =(AG34-I$147) -> -4.4163877 | AL34: =(AH34-J$147) -> -4.5451602 | AM34: =(AI34-K$147) -> -1.2792275 | AN34: NA | AO34: 4 | AP34: 1 | AQ34: =VLOOKUP(A34,'Hard Stats 2013-2014'!$A$2:$L$691,8,0) -> 20 | AR34: NA | AS34: =(AO34/E34)*77 -> 4.5970149 | AT34: =(AP34/F34)*77 -> 1.925 | AU34: =(AQ34/G34)*77 -> 18.780488 | AV34: NA | AW34: =((AS34/AS$146)*1000) -> 2.2899747 | AX34: =((AT34/AT$146)*1000) -> 0.81751722 | AY34: =((AU34/AU$146)*1000) -> 7.6835592 | AZ34: NA | BA34: =(AW34-I$147) -> -5.4619633 | BB34: =(AX34-J$147) -> -6.6451693 | BC34: =(AY34-K$147) -> 0.38428912 | BD34: NA | BE34: 99 | BF34: 84 | BG34: =VLOOKUP(A34,'Hard Stats 2013-2014'!$A$2:$L$691,9,0) -> 237 | BH34: NA | BI34: =(BE34/E34)*77 -> 113.77612 | BJ34: =(BF34/F34)*77 -> 161.7 | BK34: =(BG34/G34)*77 -> 222.54878 | BL34: NA | BM34: =(BI34/BI$146)*1000 -> 4.727432 | BN34: =(BJ34/BJ$146)*1000 -> 6.4601553 | BO34: =(BK34/BK$146)*1000 -> 8.3518942 | BP34: NA | BQ34: =(BM34-I$147) -> -3.024506 | BR34: =(BN34-J$147) -> -1.0025312 | BS34: =(BO34-K$147) -> 1.0526241 | BT34: NA | BU34: =(((BQ34+BA34)+AK34)+U34) -> -16.513308 | BV34: =(((BR34+BB34)+AL34)+V34) -> -15.931927 | BW34: =(((BS34+BC34)+AM34)+W34) -> 3.8006687 | BX34: =((BW34*0.6)+(BV34*0.3)+(BU34*0.1)) -> -4.1505077 | BZ34: =RANK(CB34,CB$27:CB$41) -> 6 | CA34: =C34 -> Ryan Johansen | CB34: =BW34 -> 3.8006687 | CC34: 8 | CD34: =VLOOKUP(CC34,BZ$27:CB$49,2,FALSE) -> Gustav Nyquist | CE34: =VLOOKUP(CD34,CA$27:CC$49,2,FALSE) -> 2.6635571 | CH34: =#REF! -> #REF! | CN34: =RANK(CP34,CP$27:CP$41) -> 11 | CO34: =C34 -> Ryan Johansen | CP34: =BX34 -> -4.1505077 | CQ34: 8 | CR34: =VLOOKUP(CQ34,CN$27:CP$41,2,FALSE) -> Patrice Bergeron | CS34: =VLOOKUP(CR34,CO$27:CQ$41,2,FALSE) -> 0.0070335435
A35: =C35 -> Andrew Ladd | B35: =RIGHT(C35,LEN(C35)-FIND(" ",C35)) -> Ladd | C35: Andrew Ladd | D35: 81 | E35: 82 | F35: 48 | G35: =VLOOKUP(A35,'Hard Stats 2013-2014'!$A$2:$L$691,4,0) -> 78 | H35: 29 | I35: 28 | J35: 18 | K35: =VLOOKUP(A35,'Hard Stats 2013-2014'!$A$2:$L$691,5,0) -> 23 | L35: =(H35/D35)*77 -> 27.567901 | M35: =(I35/E35)*77 -> 26.292683 | N35: =(J35/F35)*77 -> 28.875 | O35: =(K35/G35)*77 -> 22.705128 | P35: =(L35/(L$146))*1000 -> 11.791255 | Q35: =(M35/(M$146))*1000 -> 10.527683 | R35: =(N35/(N$146))*1000 -> 11.17086 | S35: =(O35/(O$146))*1000 -> 8.0175172 | T35: =(P35-H$147) -> 3.594534 | U35: =(Q35-I$147) -> 2.7757452 | V35: =(R35-J$147) -> 3.7081735 | W35: =(S35-K$147) -> 0.7182471 | X35: 30 | Y35: 22 | Z35: 28 | AA35: =VLOOKUP(A35,'Hard Stats 2013-2014'!$A$2:$L$691,6,0) -> 31 | AB35: =(X35/D35)*77 -> 28.518519 | AC35: =(Y35/E35)*77 -> 20.658537 | AD35: =(Z35/F35)*77 -> 44.916667 | AE35: =(AA35/G35)*77 -> 30.602564 | AF35: =(AB35/AB$146)*1000 -> 7.0157284 | AG35: =(AC35/AC$146)*1000 -> 4.9965458 | AH35: =(AD35/AD$146)*1000 -> 9.7250881 | AI35: =(AE35/AE$146)*1000 -> 6.5397215 | AJ35: =(AF35-H$147) -> -1.1809929 | AK35: =(AG35-I$147) -> -2.7553922 | AL35: =(AH35-J$147) -> 2.2624015 | AM35: =(AI35-K$147) -> -0.7595486 | AN35: 18 | AO35: 12 | AP35: 6 | AQ35: =VLOOKUP(A35,'Hard Stats 2013-2014'!$A$2:$L$691,8,0) -> 12 | AR35: =(AN35/D35)*77 -> 17.111111 | AS35: =(AO35/E35)*77 -> 11.268293 | AT35: =(AP35/F35)*77 -> 9.625 | AU35: =(AQ35/G35)*77 -> 11.846154 | AV35: =((AR35/AR$146)*1000) -> 8.3051185 | AW35: =((AS35/AS$146)*1000) -> 5.6132306 | AX35: =((AT35/AT$146)*1000) -> 4.0875861 | AY35: =((AU35/AU$146)*1000) -> 4.8465527 | AZ35: =(AV35-H$147) -> 0.10839718 | BA35: =(AW35-I$147) -> -2.1387073 | BB35: =(AX35-J$147) -> -3.3751005 | BC35: =(AY35-K$147) -> -2.4527174 | BD35: 195 | BE35: 265 | BF35: 121 | BG35: =VLOOKUP(A35,'Hard Stats 2013-2014'!$A$2:$L$691,9,0) -> 189 | BH35: =(BD35/D35)*77 -> 185.37037 | BI35: =(BE35/E35)*77 -> 248.84146 | BJ35: =(BF35/F35)*77 -> 194.10417 | BK35: =(BG35/G35)*77 -> 186.57692 | BL35: =(BH35/BH$146)*1000 -> 7.9100448 | BM35: =(BI35/BI$146)*1000 -> 10.339438 | BN35: =(BJ35/BJ$146)*1000 -> 7.7547499 | BO35: =(BK35/BK$146)*1000 -> 7.0019288 | BP35: =(BL35-H$147) -> -0.28667654 | BQ35: =(BM35-I$147) -> 2.5874997 | BR35: =(BN35-J$147) -> 0.29206338 | BS35: =(BO35-K$147) -> -0.29734125 | BT35: =(((BP35+AZ35)+AJ35)+T35) -> 2.2352617 | BU35: =(((BQ35+BA35)+AK35)+U35) -> 0.46914541 | BV35: =(((BR35+BB35)+AL35)+V35) -> 2.8875379 | BW35: =(((BS35+BC35)+AM35)+W35) -> -2.7913601 | BX35: =((BW35*0.6)+(BV35*0.3)+(BU35*0.1)) -> -0.76164015 | BZ35: =RANK(CB35,CB$27:CB$41) -> 11 | CA35: =C35 -> Andrew Ladd | CB35: =BW35 -> -2.7913601 | CC35: 9 | CD35: =VLOOKUP(CC35,BZ$27:CB$49,2,FALSE) -> Patrice Bergeron | CE35: =VLOOKUP(CD35,CA$27:CC$49,2,FALSE) -> 0.69004766 | CG35: =RANK(CI35,CI$27:CI$55) -> #REF! | CH35: =#REF! -> #REF! | CI35: =#REF! -> #REF! | CJ35: =CJ124+1 -> 9 | CK35: =VLOOKUP(CJ35,CG$27:CI$55,2,FALSE) -> #N/A | CL35: =VLOOKUP(CK35,CH$27:CJ$55,2,FALSE) -> #N/A | CN35: =RANK(CP35,CP$27:CP$41) -> 9 | CO35: =C35 -> Andrew Ladd | CP35: =BX35 -> -0.76164015 | CQ35: 9 | CR35: =VLOOKUP(CQ35,CN$27:CP$41,2,FALSE) -> Andrew Ladd | CS35: =VLOOKUP(CR35,CO$27:CQ$41,2,FALSE) -> -0.76164015
A36: =C36 -> Gustav Nyquist | B36: =RIGHT(C36,LEN(C36)-FIND(" ",C36)) -> Nyquist | C36: Gustav Nyquist | D36: NA | E36: 18 | F36: 22 | G36: =VLOOKUP(A36,'Hard Stats 2013-2014'!$A$2:$L$691,4,0) -> 57 | H36: NA | I36: 1 | J36: 3 | K36: =VLOOKUP(A36,'Hard Stats 2013-2014'!$A$2:$L$691,5,0) -> 28 | L36: NA | M36: =(I36/E36)*77 -> 4.2777778 | N36: =(J36/F36)*77 -> 10.5 | O36: =(K36/G36)*77 -> 37.824561 | P36: NA | Q36: =(M36/(M$146))*1000 -> 1.7128373 | R36: =(N36/(N$146))*1000 -> 4.0621309 | S36: =(O36/(O$146))*1000 -> 13.356413 | T36: NA | U36: =(Q36-I$147) -> -6.0391006 | V36: =(R36-J$147) -> -3.4005556 | W36: =(S36-K$147) -> 6.057143 | X36: NA | Y36: 6 | Z36: 3 | AA36: =VLOOKUP(A36,'Hard Stats 2013-2014'!$A$2:$L$691,6,0) -> 20 | AB36: NA | AC36: =(Y36/E36)*77 -> 25.666667 | AD36: =(Z36/F36)*77 -> 10.5 | AE36: =(AA36/G36)*77 -> 27.017544 | AF36: NA | AG36: =(AC36/AC$146)*1000 -> 6.2078296 | AH36: =(AD36/AD$146)*1000 -> 2.2733972 | AI36: =(AE36/AE$146)*1000 -> 5.7736081 | AJ36: NA | AK36: =(AG36-I$147) -> -1.5441084 | AL36: =(AH36-J$147) -> -5.1892894 | AM36: =(AI36-K$147) -> -1.525662 | AN36: NA | AO36: 0 | AP36: 2 | AQ36: =VLOOKUP(A36,'Hard Stats 2013-2014'!$A$2:$L$691,8,0) -> 9 | AR36: NA | AS36: =(AO36/E36)*77 -> 0 | AT36: =(AP36/F36)*77 -> 7 | AU36: =(AQ36/G36)*77 -> 12.157895 | AV36: NA | AW36: =((AS36/AS$146)*1000) -> 0 | AX36: =((AT36/AT$146)*1000) -> 2.9727899 | AY36: =((AU36/AU$146)*1000) -> 4.9740936 | AZ36: NA | BA36: =(AW36-I$147) -> -7.751938 | BB36: =(AX36-J$147) -> -4.4898967 | BC36: =(AY36-K$147) -> -2.3251765 | BD36: NA | BE36: 19 | BF36: 46 | BG36: =VLOOKUP(A36,'Hard Stats 2013-2014'!$A$2:$L$691,9,0) -> 153 | BH36: NA | BI36: =(BE36/E36)*77 -> 81.277778 | BJ36: =(BF36/F36)*77 -> 161 | BK36: =(BG36/G36)*77 -> 206.68421 | BL36: NA | BM36: =(BI36/BI$146)*1000 -> 3.3771161 | BN36: =(BJ36/BJ$146)*1000 -> 6.4321893 | BO36: =(BK36/BK$146)*1000 -> 7.7565227 | BP36: NA | BQ36: =(BM36-I$147) -> -4.3748219 | BR36: =(BN36-J$147) -> -1.0304973 | BS36: =(BO36-K$147) -> 0.45725258 | BT36: NA | BU36: =(((BQ36+BA36)+AK36)+U36) -> -19.709969 | BV36: =(((BR36+BB36)+AL36)+V36) -> -14.110239 | BW36: =(((BS36+BC36)+AM36)+W36) -> 2.6635571 | BX36: =((BW36*0.6)+(BV36*0.3)+(BU36*0.1)) -> -4.6059343 | BZ36: =RANK(CB36,CB$27:CB$41) -> 8 | CA36: =C36 -> Gustav Nyquist | CB36: =BW36 -> 2.6635571 | CC36: 10 | CD36: =VLOOKUP(CC36,BZ$27:CB$49,2,FALSE) -> Marian Gaborik | CE36: =VLOOKUP(CD36,CA$27:CC$49,2,FALSE) -> -1.6389139 | CG36: =RANK(CI36,CI$27:CI$55) -> #REF! | CH36: =#REF! -> #REF! | CI36: =#REF! -> #REF! | CJ36: =CJ35+1 -> 10 | CK36: =VLOOKUP(CJ36,CG$27:CI$55,2,FALSE) -> #N/A | CL36: =VLOOKUP(CK36,CH$27:CJ$55,2,FALSE) -> #N/A | CN36: =RANK(CP36,CP$27:CP$41) -> 12 | CO36: =C36 -> Gustav Nyquist | CP36: =BX36 -> -4.6059343 | CQ36: 10 | CR36: =VLOOKUP(CQ36,CN$27:CP$41,2,FALSE) -> Henrik Sedin | CS36: =VLOOKUP(CR36,CO$27:CQ$41,2,FALSE) -> -0.90164425
A37: =C37 -> Jaden Schwartz | B37: =RIGHT(C37,LEN(C37)-FIND(" ",C37)) -> Schwartz | C37: Jaden Schwartz | D37: NA | E37: 7 | F37: 45 | G37: =VLOOKUP(A37,'Hard Stats 2013-2014'!$A$2:$L$691,4,0) -> 80 | H37: NA | I37: 2 | J37: 7 | K37: =VLOOKUP(A37,'Hard Stats 2013-2014'!$A$2:$L$691,5,0) -> 25 | L37: NA | M37: =(I37/E37)*77 -> 22 | N37: =(J37/F37)*77 -> 11.977778 | O37: =(K37/G37)*77 -> 24.0625 | P37: NA | Q37: =(M37/(M$146))*1000 -> 8.8088778 | R37: =(N37/(N$146))*1000 -> 4.6338383 | S37: =(O37/(O$146))*1000 -> 8.4968253 | T37: NA | U37: =(Q37-I$147) -> 1.0569398 | V37: =(R37-J$147) -> -2.8288483 | W37: =(S37-K$147) -> 1.1975552 | X37: NA | Y37: 1 | Z37: 6 | AA37: =VLOOKUP(A37,'Hard Stats 2013-2014'!$A$2:$L$691,6,0) -> 31 | AB37: NA | AC37: =(Y37/E37)*77 -> 11 | AD37: =(Z37/F37)*77 -> 10.266667 | AE37: =(AA37/G37)*77 -> 29.8375 | AF37: NA | AG37: =(AC37/AC$146)*1000 -> 2.6604984 | AH37: =(AD37/AD$146)*1000 -> 2.2228773 | AI37: =(AE37/AE$146)*1000 -> 6.3762284 | AJ37: NA | AK37: =(AG37-I$147) -> -5.0914396 | AL37: =(AH37-J$147) -> -5.2398093 | AM37: =(AI37-K$147) -> -0.92304164 | AN37: NA | AO37: 1 | AP37: 0 | AQ37: =VLOOKUP(A37,'Hard Stats 2013-2014'!$A$2:$L$691,8,0) -> 10 | AR37: NA | AS37: =(AO37/E37)*77 -> 11 | AT37: =(AP37/F37)*77 -> 0 | AU37: =(AQ37/G37)*77 -> 9.625 | AV37: NA | AW37: =((AS37/AS$146)*1000) -> 5.4795823 | AX37: =((AT37/AT$146)*1000) -> 0 | AY37: =((AU37/AU$146)*1000) -> 3.9378241 | AZ37: NA | BA37: =(AW37-I$147) -> -2.2723557 | BB37: =(AX37-J$147) -> -7.4626866 | BC37: =(AY37-K$147) -> -3.361446 | BD37: NA | BE37: 6 | BF37: 50 | BG37: =VLOOKUP(A37,'Hard Stats 2013-2014'!$A$2:$L$691,9,0) -> 188 | BH37: NA | BI37: =(BE37/E37)*77 -> 66 | BJ37: =(BF37/F37)*77 -> 85.555556 | BK37: =(BG37/G37)*77 -> 180.95 | BL37: NA | BM37: =(BI37/BI$146)*1000 -> 2.7423199 | BN37: =(BJ37/BJ$146)*1000 -> 3.4180716 | BO37: =(BK37/BK$146)*1000 -> 6.7907595 | BP37: NA | BQ37: =(BM37-I$147) -> -5.0096181 | BR37: =(BN37-J$147) -> -4.044615 | BS37: =(BO37-K$147) -> -0.50851054 | BT37: NA | BU37: =(((BQ37+BA37)+AK37)+U37) -> -11.316474 | BV37: =(((BR37+BB37)+AL37)+V37) -> -19.575959 | BW37: =(((BS37+BC37)+AM37)+W37) -> -3.595443 | BX37: =((BW37*0.6)+(BV37*0.3)+(BU37*0.1)) -> -9.1617009 | BZ37: =RANK(CB37,CB$27:CB$41) -> 12 | CA37: =C37 -> Jaden Schwartz | CB37: =BW37 -> -3.595443 | CC37: 11 | CD37: =VLOOKUP(CC37,BZ$27:CB$49,2,FALSE) -> Andrew Ladd | CE37: =VLOOKUP(CD37,CA$27:CC$49,2,FALSE) -> -2.7913601 | CH37: =#REF! -> #REF! | CN37: =RANK(CP37,CP$27:CP$41) -> 14 | CO37: =C37 -> Jaden Schwartz | CP37: =BX37 -> -9.1617009 | CQ37: 11 | CR37: =VLOOKUP(CQ37,CN$27:CP$41,2,FALSE) -> Ryan Johansen | CS37: =VLOOKUP(CR37,CO$27:CQ$41,2,FALSE) -> -4.1505077
A38: =C38 -> Henrik Sedin | B38: =RIGHT(C38,LEN(C38)-FIND(" ",C38)) -> Sedin | C38: Henrik Sedin | D38: 82 | E38: 82 | F38: 48 | G38: =VLOOKUP(A38,'Hard Stats 2013-2014'!$A$2:$L$691,4,0) -> 70 | H38: 19 | I38: 14 | J38: 11 | K38: =VLOOKUP(A38,'Hard Stats 2013-2014'!$A$2:$L$691,5,0) -> 11 | L38: =(H38/D38)*77 -> 17.841463 | M38: =(I38/E38)*77 -> 13.146341 | N38: =(J38/F38)*77 -> 17.645833 | O38: =(K38/G38)*77 -> 12.1 | P38: =(L38/(L$146))*1000 -> 7.6310942 | Q38: =(M38/(M$146))*1000 -> 5.2638416 | R38: =(N38/(N$146))*1000 -> 6.8266367 | S38: =(O38/(O$146))*1000 -> 4.2726893 | T38: =(P38-H$147) -> -0.56562715 | U38: =(Q38-I$147) -> -2.4880964 | V38: =(R38-J$147) -> -0.63604984 | W38: =(S38-K$147) -> -3.0265808 | X38: 75 | Y38: 67 | Z38: 34 | AA38: =VLOOKUP(A38,'Hard Stats 2013-2014'!$A$2:$L$691,6,0) -> 39 | AB38: =(X38/D38)*77 -> 70.426829 | AC38: =(Y38/E38)*77 -> 62.914634 | AD38: =(Z38/F38)*77 -> 54.541667 | AE38: =(AA38/G38)*77 -> 42.9 | AF38: =(AB38/AB$146)*1000 -> 17.325427 | AG38: =(AC38/AC$146)*1000 -> 15.216753 | AH38: =(AD38/AD$146)*1000 -> 11.809035 | AI38: =(AE38/AE$146)*1000 -> 9.1676648 | AJ38: =(AF38-H$147) -> 9.1287055 | AK38: =(AG38-I$147) -> 7.4648151 | AL38: =(AH38-J$147) -> 4.3463489 | AM38: =(AI38-K$147) -> 1.8683948 | AN38: 35 | AO38: 27 | AP38: 13 | AQ38: =VLOOKUP(A38,'Hard Stats 2013-2014'!$A$2:$L$691,8,0) -> 18 | AR38: =(AN38/D38)*77 -> 32.865854 | AS38: =(AO38/E38)*77 -> 25.353659 | AT38: =(AP38/F38)*77 -> 20.854167 | AU38: =(AQ38/G38)*77 -> 19.8 | AV38: =((AR38/AR$146)*1000) -> 15.951904 | AW38: =((AS38/AS$146)*1000) -> 12.629769 | AX38: =((AT38/AT$146)*1000) -> 8.8564365 | AY38: =((AU38/AU$146)*1000) -> 8.1006667 | AZ38: =(AV38-H$147) -> 7.7551831 | BA38: =(AW38-I$147) -> 4.8778309 | BB38: =(AX38-J$147) -> 1.39375 | BC38: =(AY38-K$147) -> 0.80139662 | BD38: 157 | BE38: 113 | BF38: 70 | BG38: =VLOOKUP(A38,'Hard Stats 2013-2014'!$A$2:$L$691,9,0) -> 97 | BH38: =(BD38/D38)*77 -> 147.42683 | BI38: =(BE38/E38)*77 -> 106.10976 | BJ38: =(BF38/F38)*77 -> 112.29167 | BK38: =(BG38/G38)*77 -> 106.7 | BL38: =(BH38/BH$146)*1000 -> 6.2909343 | BM38: =(BI38/BI$146)*1000 -> 4.4088923 | BN38: =(BJ38/BJ$146)*1000 -> 4.486219 | BO38: =(BK38/BK$146)*1000 -> 4.0042777 | BP38: =(BL38-H$147) -> -1.905787 | BQ38: =(BM38-I$147) -> -3.3430457 | BR38: =(BN38-J$147) -> -2.9764676 | BS38: =(BO38-K$147) -> -3.2949924 | BT38: =(((BP38+AZ38)+AJ38)+T38) -> 14.412474 | BU38: =(((BQ38+BA38)+AK38)+U38) -> 6.511504 | BV38: =(((BR38+BB38)+AL38)+V38) -> 2.1275815 | BW38: =(((BS38+BC38)+AM38)+W38) -> -3.6517818 | BX38: =((BW38*0.6)+(BV38*0.3)+(BU38*0.1)) -> -0.90164425 | BZ38: =RANK(CB38,CB$27:CB$41) -> 13 | CA38: =C38 -> Henrik Sedin | CB38: =BW38 -> -3.6517818 | CC38: 12 | CD38: =VLOOKUP(CC38,BZ$27:CB$49,2,FALSE) -> Jaden Schwartz | CE38: =VLOOKUP(CD38,CA$27:CC$49,2,FALSE) -> -3.595443 | CG38: =RANK(CI38,CI$75:CI$184) -> #REF! | CH38: =#REF! -> #REF! | CI38: =#REF! -> #REF! | CJ38: =CJ56+1 -> 10 | CK38: =VLOOKUP(CJ38,CG$75:CI$184,2,FALSE) -> #N/A | CL38: =VLOOKUP(CK38,CH$75:CJ$184,2,FALSE) -> #N/A | CN38: =RANK(CP38,CP$27:CP$41) -> 10 | CO38: =C38 -> Henrik Sedin | CP38: =BX38 -> -0.90164425 | CQ38: 12 | CR38: =VLOOKUP(CQ38,CN$27:CP$41,2,FALSE) -> Gustav Nyquist | CS38: =VLOOKUP(CR38,CO$27:CQ$41,2,FALSE) -> -4.6059343
A39: =C39 -> Jason Spezza | B39: =RIGHT(C39,LEN(C39)-FIND(" ",C39)) -> Spezza | C39: Jason Spezza | D39: 62 | E39: 80 | F39: 5 | G39: =VLOOKUP(A39,'Hard Stats 2013-2014'!$A$2:$L$691,4,0) -> 75 | H39: 21 | I39: 34 | J39: 2 | K39: =VLOOKUP(A39,'Hard Stats 2013-2014'!$A$2:$L$691,5,0) -> 23 | L39: =(H39/D39)*77 -> 26.080645 | M39: =(I39/E39)*77 -> 32.725 | N39: =(J39/F39)*77 -> 30.8 | O39: =(K39/G39)*77 -> 23.613333 | P39: =(L39/(L$146))*1000 -> 11.155131 | Q39: =(M39/(M$146))*1000 -> 13.103206 | R39: =(N39/(N$146))*1000 -> 11.915584 | S39: =(O39/(O$146))*1000 -> 8.3382179 | T39: =(P39-H$147) -> 2.9584095 | U39: =(Q39-I$147) -> 5.3512677 | V39: =(R39-J$147) -> 4.4528975 | W39: =(S39-K$147) -> 1.0389478 | X39: 36 | Y39: 50 | Z39: 3 | AA39: =VLOOKUP(A39,'Hard Stats 2013-2014'!$A$2:$L$691,6,0) -> 43 | AB39: =(X39/D39)*77 -> 44.709677 | AC39: =(Y39/E39)*77 -> 48.125 | AD39: =(Z39/F39)*77 -> 46.2 | AE39: =(AA39/G39)*77 -> 44.146667 | AF39: =(AB39/AB$146)*1000 -> 10.998852 | AG39: =(AC39/AC$146)*1000 -> 11.639681 | AH39: =(AD39/AD$146)*1000 -> 10.002948 | AI39: =(AE39/AE$146)*1000 -> 9.4340756 | AJ39: =(AF39-H$147) -> 2.8021303 | AK39: =(AG39-I$147) -> 3.8877426 | AL39: =(AH39-J$147) -> 2.5402611 | AM39: =(AI39-K$147) -> 2.1348055 | AN39: 17 | AO39: 24 | AP39: 2 | AQ39: =VLOOKUP(A39,'Hard Stats 2013-2014'!$A$2:$L$691,8,0) -> 22 | AR39: =(AN39/D39)*77 -> 21.112903 | AS39: =(AO39/E39)*77 -> 23.1 | AT39: =(AP39/F39)*77 -> 30.8 | AU39: =(AQ39/G39)*77 -> 22.586667 | AV39: =((AR39/AR$146)*1000) -> 10.247445 | AW39: =((AS39/AS$146)*1000) -> 11.507123 | AX39: =((AT39/AT$146)*1000) -> 13.080275 | AY39: =((AU39/AU$146)*1000) -> 9.2407605 | AZ39: =(AV39-H$147) -> 2.0507233 | BA39: =(AW39-I$147) -> 3.7551848 | BB39: =(AX39-J$147) -> 5.6175889 | BC39: =(AY39-K$147) -> 1.9414904 | BD39: 188 | BE39: 232 | BF39: 12 | BG39: =VLOOKUP(A39,'Hard Stats 2013-2014'!$A$2:$L$691,9,0) -> 223 | BH39: =(BD39/D39)*77 -> 233.48387 | BI39: =(BE39/E39)*77 -> 223.3 | BJ39: =(BF39/F39)*77 -> 184.8 | BK39: =(BG39/G39)*77 -> 228.94667 | BL39: =(BH39/BH$146)*1000 -> 9.9631234 | BM39: =(BI39/BI$146)*1000 -> 9.2781822 | BN39: =(BJ39/BJ$146)*1000 -> 7.3830347 | BO39: =(BK39/BK$146)*1000 -> 8.5919965 | BP39: =(BL39-H$147) -> 1.7664021 | BQ39: =(BM39-I$147) -> 1.5262442 | BR39: =(BN39-J$147) -> -0.079651908 | BS39: =(BO39-K$147) -> 1.2927264 | BT39: =(((BP39+AZ39)+AJ39)+T39) -> 9.5776652 | BU39: =(((BQ39+BA39)+AK39)+U39) -> 14.520439 | BV39: =(((BR39+BB39)+AL39)+V39) -> 12.531096 | BW39: =(((BS39+BC39)+AM39)+W39) -> 6.4079702 | BX39: =((BW39*0.6)+(BV39*0.3)+(BU39*0.1)) -> 9.0561547 | BZ39: =RANK(CB39,CB$27:CB$41) -> 3 | CA39: =C39 -> Jason Spezza | CB39: =BW39 -> 6.4079702 | CC39: 13 | CD39: =VLOOKUP(CC39,BZ$27:CB$49,2,FALSE) -> Henrik Sedin | CE39: =VLOOKUP(CD39,CA$27:CC$49,2,FALSE) -> -3.6517818 | CH39: =#REF! -> #REF! | CN39: =RANK(CP39,CP$27:CP$41) -> 3 | CO39: =C39 -> Jason Spezza | CP39: =BX39 -> 9.0561547 | CQ39: 13 | CR39: =VLOOKUP(CQ39,CN$27:CP$41,2,FALSE) -> Ales Hemsky | CS39: =VLOOKUP(CR39,CO$27:CQ$41,2,FALSE) -> -6.1674192
A40: =C40 -> Jakub Voracek | B40: =RIGHT(C40,LEN(C40)-FIND(" ",C40)) -> Voracek | C40: Jakub Voracek | D40: 80 | E40: 78 | F40: 48 | G40: =VLOOKUP(A40,'Hard Stats 2013-2014'!$A$2:$L$691,4,0) -> 82 | H40: 14 | I40: 18 | J40: 22 | K40: =VLOOKUP(A40,'Hard Stats 2013-2014'!$A$2:$L$691,5,0) -> 23 | L40: =(H40/D40)*77 -> 13.475 | M40: =(I40/E40)*77 -> 17.769231 | N40: =(J40/F40)*77 -> 35.291667 | O40: =(K40/G40)*77 -> 21.597561 | P40: =(L40/(L$146))*1000 -> 5.7634843 | Q40: =(M40/(M$146))*1000 -> 7.1148628 | R40: =(N40/(N$146))*1000 -> 13.653273 | S40: =(O40/(O$146))*1000 -> 7.6264188 | T40: =(P40-H$147) -> -2.433237 | U40: =(Q40-I$147) -> -0.63707515 | V40: =(R40-J$147) -> 6.1905869 | W40: =(S40-K$147) -> 0.3271487 | X40: 32 | Y40: 31 | Z40: 24 | AA40: =VLOOKUP(A40,'Hard Stats 2013-2014'!$A$2:$L$691,6,0) -> 39 | AB40: =(X40/D40)*77 -> 30.8 | AC40: =(Y40/E40)*77 -> 30.602564 | AD40: =(Z40/F40)*77 -> 38.5 | AE40: =(AA40/G40)*77 -> 36.621951 | AF40: =(AB40/AB$146)*1000 -> 7.5769866 | AG40: =(AC40/AC$146)*1000 -> 7.401643 | AH40: =(AD40/AD$146)*1000 -> 8.3357898 | AI40: =(AE40/AE$146)*1000 -> 7.8260554 | AJ40: =(AF40-H$147) -> -0.61973467 | AK40: =(AG40-I$147) -> -0.35029496 | AL40: =(AH40-J$147) -> 0.87310319 | AM40: =(AI40-K$147) -> 0.52678528 | AN40: 8 | AO40: 11 | AP40: 17 | AQ40: =VLOOKUP(A40,'Hard Stats 2013-2014'!$A$2:$L$691,8,0) -> 23 | AR40: =(AN40/D40)*77 -> 7.7 | AS40: =(AO40/E40)*77 -> 10.858974 | AT40: =(AP40/F40)*77 -> 27.270833 | AU40: =(AQ40/G40)*77 -> 21.597561 | AV40: =((AR40/AR$146)*1000) -> 3.7373033 | AW40: =((AS40/AS$146)*1000) -> 5.4093312 | AX40: =((AT40/AT$146)*1000) -> 11.581494 | AY40: =((AU40/AU$146)*1000) -> 8.8360931 | AZ40: =(AV40-H$147) -> -4.459418 | BA40: =(AW40-I$147) -> -2.3426068 | BB40: =(AX40-J$147) -> 4.1188073 | BC40: =(AY40-K$147) -> 1.536823 | BD40: 183 | BE40: 190 | BF40: 129 | BG40: =VLOOKUP(A40,'Hard Stats 2013-2014'!$A$2:$L$691,9,0) -> 235 | BH40: =(BD40/D40)*77 -> 176.1375 | BI40: =(BE40/E40)*77 -> 187.5641 | BJ40: =(BF40/F40)*77 -> 206.9375 | BK40: =(BG40/G40)*77 -> 220.67073 | BL40: =(BH40/BH$146)*1000 -> 7.5160637 | BM40: =(BI40/BI$146)*1000 -> 7.7933449 | BN40: =(BJ40/BJ$146)*1000 -> 8.2674607 | BO40: =(BK40/BK$146)*1000 -> 8.2814141 | BP40: =(BL40-H$147) -> -0.68065762 | BQ40: =(BM40-I$147) -> 0.041406923 | BR40: =(BN40-J$147) -> 0.80477412 | BS40: =(BO40-K$147) -> 0.982144 | BT40: =(((BP40+AZ40)+AJ40)+T40) -> -8.1930473 | BU40: =(((BQ40+BA40)+AK40)+U40) -> -3.2885699 | BV40: =(((BR40+BB40)+AL40)+V40) -> 11.987272 | BW40: =(((BS40+BC40)+AM40)+W40) -> 3.372901 | BX40: =((BW40*0.6)+(BV40*0.3)+(BU40*0.1)) -> 5.2910651 | BZ40: =RANK(CB40,CB$27:CB$41) -> 7 | CA40: =C40 -> Jakub Voracek | CB40: =BW40 -> 3.372901 | CC40: 14 | CD40: =VLOOKUP(CC40,BZ$27:CB$49,2,FALSE) -> Mikael Granlund | CE40: =VLOOKUP(CD40,CA$27:CC$49,2,FALSE) -> -6.3544627 | CH40: =#REF! -> #REF! | CN40: =RANK(CP40,CP$27:CP$41) -> 5 | CO40: =C40 -> Jakub Voracek | CP40: =BX40 -> 5.2910651 | CQ40: 14 | CR40: =VLOOKUP(CQ40,CN$27:CP$41,2,FALSE) -> Jaden Schwartz | CS40: =VLOOKUP(CR40,CO$27:CQ$41,2,FALSE) -> -9.1617009
A41: =C41 -> Henrik Zetterberg | B41: =RIGHT(C41,LEN(C41)-FIND(" ",C41)) -> Zetterberg | C41: Henrik Zetterberg | D41: 80 | E41: 82 | F41: 46 | G41: =VLOOKUP(A41,'Hard Stats 2013-2014'!$A$2:$L$691,4,0) -> 45 | H41: 24 | I41: 22 | J41: 11 | K41: =VLOOKUP(A41,'Hard Stats 2013-2014'!$A$2:$L$691,5,0) -> 16 | L41: =(H41/D41)*77 -> 23.1 | M41: =(I41/E41)*77 -> 20.658537 | N41: =(J41/F41)*77 -> 18.413043 | O41: =(K41/G41)*77 -> 27.377778 | P41: =(L41/(L$146))*1000 -> 9.8802588 | Q41: =(M41/(M$146))*1000 -> 8.2717511 | R41: =(N41/(N$146))*1000 -> 7.123447 | S41: =(O41/(O$146))*1000 -> 9.667499 | T41: =(P41-H$147) -> 1.6835374 | U41: =(Q41-I$147) -> 0.51981312 | V41: =(R41-J$147) -> -0.33923955 | W41: =(S41-K$147) -> 2.3682289 | X41: 56 | Y41: 47 | Z41: 37 | AA41: =VLOOKUP(A41,'Hard Stats 2013-2014'!$A$2:$L$691,6,0) -> 32 | AB41: =(X41/D41)*77 -> 53.9 | AC41: =(Y41/E41)*77 -> 44.134146 | AD41: =(Z41/F41)*77 -> 61.934783 | AE41: =(AA41/G41)*77 -> 54.755556 | AF41: =(AB41/AB$146)*1000 -> 13.259727 | AG41: =(AC41/AC$146)*1000 -> 10.674439 | AH41: =(AD41/AD$146)*1000 -> 13.409749 | AI41: =(AE41/AE$146)*1000 -> 11.701179 | AJ41: =(AF41-H$147) -> 5.0630053 | AK41: =(AG41-I$147) -> 2.9225008 | AL41: =(AH41-J$147) -> 5.9470622 | AM41: =(AI41-K$147) -> 4.401909 | AN41: 30 | AO41: 14 | AP41: 23 | AQ41: =VLOOKUP(A41,'Hard Stats 2013-2014'!$A$2:$L$691,8,0) -> 17 | AR41: =(AN41/D41)*77 -> 28.875 | AS41: =(AO41/E41)*77 -> 13.146341 | AT41: =(AP41/F41)*77 -> 38.5 | AU41: =(AQ41/G41)*77 -> 29.088889 | AV41: =((AR41/AR$146)*1000) -> 14.014887 | AW41: =((AS41/AS$146)*1000) -> 6.5487691 | AX41: =((AT41/AT$146)*1000) -> 16.350344 | AY41: =((AU41/AU$146)*1000) -> 11.900979 | AZ41: =(AV41-H$147) -> 5.8181661 | BA41: =(AW41-I$147) -> -1.2031689 | BB41: =(AX41-J$147) -> 8.8876578 | BC41: =(AY41-K$147) -> 4.6017094 | BD41: 306 | BE41: 267 | BF41: 173 | BG41: =VLOOKUP(A41,'Hard Stats 2013-2014'!$A$2:$L$691,9,0) -> 151 | BH41: =(BD41/D41)*77 -> 294.525 | BI41: =(BE41/E41)*77 -> 250.71951 | BJ41: =(BF41/F41)*77 -> 289.58696 | BK41: =(BG41/G41)*77 -> 258.37778 | BL41: =(BH41/BH$146)*1000 -> 12.567844 | BM41: =(BI41/BI$146)*1000 -> 10.417471 | BN41: =(BJ41/BJ$146)*1000 -> 11.569429 | BO41: =(BK41/BK$146)*1000 -> 9.6964983 | BP41: =(BL41-H$147) -> 4.3711229 | BQ41: =(BM41-I$147) -> 2.6655332 | BR41: =(BN41-J$147) -> 4.1067427 | BS41: =(BO41-K$147) -> 2.3972282 | BT41: =(((BP41+AZ41)+AJ41)+T41) -> 16.935832 | BU41: =(((BQ41+BA41)+AK41)+U41) -> 4.9046782 | BV41: =(((BR41+BB41)+AL41)+V41) -> 18.602223 | BW41: =(((BS41+BC41)+AM41)+W41) -> 13.769075 | BX41: =((BW41*0.6)+(BV41*0.3)+(BU41*0.1)) -> 14.33258 | BZ41: =RANK(CB41,CB$27:CB$41) -> 2 | CA41: =C41 -> Henrik Zetterberg | CB41: =BW41 -> 13.769075 | CC41: 15 | CD41: =VLOOKUP(CC41,BZ$27:CB$49,2,FALSE) -> Ales Hemsky | CE41: =VLOOKUP(CD41,CA$27:CC$49,2,FALSE) -> -7.1247917 | CG41: =RANK(CI41,CI$6:CI$178) -> #REF! | CH41: =#REF! -> #REF! | CI41: =#REF! -> #REF! | CJ41: =CJ6+1 -> 2 | CK41: =VLOOKUP(CJ41,CG$6:CI$178,2,FALSE) -> #N/A | CL41: =VLOOKUP(CK41,CH$6:CJ$178,2,FALSE) -> #N/A | CN41: =RANK(CP41,CP$27:CP$41) -> 2 | CO41: =C41 -> Henrik Zetterberg | CP41: =BX41 -> 14.33258 | CQ41: 15 | CR41: =VLOOKUP(CQ41,CN$27:CP$41,2,FALSE) -> Mikael Granlund | CS41: =VLOOKUP(CR41,CO$27:CQ$41,2,FALSE) -> -10.225791
A42: =C42 -> Tyson Barrie | B42: =RIGHT(C42,LEN(C42)-FIND(" ",C42)) -> Barrie | C42: Tyson Barrie | D42: NA | E42: 10 | F42: 32 | G42: =VLOOKUP(A42,'Hard Stats 2013-2014'!$A$2:$L$691,4,0) -> 64 | H42: NA | I42: 0 | J42: 2 | K42: =VLOOKUP(A42,'Hard Stats 2013-2014'!$A$2:$L$691,5,0) -> 13 | L42: NA | M42: =(I42/E42)*77 -> 0 | N42: =(J42/F42)*77 -> 4.8125 | O42: =(K42/G42)*77 -> 15.640625 | P42: NA | Q42: =(M42/(M$146))*1000 -> 0 | R42: =(N42/(N$146))*1000 -> 1.86181 | S42: =(O42/(O$146))*1000 -> 5.5229364 | T42: NA | U42: =(Q42-I$147) -> -7.751938 | V42: =(R42-J$147) -> -5.6008766 | W42: =(S42-K$147) -> -1.7763336 | X42: NA | Y42: 0 | Z42: 11 | AA42: =VLOOKUP(A42,'Hard Stats 2013-2014'!$A$2:$L$691,6,0) -> 25 | AB42: NA | AC42: =(Y42/E42)*77 -> 0 | AD42: =(Z42/F42)*77 -> 26.46875 | AE42: =(AA42/G42)*77 -> 30.078125 | AF42: NA | AG42: =(AC42/AC$146)*1000 -> 0 | AH42: =(AD42/AD$146)*1000 -> 5.7308555 | AI42: =(AE42/AE$146)*1000 -> 6.4276496 | AJ42: NA | AK42: =(AG42-I$147) -> -7.751938 | AL42: =(AH42-J$147) -> -1.7318311 | AM42: =(AI42-K$147) -> -0.87162044 | AN42: NA | AO42: 0 | AP42: 5 | AQ42: =VLOOKUP(A42,'Hard Stats 2013-2014'!$A$2:$L$691,8,0) -> 10 | AR42: NA | AS42: =(AO42/E42)*77 -> 0 | AT42: =(AP42/F42)*77 -> 12.03125 | AU42: =(AQ42/G42)*77 -> 12.03125 | AV42: NA | AW42: =((AS42/AS$146)*1000) -> 0 | AX42: =((AT42/AT$146)*1000) -> 5.1094826 | AY42: =((AU42/AU$146)*1000) -> 4.9222801 | AZ42: NA | BA42: =(AW42-I$147) -> -7.751938 | BB42: =(AX42-J$147) -> -2.353204 | BC42: =(AY42-K$147) -> -2.37699 | BD42: NA | BE42: 15 | BF42: 58 | BG42: =VLOOKUP(A42,'Hard Stats 2013-2014'!$A$2:$L$691,9,0) -> 101 | BH42: NA | BI42: =(BE42/E42)*77 -> 115.5 | BJ42: =(BF42/F42)*77 -> 139.5625 | BK42: =(BG42/G42)*77 -> 121.51562 | BL42: NA | BM42: =(BI42/BI$146)*1000 -> 4.7990598 | BN42: =(BJ42/BJ$146)*1000 -> 5.5757293 | BO42: =(BK42/BK$146)*1000 -> 4.560284 | BP42: NA | BQ42: =(BM42-I$147) -> -2.9528782 | BR42: =(BN42-J$147) -> -1.8869573 | BS42: =(BO42-K$147) -> -2.7389861 | BT42: NA | BU42: =(((BQ42+BA42)+AK42)+U42) -> -26.208692 | BV42: =(((BR42+BB42)+AL42)+V42) -> -11.572869 | BW42: =(((BS42+BC42)+AM42)+W42) -> -7.7639301 | BX42: =((BW42*0.6)+(BV42*0.3)+(BU42*0.1)) -> -10.751088 | BZ42: =RANK(CB42,CB$42:CB$49) -> 6 | CA42: =C42 -> Tyson Barrie | CB42: =BW42 -> -7.7639301 | CC42: 1 | CD42: =VLOOKUP(CC42,BZ$42:CB$49,2,FALSE) -> Erik Karlsson | CE42: =VLOOKUP(CD42,CA$42:CC$49,2,FALSE) -> 9.236877 | CN42: =RANK(CP42,CP$42:CP$49) -> 6 | CO42: =C42 -> Tyson Barrie | CP42: =BX42 -> -10.751088 | CQ42: 1 | CR42: =VLOOKUP(CQ42,CN$42:CP$49,2,FALSE) -> Erik Karlsson | CS42: =VLOOKUP(CR42,CO$42:CQ$49,2,FALSE) -> 10.027402
A43: =C43 -> Drew Doughty | B43: =RIGHT(C43,LEN(C43)-FIND(" ",C43)) -> Doughty | C43: Drew Doughty | D43: 76 | E43: 77 | F43: 48 | G43: =VLOOKUP(A43,'Hard Stats 2013-2014'!$A$2:$L$691,4,0) -> 78 | H43: 11 | I43: 10 | J43: 6 | K43: =VLOOKUP(A43,'Hard Stats 2013-2014'!$A$2:$L$691,5,0) -> 10 | L43: =(H43/D43)*77 -> 11.144737 | M43: =(I43/E43)*77 -> 10 | N43: =(J43/F43)*77 -> 9.625 | O43: =(K43/G43)*77 -> 9.8717949 | P43: =(L43/(L$146))*1000 -> 4.7667915 | Q43: =(M43/(M$146))*1000 -> 4.0040354 | R43: =(N43/(N$146))*1000 -> 3.72362 | S43: =(O43/(O$146))*1000 -> 3.485877 | T43: =(P43-H$147) -> -3.4299298 | U43: =(Q43-I$147) -> -3.7479026 | V43: =(R43-J$147) -> -3.7390665 | W43: =(S43-K$147) -> -3.813393 | X43: 29 | Y43: 26 | Z43: 16 | AA43: =VLOOKUP(A43,'Hard Stats 2013-2014'!$A$2:$L$691,6,0) -> 27 | AB43: =(X43/D43)*77 -> 29.381579 | AC43: =(Y43/E43)*77 -> 26 | AD43: =(Z43/F43)*77 -> 25.666667 | AE43: =(AA43/G43)*77 -> 26.653846 | AF43: =(AB43/AB$146)*1000 -> 7.2280465 | AG43: =(AC43/AC$146)*1000 -> 6.2884508 | AH43: =(AD43/AD$146)*1000 -> 5.5571932 | AI43: =(AE43/AE$146)*1000 -> 5.6958864 | AJ43: =(AF43-H$147) -> -0.96867485 | AK43: =(AG43-I$147) -> -1.4634872 | AL43: =(AH43-J$147) -> -1.9054934 | AM43: =(AI43-K$147) -> -1.6033836 | AN43: 15 | AO43: 13 | AP43: 10 | AQ43: =VLOOKUP(A43,'Hard Stats 2013-2014'!$A$2:$L$691,8,0) -> 16 | AR43: =(AN43/D43)*77 -> 15.197368 | AS43: =(AO43/E43)*77 -> 13 | AT43: =(AP43/F43)*77 -> 16.041667 | AU43: =(AQ43/G43)*77 -> 15.794872 | AV43: =((AR43/AR$146)*1000) -> 7.3762566 | AW43: =((AS43/AS$146)*1000) -> 6.47587 | AX43: =((AT43/AT$146)*1000) -> 6.8126435 | AY43: =((AU43/AU$146)*1000) -> 6.4620703 | AZ43: =(AV43-H$147) -> -0.82046475 | BA43: =(AW43-I$147) -> -1.276068 | BB43: =(AX43-J$147) -> -0.65004309 | BC43: =(AY43-K$147) -> -0.83719978 | BD43: 139 | BE43: 168 | BF43: 114 | BG43: =VLOOKUP(A43,'Hard Stats 2013-2014'!$A$2:$L$691,9,0) -> 177 | BH43: =(BD43/D43)*77 -> 140.82895 | BI43: =(BE43/E43)*77 -> 168 | BJ43: =(BF43/F43)*77 -> 182.875 | BK43: =(BG43/G43)*77 -> 174.73077 | BL43: =(BH43/BH$146)*1000 -> 6.0093923 | BM43: =(BI43/BI$146)*1000 -> 6.9804506 | BN43: =(BJ43/BJ$146)*1000 -> 7.306128 | BO43: =(BK43/BK$146)*1000 -> 6.5573619 | BP43: =(BL43-H$147) -> -2.187329 | BQ43: =(BM43-I$147) -> -0.77148743 | BR43: =(BN43-J$147) -> -0.15655852 | BS43: =(BO43-K$147) -> -0.74190816 | BT43: =(((BP43+AZ43)+AJ43)+T43) -> -7.4063984 | BU43: =(((BQ43+BA43)+AK43)+U43) -> -7.2589452 | BV43: =(((BR43+BB43)+AL43)+V43) -> -6.4511615 | BW43: =(((BS43+BC43)+AM43)+W43) -> -6.9958846 | BX43: =((BW43*0.6)+(BV43*0.3)+(BU43*0.1)) -> -6.8587738 | BZ43: =RANK(CB43,CB$42:CB$49) -> 5 | CA43: =C43 -> Drew Doughty | CB43: =BW43 -> -6.9958846 | CC43: 2 | CD43: =VLOOKUP(CC43,BZ$42:CB$49,2,FALSE) -> Torey Krug | CE43: =VLOOKUP(CD43,CA$42:CC$49,2,FALSE) -> -4.6927293 | CN43: =RANK(CP43,CP$42:CP$49) -> 3 | CO43: =C43 -> Drew Doughty | CP43: =BX43 -> -6.8587738 | CQ43: 2 | CR43: =VLOOKUP(CQ43,CN$42:CP$49,2,FALSE) -> Torey Krug | CS43: =VLOOKUP(CR43,CO$42:CQ$49,2,FALSE) -> -4.6927293
A44: =C44 -> Cam Fowler | B44: =RIGHT(C44,LEN(C44)-FIND(" ",C44)) -> Fowler | C44: Cam Fowler | D44: 76 | E44: 82 | F44: 37 | G44: =VLOOKUP(A44,'Hard Stats 2013-2014'!$A$2:$L$691,4,0) -> 70 | H44: 10 | I44: 5 | J44: 1 | K44: =VLOOKUP(A44,'Hard Stats 2013-2014'!$A$2:$L$691,5,0) -> 6 | L44: =(H44/D44)*77 -> 10.131579 | M44: =(I44/E44)*77 -> 4.695122 | N44: =(J44/F44)*77 -> 2.0810811 | O44: =(K44/G44)*77 -> 6.6 | P44: =(L44/(L$146))*1000 -> 4.3334468 | Q44: =(M44/(M$146))*1000 -> 1.8799434 | R44: =(N44/(N$146))*1000 -> 0.80510703 | S44: =(O44/(O$146))*1000 -> 2.3305578 | T44: =(P44-H$147) -> -3.8632745 | U44: =(Q44-I$147) -> -5.8719946 | V44: =(R44-J$147) -> -6.6575795 | W44: =(S44-K$147) -> -4.9687123 | X44: 30 | Y44: 24 | Z44: 10 | AA44: =VLOOKUP(A44,'Hard Stats 2013-2014'!$A$2:$L$691,6,0) -> 30 | AB44: =(X44/D44)*77 -> 30.394737 | AC44: =(Y44/E44)*77 -> 22.536585 | AD44: =(Z44/F44)*77 -> 20.810811 | AE44: =(AA44/G44)*77 -> 33 | AF44: =(AB44/AB$146)*1000 -> 7.4772894 | AG44: =(AC44/AC$146)*1000 -> 5.4507772 | AH44: =(AD44/AD$146)*1000 -> 4.5058323 | AI44: =(AE44/AE$146)*1000 -> 7.0520499 | AJ44: =(AF44-H$147) -> -0.71943186 | AK44: =(AG44-I$147) -> -2.3011607 | AL44: =(AH44-J$147) -> -2.9568543 | AM44: =(AI44-K$147) -> -0.24722019 | AN44: 23 | AO44: 11 | AP44: 6 | AQ44: =VLOOKUP(A44,'Hard Stats 2013-2014'!$A$2:$L$691,8,0) -> 15 | AR44: =(AN44/D44)*77 -> 23.302632 | AS44: =(AO44/E44)*77 -> 10.329268 | AT44: =(AP44/F44)*77 -> 12.486486 | AU44: =(AQ44/G44)*77 -> 16.5 | AV44: =((AR44/AR$146)*1000) -> 11.31026 | AW44: =((AS44/AS$146)*1000) -> 5.1454614 | AX44: =((AT44/AT$146)*1000) -> 5.3028144 | AY44: =((AU44/AU$146)*1000) -> 6.7505556 | AZ44: =(AV44-H$147) -> 3.1135387 | BA44: =(AW44-I$147) -> -2.6064766 | BB44: =(AX44-J$147) -> -2.1598722 | BC44: =(AY44-K$147) -> -0.5487145 | BD44: 123 | BE44: 123 | BF44: 50 | BG44: =VLOOKUP(A44,'Hard Stats 2013-2014'!$A$2:$L$691,9,0) -> 100 | BH44: =(BD44/D44)*77 -> 124.61842 | BI44: =(BE44/E44)*77 -> 115.5 | BJ44: =(BF44/F44)*77 -> 104.05405 | BK44: =(BG44/G44)*77 -> 110 | BL44: =(BH44/BH$146)*1000 -> 5.3176637 | BM44: =(BI44/BI$146)*1000 -> 4.7990598 | BN44: =(BJ44/BJ$146)*1000 -> 4.1571141 | BO44: =(BK44/BK$146)*1000 -> 4.1281213 | BP44: =(BL44-H$147) -> -2.8790576 | BQ44: =(BM44-I$147) -> -2.9528782 | BR44: =(BN44-J$147) -> -3.3055725 | BS44: =(BO44-K$147) -> -3.1711488 | BT44: =(((BP44+AZ44)+AJ44)+T44) -> -4.3482252 | BU44: =(((BQ44+BA44)+AK44)+U44) -> -13.73251 | BV44: =(((BR44+BB44)+AL44)+V44) -> -15.079878 | BW44: =(((BS44+BC44)+AM44)+W44) -> -8.9357958 | BX44: =((BW44*0.6)+(BV44*0.3)+(BU44*0.1)) -> -11.258692 | BZ44: =RANK(CB44,CB$42:CB$49) -> 7 | CA44: =C44 -> Cam Fowler | CB44: =BW44 -> -8.9357958 | CC44: 3 | CD44: =VLOOKUP(CC44,BZ$42:CB$49,2,FALSE) -> Ryan McDonagh | CE44: =VLOOKUP(CD44,CA$42:CC$49,2,FALSE) -> -6.0950749 | CN44: =RANK(CP44,CP$42:CP$49) -> 7 | CO44: =C44 -> Cam Fowler | CP44: =BX44 -> -11.258692 | CQ44: 3 | CR44: =VLOOKUP(CQ44,CN$42:CP$49,2,FALSE) -> Drew Doughty | CS44: =VLOOKUP(CR44,CO$42:CQ$49,2,FALSE) -> -6.8587738
A45: =C45 -> Erik Karlsson | B45: =RIGHT(C45,LEN(C45)-FIND(" ",C45)) -> Karlsson | C45: Erik Karlsson | D45: 75 | E45: 81 | F45: 17 | G45: =VLOOKUP(A45,'Hard Stats 2013-2014'!$A$2:$L$691,4,0) -> 82 | H45: 13 | I45: 19 | J45: 6 | K45: =VLOOKUP(A45,'Hard Stats 2013-2014'!$A$2:$L$691,5,0) -> 20 | L45: =(H45/D45)*77 -> 13.346667 | M45: =(I45/E45)*77 -> 18.061728 | N45: =(J45/F45)*77 -> 27.176471 | O45: =(K45/G45)*77 -> 18.780488 | P45: =(L45/(L$146))*1000 -> 5.708594 | Q45: =(M45/(M$146))*1000 -> 7.2319799 | R45: =(N45/(N$146))*1000 -> 10.513751 | S45: =(O45/(O$146))*1000 -> 6.6316685 | T45: =(P45-H$147) -> -2.4881274 | U45: =(Q45-I$147) -> -0.51995806 | V45: =(R45-J$147) -> 3.0510641 | W45: =(S45-K$147) -> -0.66760157 | X45: 32 | Y45: 59 | Z45: 8 | AA45: =VLOOKUP(A45,'Hard Stats 2013-2014'!$A$2:$L$691,6,0) -> 54 | AB45: =(X45/D45)*77 -> 32.853333 | AC45: =(Y45/E45)*77 -> 56.08642 | AD45: =(Z45/F45)*77 -> 36.235294 | AE45: =(AA45/G45)*77 -> 50.707317 | AF45: =(AB45/AB$146)*1000 -> 8.0821191 | AG45: =(AC45/AC$146)*1000 -> 13.565257 | AH45: =(AD45/AD$146)*1000 -> 7.8454492 | AI45: =(AE45/AE$146)*1000 -> 10.836077 | AJ45: =(AF45-H$147) -> -0.11460223 | AK45: =(AG45-I$147) -> 5.8133194 | AL45: =(AH45-J$147) -> 0.38276262 | AM45: =(AI45-K$147) -> 3.5368066 | AN45: 21 | AO45: 28 | AP45: 4 | AQ45: =VLOOKUP(A45,'Hard Stats 2013-2014'!$A$2:$L$691,8,0) -> 31 | AR45: =(AN45/D45)*77 -> 21.56 | AS45: =(AO45/E45)*77 -> 26.617284 | AT45: =(AP45/F45)*77 -> 18.117647 | AU45: =(AQ45/G45)*77 -> 29.109756 | AV45: =((AR45/AR$146)*1000) -> 10.464449 | AW45: =((AS45/AS$146)*1000) -> 13.259236 | AX45: =((AT45/AT$146)*1000) -> 7.6942797 | AY45: =((AU45/AU$146)*1000) -> 11.909517 | AZ45: =(AV45-H$147) -> 2.267728 | BA45: =(AW45-I$147) -> 5.5072982 | BB45: =(AX45-J$147) -> 0.23159313 | BC45: =(AY45-K$147) -> 4.6102467 | BD45: 182 | BE45: 261 | BF45: 79 | BG45: =VLOOKUP(A45,'Hard Stats 2013-2014'!$A$2:$L$691,9,0) -> 257 | BH45: =(BD45/D45)*77 -> 186.85333 | BI45: =(BE45/E45)*77 -> 248.11111 | BJ45: =(BF45/F45)*77 -> 357.82353 | BK45: =(BG45/G45)*77 -> 241.32927 | BL45: =(BH45/BH$146)*1000 -> 7.9733251 | BM45: =(BI45/BI$146)*1000 -> 10.309091 | BN45: =(BJ45/BJ$146)*1000 -> 14.295582 | BO45: =(BK45/BK$146)*1000 -> 9.0566954 | BP45: =(BL45-H$147) -> -0.22339618 | BQ45: =(BM45-I$147) -> 2.5571533 | BR45: =(BN45-J$147) -> 6.8328952 | BS45: =(BO45-K$147) -> 1.7574253 | BT45: =(((BP45+AZ45)+AJ45)+T45) -> -0.55839778 | BU45: =(((BQ45+BA45)+AK45)+U45) -> 13.357813 | BV45: =(((BR45+BB45)+AL45)+V45) -> 10.498315 | BW45: =(((BS45+BC45)+AM45)+W45) -> 9.236877 | BX45: =((BW45*0.6)+(BV45*0.3)+(BU45*0.1)) -> 10.027402 | BZ45: =RANK(CB45,CB$42:CB$49) -> 1 | CA45: =C45 -> Erik Karlsson | CB45: =BW45 -> 9.236877 | CC45: 4 | CD45: =VLOOKUP(CC45,BZ$42:CB$49,2,FALSE) -> Matt Niskanen | CE45: =VLOOKUP(CD45,CA$42:CC$49,2,FALSE) -> -6.9138896 | CN45: =RANK(CP45,CP$42:CP$49) -> 1 | CO45: =C45 -> Erik Karlsson | CP45: =BX45 -> 10.027402 | CQ45: 4 | CR45: =VLOOKUP(CQ45,CN$42:CP$49,2,FALSE) -> Ryan McDonagh | CS45: =VLOOKUP(CR45,CO$42:CQ$49,2,FALSE) -> -10.113325
A46: =C46 -> Torey Krug | B46: =RIGHT(C46,LEN(C46)-FIND(" ",C46)) -> Krug | C46: Torey Krug | D46: NA | E46: NA | F46: NA | G46: =VLOOKUP(A46,'Hard Stats 2013-2014'!$A$2:$L$691,4,0) -> 79 | H46: NA | I46: NA | J46: NA | K46: =VLOOKUP(A46,'Hard Stats 2013-2014'!$A$2:$L$691,5,0) -> 14 | L46: NA | M46: NA | N46: NA | O46: =(K46/G46)*77 -> 13.64557 | P46: NA | Q46: NA | R46: NA | S46: =(O46/(O$146))*1000 -> 4.8184528 | T46: NA | U46: NA | V46: NA | W46: =(S46-K$147) -> -2.4808173 | X46: NA | Y46: NA | Z46: NA | AA46: =VLOOKUP(A46,'Hard Stats 2013-2014'!$A$2:$L$691,6,0) -> 26 | AB46: NA | AC46: NA | AD46: NA | AE46: =(AA46/G46)*77 -> 25.341772 | AF46: NA | AG46: NA | AH46: NA | AI46: =(AE46/AE$146)*1000 -> 5.4154982 | AJ46: NA | AK46: NA | AL46: NA | AM46: =(AI46-K$147) -> -1.8837719 | AN46: NA | AO46: NA | AP46: NA | AQ46: =VLOOKUP(A46,'Hard Stats 2013-2014'!$A$2:$L$691,8,0) -> 19 | AR46: NA | AS46: NA | AT46: NA | AU46: =(AQ46/G46)*77 -> 18.518987 | AV46: NA | AW46: NA | AX46: NA | AY46: =((AU46/AU$146)*1000) -> 7.5765729 | AZ46: NA | BA46: NA | BB46: NA | BC46: =(AY46-K$147) -> 0.27730285 | BD46: NA | BE46: NA | BF46: NA | BG46: =VLOOKUP(A46,'Hard Stats 2013-2014'!$A$2:$L$691,9,0) -> 183 | BH46: NA | BI46: NA | BJ46: NA | BK46: =(BG46/G46)*77 -> 178.36709 | BL46: NA | BM46: NA | BN46: NA | BO46: =(BK46/BK$146)*1000 -> 6.6938271 | BP46: NA | BQ46: NA | BR46: NA | BS46: =(BO46-K$147) -> -0.605443 | BT46: NA | BU46: NA | BV46: NA | BW46: =(((BS46+BC46)+AM46)+W46) -> -4.6927293 | BX46: =((BW46)) -> -4.6927293 | BZ46: =RANK(CB46,CB$42:CB$49) -> 2 | CA46: =C46 -> Torey Krug | CB46: =BW46 -> -4.6927293 | CC46: 5 | CD46: =VLOOKUP(CC46,BZ$42:CB$49,2,FALSE) -> Drew Doughty | CE46: =VLOOKUP(CD46,CA$42:CC$49,2,FALSE) -> -6.9958846 | CH46: =#REF! -> #REF! | CN46: =RANK(CP46,CP$42:CP$49) -> 2 | CO46: =C46 -> Torey Krug | CP46: =BX46 -> -4.6927293 | CQ46: 5 | CR46: =VLOOKUP(CQ46,CN$42:CP$49,2,FALSE) -> Matt Niskanen | CS46: =VLOOKUP(CR46,CO$42:CQ$49,2,FALSE) -> -10.524887
A47: =C47 -> Olli Maatta | B47: =RIGHT(C47,LEN(C47)-FIND(" ",C47)) -> Maatta | C47: Olli Maatta | D47: NA | E47: NA | F47: NA | G47: =VLOOKUP(A47,'Hard Stats 2013-2014'!$A$2:$L$691,4,0) -> 78 | H47: NA | I47: NA | J47: NA | K47: =VLOOKUP(A47,'Hard Stats 2013-2014'!$A$2:$L$691,5,0) -> 9 | L47: NA | M47: NA | N47: NA | O47: =(K47/G47)*77 -> 8.8846154 | P47: NA | Q47: NA | R47: NA | S47: =(O47/(O$146))*1000 -> 3.1372893 | T47: NA | U47: NA | V47: NA | W47: =(S47-K$147) -> -4.1619807 | X47: NA | Y47: NA | Z47: NA | AA47: =VLOOKUP(A47,'Hard Stats 2013-2014'!$A$2:$L$691,6,0) -> 20 | AB47: NA | AC47: NA | AD47: NA | AE47: =(AA47/G47)*77 -> 19.74359 | AF47: NA | AG47: NA | AH47: NA | AI47: =(AE47/AE$146)*1000 -> 4.2191751 | AJ47: NA | AK47: NA | AL47: NA | AM47: =(AI47-K$147) -> -3.0800949 | AN47: NA | AO47: NA | AP47: NA | AQ47: =VLOOKUP(A47,'Hard Stats 2013-2014'!$A$2:$L$691,8,0) -> 6 | AR47: NA | AS47: NA | AT47: NA | AU47: =(AQ47/G47)*77 -> 5.9230769 | AV47: NA | AW47: NA | AX47: NA | AY47: =((AU47/AU$146)*1000) -> 2.4232764 | AZ47: NA | BA47: NA | BB47: NA | BC47: =(AY47-K$147) -> -4.8759937 | BD47: NA | BE47: NA | BF47: NA | BG47: =VLOOKUP(A47,'Hard Stats 2013-2014'!$A$2:$L$691,9,0) -> 119 | BH47: NA | BI47: NA | BJ47: NA | BK47: =(BG47/G47)*77 -> 117.47436 | BL47: NA | BM47: NA | BN47: NA | BO47: =(BK47/BK$146)*1000 -> 4.4086218 | BP47: NA | BQ47: NA | BR47: NA | BS47: =(BO47-K$147) -> -2.8906482 | BT47: NA | BU47: NA | BV47: NA | BW47: =(((BS47+BC47)+AM47)+W47) -> -15.008718 | BX47: =BW47 -> -15.008718 | BZ47: =RANK(CB47,CB$42:CB$49) -> 8 | CA47: =C47 -> Olli Maatta | CB47: =BW47 -> -15.008718 | CC47: 6 | CD47: =VLOOKUP(CC47,BZ$42:CB$49,2,FALSE) -> Tyson Barrie | CE47: =VLOOKUP(CD47,CA$42:CC$49,2,FALSE) -> -7.7639301 | CG47: =RANK(CI47,CI$137:CI$156) -> #REF! | CH47: =#REF! -> #REF! | CI47: =#REF! -> #REF! | CJ47: =CJ221+1 -> 2 | CK47: =VLOOKUP(CJ47,CG$137:CI$156,2,FALSE) -> #N/A | CL47: =VLOOKUP(CK47,CH$137:CJ$156,2,FALSE) -> #N/A | CN47: =RANK(CP47,CP$42:CP$49) -> 8 | CO47: =C47 -> Olli Maatta | CP47: =BX47 -> -15.008718 | CQ47: 6 | CR47: =VLOOKUP(CQ47,CN$42:CP$49,2,FALSE) -> Tyson Barrie | CS47: =VLOOKUP(CR47,CO$42:CQ$49,2,FALSE) -> -10.751088
A48: =C48 -> Ryan McDonagh | B48: =RIGHT(C48,LEN(C48)-FIND(" ",C48)) -> McDonagh | C48: Ryan McDonagh | D48: 40 | E48: 82 | F48: 47 | G48: =VLOOKUP(A48,'Hard Stats 2013-2014'!$A$2:$L$691,4,0) -> 77 | H48: 1 | I48: 7 | J48: 4 | K48: =VLOOKUP(A48,'Hard Stats 2013-2014'!$A$2:$L$691,5,0) -> 14 | L48: =(H48/D48)*77 -> 1.925 | M48: =(I48/E48)*77 -> 6.5731707 | N48: =(J48/F48)*77 -> 6.5531915 | O48: =(K48/G48)*77 -> 14 | P48: =(L48/(L$146))*1000 -> 0.8233549 | Q48: =(M48/(M$146))*1000 -> 2.6319208 | R48: =(N48/(N$146))*1000 -> 2.5352307 | S48: =(O48/(O$146))*1000 -> 4.9436074 | T48: =(P48-H$147) -> -7.3733664 | U48: =(Q48-I$147) -> -5.1200172 | V48: =(R48-J$147) -> -4.9274559 | W48: =(S48-K$147) -> -2.3556626 | X48: 8 | Y48: 25 | Z48: 15 | AA48: =VLOOKUP(A48,'Hard Stats 2013-2014'!$A$2:$L$691,6,0) -> 29 | AB48: =(X48/D48)*77 -> 15.4 | AC48: =(Y48/E48)*77 -> 23.47561 | AD48: =(Z48/F48)*77 -> 24.574468 | AE48: =(AA48/G48)*77 -> 29 | AF48: =(AB48/AB$146)*1000 -> 3.7884933 | AG48: =(AC48/AC$146)*1000 -> 5.677893 | AH48: =(AD48/AD$146)*1000 -> 5.3207169 | AI48: =(AE48/AE$146)*1000 -> 6.197256 | AJ48: =(AF48-H$147) -> -4.408228 | AK48: =(AG48-I$147) -> -2.074045 | AL48: =(AH48-J$147) -> -2.1419697 | AM48: =(AI48-K$147) -> -1.1020141 | AN48: 0 | AO48: 2 | AP48: 1 | AQ48: =VLOOKUP(A48,'Hard Stats 2013-2014'!$A$2:$L$691,8,0) -> 13 | AR48: =(AN48/D48)*77 -> 0 | AS48: =(AO48/E48)*77 -> 1.8780488 | AT48: =(AP48/F48)*77 -> 1.6382979 | AU48: =(AQ48/G48)*77 -> 13 | AV48: =((AR48/AR$146)*1000) -> 0 | AW48: =((AS48/AS$146)*1000) -> 0.93553844 | AX48: =((AT48/AT$146)*1000) -> 0.69575933 | AY48: =((AU48/AU$146)*1000) -> 5.3186195 | AZ48: =(AV48-H$147) -> -8.1967213 | BA48: =(AW48-I$147) -> -6.8163995 | BB48: =(AX48-J$147) -> -6.7669272 | BC48: =(AY48-K$147) -> -1.9806505 | BD48: 27 | BE48: 123 | BF48: 83 | BG48: =VLOOKUP(A48,'Hard Stats 2013-2014'!$A$2:$L$691,9,0) -> 177 | BH48: =(BD48/D48)*77 -> 51.975 | BI48: =(BE48/E48)*77 -> 115.5 | BJ48: =(BF48/F48)*77 -> 135.97872 | BK48: =(BG48/G48)*77 -> 177 | BL48: =(BH48/BH$146)*1000 -> 2.2178549 | BM48: =(BI48/BI$146)*1000 -> 4.7990598 | BN48: =(BJ48/BJ$146)*1000 -> 5.4325521 | BO48: =(BK48/BK$146)*1000 -> 6.6425225 | BP48: =(BL48-H$147) -> -5.9788665 | BQ48: =(BM48-I$147) -> -2.9528782 | BR48: =(BN48-J$147) -> -2.0301345 | BS48: =(BO48-K$147) -> -0.65674762 | BT48: =(((BP48+AZ48)+AJ48)+T48) -> -25.957182 | BU48: =(((BQ48+BA48)+AK48)+U48) -> -16.96334 | BV48: =(((BR48+BB48)+AL48)+V48) -> -15.866487 | BW48: =(((BS48+BC48)+AM48)+W48) -> -6.0950749 | BX48: =((BW48*0.6)+(BV48*0.3)+(BU48*0.1)) -> -10.113325 | BZ48: =RANK(CB48,CB$42:CB$49) -> 3 | CA48: =C48 -> Ryan McDonagh | CB48: =BW48 -> -6.0950749 | CC48: 7 | CD48: =VLOOKUP(CC48,BZ$42:CB$49,2,FALSE) -> Cam Fowler | CE48: =VLOOKUP(CD48,CA$42:CC$49,2,FALSE) -> -8.9357958 | CG48: =RANK(CI48,CI$18:CI$120) -> #REF! | CH48: =#REF! -> #REF! | CI48: =#REF! -> #REF! | CJ48: =CJ116+1 -> 3 | CK48: =VLOOKUP(CJ48,CG$18:CI$120,2,FALSE) -> #N/A | CL48: =VLOOKUP(CK48,CH$18:CJ$120,2,FALSE) -> #N/A | CN48: =RANK(CP48,CP$42:CP$49) -> 4 | CO48: =C48 -> Ryan McDonagh | CP48: =BX48 -> -10.113325 | CQ48: 7 | CR48: =VLOOKUP(CQ48,CN$42:CP$49,2,FALSE) -> Cam Fowler | CS48: =VLOOKUP(CR48,CO$42:CQ$49,2,FALSE) -> -11.258692
A49: =C49 -> Matt Niskanen | B49: =RIGHT(C49,LEN(C49)-FIND(" ",C49)) -> Niskanen | C49: Matt Niskanen | D49: 63 | E49: 75 | F49: 40 | G49: =VLOOKUP(A49,'Hard Stats 2013-2014'!$A$2:$L$691,4,0) -> 81 | H49: 1 | I49: 4 | J49: 4 | K49: =VLOOKUP(A49,'Hard Stats 2013-2014'!$A$2:$L$691,5,0) -> 10 | L49: =(H49/D49)*77 -> 1.2222222 | M49: =(I49/E49)*77 -> 4.1066667 | N49: =(J49/F49)*77 -> 7.7 | O49: =(K49/G49)*77 -> 9.5061728 | P49: =(L49/(L$146))*1000 -> 0.52276501 | Q49: =(M49/(M$146))*1000 -> 1.6443239 | R49: =(N49/(N$146))*1000 -> 2.978896 | S49: =(O49/(O$146))*1000 -> 3.3567705 | T49: =(P49-H$147) -> -7.6739563 | U49: =(Q49-I$147) -> -6.1076141 | V49: =(R49-J$147) -> -4.4837905 | W49: =(S49-K$147) -> -3.9424996 | X49: 9 | Y49: 17 | Z49: 10 | AA49: =VLOOKUP(A49,'Hard Stats 2013-2014'!$A$2:$L$691,6,0) -> 36 | AB49: =(X49/D49)*77 -> 11 | AC49: =(Y49/E49)*77 -> 17.453333 | AD49: =(Z49/F49)*77 -> 19.25 | AE49: =(AA49/G49)*77 -> 34.222222 | AF49: =(AB49/AB$146)*1000 -> 2.7060667 | AG49: =(AC49/AC$146)*1000 -> 4.2213242 | AH49: =(AD49/AD$146)*1000 -> 4.1678949 | AI49: =(AE49/AE$146)*1000 -> 7.3132369 | AJ49: =(AF49-H$147) -> -5.4906547 | AK49: =(AG49-I$147) -> -3.5306138 | AL49: =(AH49-J$147) -> -3.2947917 | AM49: =(AI49-K$147) -> 0.01396684 | AN49: 5 | AO49: 8 | AP49: 2 | AQ49: =VLOOKUP(A49,'Hard Stats 2013-2014'!$A$2:$L$691,8,0) -> 15 | AR49: =(AN49/D49)*77 -> 6.1111111 | AS49: =(AO49/E49)*77 -> 8.2133333 | AT49: =(AP49/F49)*77 -> 3.85 | AU49: =(AQ49/G49)*77 -> 14.259259 | AV49: =((AR49/AR$146)*1000) -> 2.9661137 | AW49: =((AS49/AS$146)*1000) -> 4.0914214 | AX49: =((AT49/AT$146)*1000) -> 1.6350344 | AY49: =((AU49/AU$146)*1000) -> 5.8338135 | AZ49: =(AV49-H$147) -> -5.2306076 | BA49: =(AW49-I$147) -> -3.6605165 | BB49: =(AX49-J$147) -> -5.8276521 | BC49: =(AY49-K$147) -> -1.4654566 | BD49: 77 | BE49: 118 | BF49: 67 | BG49: =VLOOKUP(A49,'Hard Stats 2013-2014'!$A$2:$L$691,9,0) -> 162 | BH49: =(BD49/D49)*77 -> 94.111111 | BI49: =(BE49/E49)*77 -> 121.14667 | BJ49: =(BF49/F49)*77 -> 128.975 | BK49: =(BG49/G49)*77 -> 154 | BL49: =(BH49/BH$146)*1000 -> 4.0158689 | BM49: =(BI49/BI$146)*1000 -> 5.0336805 | BN49: =(BJ49/BJ$146)*1000 -> 5.1527429 | BO49: =(BK49/BK$146)*1000 -> 5.7793698 | BP49: =(BL49-H$147) -> -4.1808524 | BQ49: =(BM49-I$147) -> -2.7182575 | BR49: =(BN49-J$147) -> -2.3099436 | BS49: =(BO49-K$147) -> -1.5199003 | BT49: =(((BP49+AZ49)+AJ49)+T49) -> -22.576071 | BU49: =(((BQ49+BA49)+AK49)+U49) -> -16.017002 | BV49: =(((BR49+BB49)+AL49)+V49) -> -15.916178 | BW49: =(((BS49+BC49)+AM49)+W49) -> -6.9138896 | BX49: =((BW49*0.6)+(BV49*0.3)+(BU49*0.1)) -> -10.524887 | BZ49: =RANK(CB49,CB$42:CB$49) -> 4 | CA49: =C49 -> Matt Niskanen | CB49: =BW49 -> -6.9138896 | CC49: 8 | CD49: =VLOOKUP(CC49,BZ$42:CB$49,2,FALSE) -> Olli Maatta | CE49: =VLOOKUP(CD49,CA$42:CC$49,2,FALSE) -> -15.008718 | CG49: =RANK(CI49,CI$42:CI$49) -> #REF! | CH49: =#REF! -> #REF! | CI49: =#REF! -> #REF! | CJ49: =CJ22+1 -> 5 | CK49: =VLOOKUP(CJ49,CG$42:CI$49,2,FALSE) -> #N/A | CL49: =VLOOKUP(CK49,CH$42:CJ$49,2,FALSE) -> #N/A | CN49: =RANK(CP49,CP$42:CP$49) -> 5 | CO49: =C49 -> Matt Niskanen | CP49: =BX49 -> -10.524887 | CQ49: 8 | CR49: =VLOOKUP(CQ49,CN$42:CP$49,2,FALSE) -> Olli Maatta | CS49: =VLOOKUP(CR49,CO$42:CQ$49,2,FALSE) -> -15.008718
C50: Chance of Fleury's | AF50: =(AB50/AB$146)*1000 -> 0 | AG50: =(AC50/AC$146)*1000 -> 0 | AH50: =(AD50/AD$146)*1000 -> 0 | AI50: =(AE50/AE$146)*1000 -> 0 | AV50: =((AR50/AR$146)*1000) -> 0 | AW50: =((AS50/AS$146)*1000) -> 0 | AX50: =((AT50/AT$146)*1000) -> 0 | AY50: =((AU50/AU$146)*1000) -> 0 | BL50: =(BH50/BH$146)*1000 -> 0 | BM50: =(BI50/BI$146)*1000 -> 0 | BN50: =(BJ50/BJ$146)*1000 -> 0 | BO50: =(BK50/BK$146)*1000 -> 0 | BX50: =((BW50*0.6)+(BV50*0.3)+(BU50*0.1)) -> 0 | CD50: Chance Of Fleury's | CH50: Chance Of Fleury's | CK50: Chance Of Fleury's | CO50: =C50 -> Chance of Fleury's | CP50: =BX50 -> 0 | CR50: Chance Of Fleury's
A51: =C51 -> David Backes | B51: =RIGHT(C51,LEN(C51)-FIND(" ",C51)) -> Backes | C51: David Backes | D51: 82 | E51: 82 | F51: 48 | G51: =VLOOKUP(A51,'Hard Stats 2013-2014'!$A$2:$L$691,4,0) -> 74 | H51: 31 | I51: 24 | J51: 6 | K51: =VLOOKUP(A51,'Hard Stats 2013-2014'!$A$2:$L$691,5,0) -> 27 | L51: =(H51/D51)*77 -> 29.109756 | M51: =(I51/E51)*77 -> 22.536585 | N51: =(J51/F51)*77 -> 9.625 | O51: =(K51/G51)*77 -> 28.094595 | P51: =(L51/(L$146))*1000 -> 12.450733 | Q51: =(M51/(M$146))*1000 -> 9.0237285 | R51: =(N51/(N$146))*1000 -> 3.72362 | S51: =(O51/(O$146))*1000 -> 9.9206176 | T51: =(P51-H$147) -> 4.2540113 | U51: =(Q51-I$147) -> 1.2717905 | V51: =(R51-J$147) -> -3.7390665 | W51: =(S51-K$147) -> 2.6213475 | X51: 31 | Y51: 30 | Z51: 22 | AA51: =VLOOKUP(A51,'Hard Stats 2013-2014'!$A$2:$L$691,6,0) -> 30 | AB51: =(X51/D51)*77 -> 29.109756 | AC51: =(Y51/E51)*77 -> 28.170732 | AD51: =(Z51/F51)*77 -> 35.291667 | AE51: =(AA51/G51)*77 -> 31.216216 | AF51: =(AB51/AB$146)*1000 -> 7.1611764 | AG51: =(AC51/AC$146)*1000 -> 6.8134715 | AH51: =(AD51/AD$146)*1000 -> 7.6411406 | AI51: =(AE51/AE$146)*1000 -> 6.670858 | AJ51: =(AF51-H$147) -> -1.0355449 | AK51: =(AG51-I$147) -> -0.93846644 | AL51: =(AH51-J$147) -> 0.17845405 | AM51: =(AI51-K$147) -> -0.62841208 | AN51: 15 | AO51: 17 | AP51: 5 | AQ51: =VLOOKUP(A51,'Hard Stats 2013-2014'!$A$2:$L$691,8,0) -> 16 | AR51: =(AN51/D51)*77 -> 14.085366 | AS51: =(AO51/E51)*77 -> 15.963415 | AT51: =(AP51/F51)*77 -> 8.0208333 | AU51: =(AQ51/G51)*77 -> 16.648649 | AV51: =((AR51/AR$146)*1000) -> 6.8365305 | AW51: =((AS51/AS$146)*1000) -> 7.9520767 | AX51: =((AT51/AT$146)*1000) -> 3.4063217 | AY51: =((AU51/AU$146)*1000) -> 6.8113714 | AZ51: =(AV51-H$147) -> -1.3601908 | BA51: =(AW51-I$147) -> 0.20013875 | BB51: =(AX51-J$147) -> -4.0563648 | BC51: =(AY51-K$147) -> -0.48789868 | BD51: 211 | BE51: 234 | BF51: 100 | BG51: =VLOOKUP(A51,'Hard Stats 2013-2014'!$A$2:$L$691,9,0) -> 165 | BH51: =(BD51/D51)*77 -> 198.13415 | BI51: =(BE51/E51)*77 -> 219.73171 | BJ51: =(BF51/F51)*77 -> 160.41667 | BK51: =(BG51/G51)*77 -> 171.68919 | BL51: =(BH51/BH$146)*1000 -> 8.4546951 | BM51: =(BI51/BI$146)*1000 -> 9.1299186 | BN51: =(BJ51/BJ$146)*1000 -> 6.4088843 | BO51: =(BK51/BK$146)*1000 -> 6.4432164 | BP51: =(BL51-H$147) -> 0.25797382 | BQ51: =(BM51-I$147) -> 1.3779806 | BR51: =(BN51-J$147) -> -1.0538023 | BS51: =(BO51-K$147) -> -0.85605372 | BT51: =(((BP51+AZ51)+AJ51)+T51) -> 2.1162493 | BU51: =(((BQ51+BA51)+AK51)+U51) -> 1.9114434 | BV51: =(((BR51+BB51)+AL51)+V51) -> -8.6707796 | BW51: =(((BS51+BC51)+AM51)+W51) -> 0.64898306 | BX51: =((BW51*0.6)+(BV51*0.3)+(BU51*0.1)) -> -2.0206997 | BZ51: =RANK(CB51,CB$51:CB$65) -> 7 | CA51: =C51 -> David Backes | CB51: =BW51 -> 0.64898306 | CC51: 1 | CD51: =VLOOKUP(CC51,BZ$51:CB$65,2,FALSE) -> John Tavares | CE51: =VLOOKUP(CD51,CA$51:CC$65,2,FALSE) -> 16.133134 | CG51: =RANK(CI51,CI$122:CI$167) -> #REF! | CH51: =#REF! -> #REF! | CI51: =#REF! -> #REF! | CJ51: =CJ122+1 -> #N/A | CK51: =VLOOKUP(CJ51,CG$122:CI$167,2,FALSE) -> #N/A | CL51: =VLOOKUP(CK51,CH$122:CJ$167,2,FALSE) -> #N/A | CN51: =RANK(CP51,CP$51:CP$65) -> 10 | CO51: =C51 -> David Backes | CP51: =BX51 -> -2.0206997 | CQ51: 1 | CR51: =VLOOKUP(CQ51,CN$51:CP$65,2,FALSE) -> John Tavares | CS51: =VLOOKUP(CR51,CO$51:CQ$65,2,FALSE) -> 15.787932
A52: =C52 -> Pavel Datsyuk | B52: =RIGHT(C52,LEN(C52)-FIND(" ",C52)) -> Datsyuk | C52: Pavel Datsyuk | D52: 56 | E52: 70 | F52: 47 | G52: =VLOOKUP(A52,'Hard Stats 2013-2014'!$A$2:$L$691,4,0) -> 45 | H52: 23 | I52: 19 | J52: 15 | K52: =VLOOKUP(A52,'Hard Stats 2013-2014'!$A$2:$L$691,5,0) -> 17 | L52: =(H52/D52)*77 -> 31.625 | M52: =(I52/E52)*77 -> 20.9 | N52: =(J52/F52)*77 -> 24.574468 | O52: =(K52/G52)*77 -> 29.088889 | P52: =(L52/(L$146))*1000 -> 13.526545 | Q52: =(M52/(M$146))*1000 -> 8.3684339 | R52: =(N52/(N$146))*1000 -> 9.507115 | S52: =(O52/(O$146))*1000 -> 10.271718 | T52: =(P52-H$147) -> 5.3298234 | U52: =(Q52-I$147) -> 0.61649592 | V52: =(R52-J$147) -> 2.0444284 | W52: =(S52-K$147) -> 2.9724476 | X52: 36 | Y52: 48 | Z52: 34 | AA52: =VLOOKUP(A52,'Hard Stats 2013-2014'!$A$2:$L$691,6,0) -> 20 | AB52: =(X52/D52)*77 -> 49.5 | AC52: =(Y52/E52)*77 -> 52.8 | AD52: =(Z52/F52)*77 -> 55.702128 | AE52: =(AA52/G52)*77 -> 34.222222 | AF52: =(AB52/AB$146)*1000 -> 12.1773 | AG52: =(AC52/AC$146)*1000 -> 12.770392 | AH52: =(AD52/AD$146)*1000 -> 12.060292 | AI52: =(AE52/AE$146)*1000 -> 7.3132369 | AJ52: =(AF52-H$147) -> 3.9805786 | AK52: =(AG52-I$147) -> 5.0184544 | AL52: =(AH52-J$147) -> 4.597605 | AM52: =(AI52-K$147) -> 0.01396684 | AN52: 18 | AO52: 23 | AP52: 16 | AQ52: =VLOOKUP(A52,'Hard Stats 2013-2014'!$A$2:$L$691,8,0) -> 12 | AR52: =(AN52/D52)*77 -> 24.75 | AS52: =(AO52/E52)*77 -> 25.3 | AT52: =(AP52/F52)*77 -> 26.212766 | AU52: =(AQ52/G52)*77 -> 20.533333 | AV52: =((AR52/AR$146)*1000) -> 12.012761 | AW52: =((AS52/AS$146)*1000) -> 12.603039 | AX52: =((AT52/AT$146)*1000) -> 11.132149 | AY52: =((AU52/AU$146)*1000) -> 8.4006914 | AZ52: =(AV52-H$147) -> 3.8160394 | BA52: =(AW52-I$147) -> 4.8511013 | BB52: =(AX52-J$147) -> 3.6694628 | BC52: =(AY52-K$147) -> 1.1014213 | BD52: 137 | BE52: 164 | BF52: 108 | BG52: =VLOOKUP(A52,'Hard Stats 2013-2014'!$A$2:$L$691,9,0) -> 126 | BH52: =(BD52/D52)*77 -> 188.375 | BI52: =(BE52/E52)*77 -> 180.4 | BJ52: =(BF52/F52)*77 -> 176.93617 | BK52: =(BG52/G52)*77 -> 215.6 | BL52: =(BH52/BH$146)*1000 -> 8.038257 | BM52: =(BI52/BI$146)*1000 -> 7.4956743 | BN52: =(BJ52/BJ$146)*1000 -> 7.068863 | BO52: =(BK52/BK$146)*1000 -> 8.0911177 | BP52: =(BL52-H$147) -> -0.15846428 | BQ52: =(BM52-I$147) -> -0.25626369 | BR52: =(BN52-J$147) -> -0.3938236 | BS52: =(BO52-K$147) -> 0.79184767 | BT52: =(((BP52+AZ52)+AJ52)+T52) -> 12.967977 | BU52: =(((BQ52+BA52)+AK52)+U52) -> 10.229788 | BV52: =(((BR52+BB52)+AL52)+V52) -> 9.9176726 | BW52: =(((BS52+BC52)+AM52)+W52) -> 4.8796834 | BX52: =((BW52*0.6)+(BV52*0.3)+(BU52*0.1)) -> 6.9260906 | BZ52: =RANK(CB52,CB$51:CB$65) -> 4 | CA52: =C52 -> Pavel Datsyuk | CB52: =BW52 -> 4.8796834 | CC52: 2 | CD52: =VLOOKUP(CC52,BZ$51:CB$65,2,FALSE) -> Patrick Sharp | CE52: =VLOOKUP(CD52,CA$51:CC$65,2,FALSE) -> 11.54074 | CG52: =RANK(CI52,CI$6:CI$178) -> #REF! | CH52: =#REF! -> #REF! | CI52: =#REF! -> #REF! | CJ52: =CJ54+1 -> 5 | CK52: =VLOOKUP(CJ52,CG$6:CI$178,2,FALSE) -> #N/A | CL52: =VLOOKUP(CK52,CH$6:CJ$178,2,FALSE) -> #N/A | CN52: =RANK(CP52,CP$51:CP$65) -> 4 | CO52: =C52 -> Pavel Datsyuk | CP52: =BX52 -> 6.9260906 | CQ52: 2 | CR52: =VLOOKUP(CQ52,CN$51:CP$65,2,FALSE) -> Patrick Sharp | CS52: =VLOOKUP(CR52,CO$51:CQ$65,2,FALSE) -> 9.0185192
A53: =C53 -> Jarome Iginla | B53: =RIGHT(C53,LEN(C53)-FIND(" ",C53)) -> Iginla | C53: Jarome Iginla | D53: 82 | E53: 82 | F53: 44 | G53: =VLOOKUP(A53,'Hard Stats 2013-2014'!$A$2:$L$691,4,0) -> 78 | H53: 43 | I53: 32 | J53: 14 | K53: =VLOOKUP(A53,'Hard Stats 2013-2014'!$A$2:$L$691,5,0) -> 30 | L53: =(H53/D53)*77 -> 40.378049 | M53: =(I53/E53)*77 -> 30.04878 | N53: =(J53/F53)*77 -> 24.5 | O53: =(K53/G53)*77 -> 29.615385 | P53: =(L53/(L$146))*1000 -> 17.270371 | Q53: =(M53/(M$146))*1000 -> 12.031638 | R53: =(N53/(N$146))*1000 -> 9.4783055 | S53: =(O53/(O$146))*1000 -> 10.457631 | T53: =(P53-H$147) -> 9.0736497 | U53: =(Q53-I$147) -> 4.2797 | V53: =(R53-J$147) -> 2.015619 | W53: =(S53-K$147) -> 3.158361 | X53: 43 | Y53: 35 | Z53: 19 | AA53: =VLOOKUP(A53,'Hard Stats 2013-2014'!$A$2:$L$691,6,0) -> 31 | AB53: =(X53/D53)*77 -> 40.378049 | AC53: =(Y53/E53)*77 -> 32.865854 | AD53: =(Z53/F53)*77 -> 33.25 | AE53: =(AA53/G53)*77 -> 30.602564 | AF53: =(AB53/AB$146)*1000 -> 9.9332447 | AG53: =(AC53/AC$146)*1000 -> 7.9490501 | AH53: =(AD53/AD$146)*1000 -> 7.1990912 | AI53: =(AE53/AE$146)*1000 -> 6.5397215 | AJ53: =(AF53-H$147) -> 1.7365234 | AK53: =(AG53-I$147) -> 0.19711216 | AL53: =(AH53-J$147) -> -0.26359541 | AM53: =(AI53-K$147) -> -0.7595486 | AN53: 30 | AO53: 19 | AP53: 12 | AQ53: =VLOOKUP(A53,'Hard Stats 2013-2014'!$A$2:$L$691,8,0) -> 14 | AR53: =(AN53/D53)*77 -> 28.170732 | AS53: =(AO53/E53)*77 -> 17.841463 | AT53: =(AP53/F53)*77 -> 21 | AU53: =(AQ53/G53)*77 -> 13.820513 | AV53: =((AR53/AR$146)*1000) -> 13.673061 | AW53: =((AS53/AS$146)*1000) -> 8.8876152 | AX53: =((AT53/AT$146)*1000) -> 8.9183696 | AY53: =((AU53/AU$146)*1000) -> 5.6543115 | AZ53: =(AV53-H$147) -> 5.4763396 | BA53: =(AW53-I$147) -> 1.1356772 | BB53: =(AX53-J$147) -> 1.4556831 | BC53: =(AY53-K$147) -> -1.6449586 | BD53: 289 | BE53: 251 | BF53: 134 | BG53: =VLOOKUP(A53,'Hard Stats 2013-2014'!$A$2:$L$691,9,0) -> 209 | BH53: =(BD53/D53)*77 -> 271.37805 | BI53: =(BE53/E53)*77 -> 235.69512 | BJ53: =(BF53/F53)*77 -> 234.5 | BK53: =(BG53/G53)*77 -> 206.32051 | BL53: =(BH53/BH$146)*1000 -> 11.580127 | BM53: =(BI53/BI$146)*1000 -> 9.7932032 | BN53: =(BJ53/BJ$146)*1000 -> 9.3686235 | BO53: =(BK53/BK$146)*1000 -> 7.7428737 | BP53: =(BL53-H$147) -> 3.3834061 | BQ53: =(BM53-I$147) -> 2.0412653 | BR53: =(BN53-J$147) -> 1.905937 | BS53: =(BO53-K$147) -> 0.44360359 | BT53: =(((BP53+AZ53)+AJ53)+T53) -> 19.669919 | BU53: =(((BQ53+BA53)+AK53)+U53) -> 7.6537546 | BV53: =(((BR53+BB53)+AL53)+V53) -> 5.1136436 | BW53: =(((BS53+BC53)+AM53)+W53) -> 1.1974575 | BX53: =((BW53*0.6)+(BV53*0.3)+(BU53*0.1)) -> 3.017943 | BZ53: =RANK(CB53,CB$51:CB$65) -> 6 | CA53: =C53 -> Jarome Iginla | CB53: =BW53 -> 1.1974575 | CC53: 3 | CD53: =VLOOKUP(CC53,BZ$51:CB$65,2,FALSE) -> Chris Kunitz | CE53: =VLOOKUP(CD53,CA$51:CC$65,2,FALSE) -> 6.9267738 | CG53: =RANK(CI53,CI$6:CI$178) -> #REF! | CH53: =#REF! -> #REF! | CI53: =#REF! -> #REF! | CJ53: =CJ41+1 -> 3 | CK53: =VLOOKUP(CJ53,CG$6:CI$178,2,FALSE) -> #N/A | CL53: =VLOOKUP(CK53,CH$6:CJ$178,2,FALSE) -> #N/A | CN53: =RANK(CP53,CP$51:CP$65) -> 7 | CO53: =C53 -> Jarome Iginla | CP53: =BX53 -> 3.017943 | CQ53: 3 | CR53: =VLOOKUP(CQ53,CN$51:CP$65,2,FALSE) -> Chris Kunitz | CS53: =VLOOKUP(CR53,CO$51:CQ$65,2,FALSE) -> 8.0493787
A54: =C54 -> Nazem Kadri | B54: =RIGHT(C54,LEN(C54)-FIND(" ",C54)) -> Kadri | C54: Nazem Kadri | D54: 29 | E54: 21 | F54: 48 | G54: =VLOOKUP(A54,'Hard Stats 2013-2014'!$A$2:$L$691,4,0) -> 78 | H54: 3 | I54: 5 | J54: 18 | K54: =VLOOKUP(A54,'Hard Stats 2013-2014'!$A$2:$L$691,5,0) -> 20 | L54: =(H54/D54)*77 -> 7.9655172 | M54: =(I54/E54)*77 -> 18.333333 | N54: =(J54/F54)*77 -> 28.875 | O54: =(K54/G54)*77 -> 19.74359 | P54: =(L54/(L$146))*1000 -> 3.4069858 | Q54: =(M54/(M$146))*1000 -> 7.3407315 | R54: =(N54/(N$146))*1000 -> 11.17086 | S54: =(O54/(O$146))*1000 -> 6.9717541 | T54: =(P54-H$147) -> -4.7897355 | U54: =(Q54-I$147) -> -0.41120649 | V54: =(R54-J$147) -> 3.7081735 | W54: =(S54-K$147) -> -0.32751601 | X54: 9 | Y54: 2 | Z54: 26 | AA54: =VLOOKUP(A54,'Hard Stats 2013-2014'!$A$2:$L$691,6,0) -> 30 | AB54: =(X54/D54)*77 -> 23.896552 | AC54: =(Y54/E54)*77 -> 7.3333333 | AD54: =(Z54/F54)*77 -> 41.708333 | AE54: =(AA54/G54)*77 -> 29.615385 | AF54: =(AB54/AB$146)*1000 -> 5.8786965 | AG54: =(AC54/AC$146)*1000 -> 1.7736656 | AH54: =(AD54/AD$146)*1000 -> 9.0304389 | AI54: =(AE54/AE$146)*1000 -> 6.3287627 | AJ54: =(AF54-H$147) -> -2.3180248 | AK54: =(AG54-I$147) -> -5.9782724 | AL54: =(AH54-J$147) -> 1.5677523 | AM54: =(AI54-K$147) -> -0.97050736 | AN54: 2 | AO54: 1 | AP54: 8 | AQ54: =VLOOKUP(A54,'Hard Stats 2013-2014'!$A$2:$L$691,8,0) -> 18 | AR54: =(AN54/D54)*77 -> 5.3103448 | AS54: =(AO54/E54)*77 -> 3.6666667 | AT54: =(AP54/F54)*77 -> 12.833333 | AU54: =(AQ54/G54)*77 -> 17.769231 | AV54: =((AR54/AR$146)*1000) -> 2.5774506 | AW54: =((AS54/AS$146)*1000) -> 1.8265274 | AX54: =((AT54/AT$146)*1000) -> 5.4501148 | AY54: =((AU54/AU$146)*1000) -> 7.2698291 | AZ54: =(AV54-H$147) -> -5.6192707 | BA54: =(AW54-I$147) -> -5.9254106 | BB54: =(AX54-J$147) -> -2.0125718 | BC54: =(AY54-K$147) -> -0.029440992 | BD54: 51 | BE54: 28 | BF54: 107 | BG54: =VLOOKUP(A54,'Hard Stats 2013-2014'!$A$2:$L$691,9,0) -> 148 | BH54: =(BD54/D54)*77 -> 135.41379 | BI54: =(BE54/E54)*77 -> 102.66667 | BJ54: =(BF54/F54)*77 -> 171.64583 | BK54: =(BG54/G54)*77 -> 146.10256 | BL54: =(BH54/BH$146)*1000 -> 5.7783192 | BM54: =(BI54/BI$146)*1000 -> 4.2658309 | BN54: =(BJ54/BJ$146)*1000 -> 6.8575062 | BO54: =(BK54/BK$146)*1000 -> 5.4829919 | BP54: =(BL54-H$147) -> -2.4184021 | BQ54: =(BM54-I$147) -> -3.4861071 | BR54: =(BN54-J$147) -> -0.60518042 | BS54: =(BO54-K$147) -> -1.8162782 | BT54: =(((BP54+AZ54)+AJ54)+T54) -> -15.145433 | BU54: =(((BQ54+BA54)+AK54)+U54) -> -15.800997 | BV54: =(((BR54+BB54)+AL54)+V54) -> 2.6581737 | BW54: =(((BS54+BC54)+AM54)+W54) -> -3.1437426 | BX54: =((BW54*0.6)+(BV54*0.3)+(BU54*0.1)) -> -2.6688931 | BZ54: =RANK(CB54,CB$51:CB$65) -> 13 | CA54: =C54 -> Nazem Kadri | CB54: =BW54 -> -3.1437426 | CC54: 4 | CD54: =VLOOKUP(CC54,BZ$51:CB$65,2,FALSE) -> Pavel Datsyuk | CE54: =VLOOKUP(CD54,CA$51:CC$65,2,FALSE) -> 4.8796834 | CG54: =RANK(CI54,CI$6:CI$178) -> #REF! | CH54: =#REF! -> #REF! | CI54: =#REF! -> #REF! | CJ54: =CJ53+1 -> 4 | CK54: =VLOOKUP(CJ54,CG$6:CI$178,2,FALSE) -> #N/A | CL54: =VLOOKUP(CK54,CH$6:CJ$178,2,FALSE) -> #N/A | CN54: =RANK(CP54,CP$51:CP$65) -> 13 | CO54: =C54 -> Nazem Kadri | CP54: =BX54 -> -2.6688931 | CQ54: 4 | CR54: =VLOOKUP(CQ54,CN$51:CP$65,2,FALSE) -> Pavel Datsyuk | CS54: =VLOOKUP(CR54,CO$51:CQ$65,2,FALSE) -> 6.9260906
A55: =C55 -> Evander Kane | B55: =RIGHT(C55,LEN(C55)-FIND(" ",C55)) -> Kane | C55: Evander Kane | D55: 73 | E55: 74 | F55: 48 | G55: =VLOOKUP(A55,'Hard Stats 2013-2014'!$A$2:$L$691,4,0) -> 63 | H55: 19 | I55: 30 | J55: 17 | K55: =VLOOKUP(A55,'Hard Stats 2013-2014'!$A$2:$L$691,5,0) -> 19 | L55: =(H55/D55)*77 -> 20.041096 | M55: =(I55/E55)*77 -> 31.216216 | N55: =(J55/F55)*77 -> 27.270833 | O55: =(K55/G55)*77 -> 23.222222 | P55: =(L55/(L$146))*1000 -> 8.571914 | Q55: =(M55/(M$146))*1000 -> 12.499083 | R55: =(N55/(N$146))*1000 -> 10.550257 | S55: =(O55/(O$146))*1000 -> 8.2001107 | T55: =(P55-H$147) -> 0.37519268 | U55: =(Q55-I$147) -> 4.7471454 | V55: =(R55-J$147) -> 3.0875702 | W55: =(S55-K$147) -> 0.90084066 | X55: 24 | Y55: 27 | Z55: 16 | AA55: =VLOOKUP(A55,'Hard Stats 2013-2014'!$A$2:$L$691,6,0) -> 22 | AB55: =(X55/D55)*77 -> 25.315068 | AC55: =(Y55/E55)*77 -> 28.094595 | AD55: =(Z55/F55)*77 -> 25.666667 | AE55: =(AA55/G55)*77 -> 26.888889 | AF55: =(AB55/AB$146)*1000 -> 6.2276603 | AG55: =(AC55/AC$146)*1000 -> 6.7950568 | AH55: =(AD55/AD$146)*1000 -> 5.5571932 | AI55: =(AE55/AE$146)*1000 -> 5.7461147 | AJ55: =(AF55-H$147) -> -1.9690611 | AK55: =(AG55-I$147) -> -0.95688122 | AL55: =(AH55-J$147) -> -1.9054934 | AM55: =(AI55-K$147) -> -1.5531554 | AN55: 8 | AO55: 9 | AP55: 4 | AQ55: =VLOOKUP(A55,'Hard Stats 2013-2014'!$A$2:$L$691,8,0) -> 5 | AR55: =(AN55/D55)*77 -> 8.4383562 | AS55: =(AO55/E55)*77 -> 9.3648649 | AT55: =(AP55/F55)*77 -> 6.4166667 | AU55: =(AQ55/G55)*77 -> 6.1111111 | AV55: =((AR55/AR$146)*1000) -> 4.0956749 | AW55: =((AS55/AS$146)*1000) -> 4.6650498 | AX55: =((AT55/AT$146)*1000) -> 2.7250574 | AY55: =((AU55/AU$146)*1000) -> 2.5002058 | AZ55: =(AV55-H$147) -> -4.1010464 | BA55: =(AW55-I$147) -> -3.0868882 | BB55: =(AX55-J$147) -> -4.7376292 | BC55: =(AY55-K$147) -> -4.7990643 | BD55: 234 | BE55: 287 | BF55: 190 | BG55: =VLOOKUP(A55,'Hard Stats 2013-2014'!$A$2:$L$691,9,0) -> 250 | BH55: =(BD55/D55)*77 -> 246.82192 | BI55: =(BE55/E55)*77 -> 298.63514 | BJ55: =(BF55/F55)*77 -> 304.79167 | BK55: =(BG55/G55)*77 -> 305.55556 | BL55: =(BH55/BH$146)*1000 -> 10.532279 | BM55: =(BI55/BI$146)*1000 -> 12.40838 | BN55: =(BJ55/BJ$146)*1000 -> 12.17688 | BO55: =(BK55/BK$146)*1000 -> 11.467004 | BP55: =(BL55-H$147) -> 2.3355575 | BQ55: =(BM55-I$147) -> 4.6564418 | BR55: =(BN55-J$147) -> 4.7141935 | BS55: =(BO55-K$147) -> 4.1677335 | BT55: =(((BP55+AZ55)+AJ55)+T55) -> -3.3593573 | BU55: =(((BQ55+BA55)+AK55)+U55) -> 5.3598177 | BV55: =(((BR55+BB55)+AL55)+V55) -> 1.1586411 | BW55: =(((BS55+BC55)+AM55)+W55) -> -1.2836455 | BX55: =((BW55*0.6)+(BV55*0.3)+(BU55*0.1)) -> 0.11338683 | BZ55: =RANK(CB55,CB$51:CB$65) -> 11 | CA55: =C55 -> Evander Kane | CB55: =BW55 -> -1.2836455 | CC55: 5 | CD55: =VLOOKUP(CC55,BZ$51:CB$65,2,FALSE) -> Jonathan Toews | CE55: =VLOOKUP(CD55,CA$51:CC$65,2,FALSE) -> 3.0365374 | CG55: =RANK(CI55,CI$27:CI$55) -> #REF! | CH55: =#REF! -> #REF! | CI55: =#REF! -> #REF! | CJ55: =CJ83+1 -> 4 | CK55: =VLOOKUP(CJ55,CG$27:CI$55,2,FALSE) -> #N/A | CL55: =VLOOKUP(CK55,CH$27:CJ$55,2,FALSE) -> #N/A | CN55: =RANK(CP55,CP$51:CP$65) -> 8 | CO55: =C55 -> Evander Kane | CP55: =BX55 -> 0.11338683 | CQ55: 5 | CR55: =VLOOKUP(CQ55,CN$51:CP$65,2,FALSE) -> Jonathan Toews | CS55: =VLOOKUP(CR55,CO$51:CQ$65,2,FALSE) -> 5.0424203
A56: =C56 -> Chris Kunitz | B56: =RIGHT(C56,LEN(C56)-FIND(" ",C56)) -> Kunitz | C56: Chris Kunitz | D56: 66 | E56: 82 | F56: 48 | G56: =VLOOKUP(A56,'Hard Stats 2013-2014'!$A$2:$L$691,4,0) -> 78 | H56: 23 | I56: 26 | J56: 22 | K56: =VLOOKUP(A56,'Hard Stats 2013-2014'!$A$2:$L$691,5,0) -> 35 | L56: =(H56/D56)*77 -> 26.833333 | M56: =(I56/E56)*77 -> 24.414634 | N56: =(J56/F56)*77 -> 35.291667 | O56: =(K56/G56)*77 -> 34.551282 | P56: =(L56/(L$146))*1000 -> 11.477068 | Q56: =(M56/(M$146))*1000 -> 9.7757058 | R56: =(N56/(N$146))*1000 -> 13.653273 | S56: =(O56/(O$146))*1000 -> 12.20057 | T56: =(P56-H$147) -> 3.2803469 | U56: =(Q56-I$147) -> 2.0237679 | V56: =(R56-J$147) -> 6.1905869 | W56: =(S56-K$147) -> 4.9012995 | X56: 25 | Y56: 25 | Z56: 30 | AA56: =VLOOKUP(A56,'Hard Stats 2013-2014'!$A$2:$L$691,6,0) -> 33 | AB56: =(X56/D56)*77 -> 29.166667 | AC56: =(Y56/E56)*77 -> 23.47561 | AD56: =(Z56/F56)*77 -> 48.125 | AE56: =(AA56/G56)*77 -> 32.576923 | AF56: =(AB56/AB$146)*1000 -> 7.1751767 | AG56: =(AC56/AC$146)*1000 -> 5.677893 | AH56: =(AD56/AD$146)*1000 -> 10.419737 | AI56: =(AE56/AE$146)*1000 -> 6.961639 | AJ56: =(AF56-H$147) -> -1.0215446 | AK56: =(AG56-I$147) -> -2.074045 | AL56: =(AH56-J$147) -> 2.9570506 | AM56: =(AI56-K$147) -> -0.33763109 | AN56: 11 | AO56: 18 | AP56: 16 | AQ56: =VLOOKUP(A56,'Hard Stats 2013-2014'!$A$2:$L$691,8,0) -> 22 | AR56: =(AN56/D56)*77 -> 12.833333 | AS56: =(AO56/E56)*77 -> 16.902439 | AT56: =(AP56/F56)*77 -> 25.666667 | AU56: =(AQ56/G56)*77 -> 21.717949 | AV56: =((AR56/AR$146)*1000) -> 6.2288389 | AW56: =((AS56/AS$146)*1000) -> 8.419846 | AX56: =((AT56/AT$146)*1000) -> 10.90023 | AY56: =((AU56/AU$146)*1000) -> 8.8853467 | AZ56: =(AV56-H$147) -> -1.9678824 | BA56: =(AW56-I$147) -> 0.66790797 | BB56: =(AX56-J$147) -> 3.437543 | BC56: =(AY56-K$147) -> 1.5860766 | BD56: 133 | BE56: 230 | BF56: 113 | BG56: =VLOOKUP(A56,'Hard Stats 2013-2014'!$A$2:$L$691,9,0) -> 218 | BH56: =(BD56/D56)*77 -> 155.16667 | BI56: =(BE56/E56)*77 -> 215.97561 | BJ56: =(BF56/F56)*77 -> 181.27083 | BK56: =(BG56/G56)*77 -> 215.20513 | BL56: =(BH56/BH$146)*1000 -> 6.6212053 | BM56: =(BI56/BI$146)*1000 -> 8.9738516 | BN56: =(BJ56/BJ$146)*1000 -> 7.2420392 | BO56: =(BK56/BK$146)*1000 -> 8.0762988 | BP56: =(BL56-H$147) -> -1.575516 | BQ56: =(BM56-I$147) -> 1.2219136 | BR56: =(BN56-J$147) -> -0.22064736 | BS56: =(BO56-K$147) -> 0.77702878 | BT56: =(((BP56+AZ56)+AJ56)+T56) -> -1.2845961 | BU56: =(((BQ56+BA56)+AK56)+U56) -> 1.8395444 | BV56: =(((BR56+BB56)+AL56)+V56) -> 12.364533 | BW56: =(((BS56+BC56)+AM56)+W56) -> 6.9267738 | BX56: =((BW56*0.6)+(BV56*0.3)+(BU56*0.1)) -> 8.0493787 | BZ56: =RANK(CB56,CB$51:CB$65) -> 3 | CA56: =C56 -> Chris Kunitz | CB56: =BW56 -> 6.9267738 | CC56: 6 | CD56: =VLOOKUP(CC56,BZ$51:CB$65,2,FALSE) -> Jarome Iginla | CE56: =VLOOKUP(CD56,CA$51:CC$65,2,FALSE) -> 1.1974575 | CG56: =RANK(CI56,CI$75:CI$184) -> #REF! | CH56: =#REF! -> #REF! | CI56: =#REF! -> #REF! | CJ56: =CJ29+1 -> 9 | CK56: =VLOOKUP(CJ56,CG$75:CI$184,2,FALSE) -> #N/A | CL56: =VLOOKUP(CK56,CH$75:CJ$184,2,FALSE) -> #N/A | CN56: =RANK(CP56,CP$51:CP$65) -> 3 | CO56: =C56 -> Chris Kunitz | CP56: =BX56 -> 8.0493787 | CQ56: 6 | CR56: =VLOOKUP(CQ56,CN$51:CP$65,2,FALSE) -> Eric Staal | CS56: =VLOOKUP(CR56,CO$51:CQ$65,2,FALSE) -> 3.4854522
A57: =C57 -> Milan Lucic | B57: =RIGHT(C57,LEN(C57)-FIND(" ",C57)) -> Lucic | C57: Milan Lucic | D57: 79 | E57: 81 | F57: 46 | G57: =VLOOKUP(A57,'Hard Stats 2013-2014'!$A$2:$L$691,4,0) -> 80 | H57: 30 | I57: 26 | J57: 7 | K57: =VLOOKUP(A57,'Hard Stats 2013-2014'!$A$2:$L$691,5,0) -> 24 | L57: =(H57/D57)*77 -> 29.240506 | M57: =(I57/E57)*77 -> 24.716049 | N57: =(J57/F57)*77 -> 11.717391 | O57: =(K57/G57)*77 -> 23.1 | P57: =(L57/(L$146))*1000 -> 12.506657 | Q57: =(M57/(M$146))*1000 -> 9.8963936 | R57: =(N57/(N$146))*1000 -> 4.5331026 | S57: =(O57/(O$146))*1000 -> 8.1569523 | T57: =(P57-H$147) -> 4.3099353 | U57: =(Q57-I$147) -> 2.1444556 | V57: =(R57-J$147) -> -2.9295839 | W57: =(S57-K$147) -> 0.85768219 | X57: 32 | Y57: 35 | Z57: 20 | AA57: =VLOOKUP(A57,'Hard Stats 2013-2014'!$A$2:$L$691,6,0) -> 35 | AB57: =(X57/D57)*77 -> 31.189873 | AC57: =(Y57/E57)*77 -> 33.271605 | AD57: =(Z57/F57)*77 -> 33.478261 | AE57: =(AA57/G57)*77 -> 33.6875 | AF57: =(AB57/AB$146)*1000 -> 7.6728979 | AG57: =(AC57/AC$146)*1000 -> 8.0471866 | AH57: =(AD57/AD$146)*1000 -> 7.2485128 | AI57: =(AE57/AE$146)*1000 -> 7.1989676 | AJ57: =(AF57-H$147) -> -0.52382345 | AK57: =(AG57-I$147) -> 0.29524858 | AL57: =(AH57-J$147) -> -0.21417373 | AM57: =(AI57-K$147) -> -0.10030249 | AN57: 14 | AO57: 11 | AP57: 2 | AQ57: =VLOOKUP(A57,'Hard Stats 2013-2014'!$A$2:$L$691,8,0) -> 12 | AR57: =(AN57/D57)*77 -> 13.64557 | AS57: =(AO57/E57)*77 -> 10.45679 | AT57: =(AP57/F57)*77 -> 3.3478261 | AU57: =(AQ57/G57)*77 -> 11.55 | AV57: =((AR57/AR$146)*1000) -> 6.6230692 | AW57: =((AS57/AS$146)*1000) -> 5.2089856 | AX57: =((AT57/AT$146)*1000) -> 1.4217691 | AY57: =((AU57/AU$146)*1000) -> 4.7253889 | AZ57: =(AV57-H$147) -> -1.5736521 | BA57: =(AW57-I$147) -> -2.5429524 | BB57: =(AX57-J$147) -> -6.0409175 | BC57: =(AY57-K$147) -> -2.5738812 | BD57: 173 | BE57: 149 | BF57: 79 | BG57: =VLOOKUP(A57,'Hard Stats 2013-2014'!$A$2:$L$691,9,0) -> 153 | BH57: =(BD57/D57)*77 -> 168.62025 | BI57: =(BE57/E57)*77 -> 141.64198 | BJ57: =(BF57/F57)*77 -> 132.23913 | BK57: =(BG57/G57)*77 -> 147.2625 | BL57: =(BH57/BH$146)*1000 -> 7.195291 | BM57: =(BI57/BI$146)*1000 -> 5.8852667 | BN57: =(BJ57/BJ$146)*1000 -> 5.2831498 | BO57: =(BK57/BK$146)*1000 -> 5.5265224 | BP57: =(BL57-H$147) -> -1.0014303 | BQ57: =(BM57-I$147) -> -1.8666713 | BR57: =(BN57-J$147) -> -2.1795368 | BS57: =(BO57-K$147) -> -1.7727477 | BT57: =(((BP57+AZ57)+AJ57)+T57) -> 1.2110294 | BU57: =(((BQ57+BA57)+AK57)+U57) -> -1.9699195 | BV57: =(((BR57+BB57)+AL57)+V57) -> -11.364212 | BW57: =(((BS57+BC57)+AM57)+W57) -> -3.5892492 | BX57: =((BW57*0.6)+(BV57*0.3)+(BU57*0.1)) -> -5.759805 | BZ57: =RANK(CB57,CB$51:CB$65) -> 14 | CA57: =C57 -> Milan Lucic | CB57: =BW57 -> -3.5892492 | CC57: 7 | CD57: =VLOOKUP(CC57,BZ$51:CB$65,2,FALSE) -> David Backes | CE57: =VLOOKUP(CD57,CA$51:CC$65,2,FALSE) -> 0.64898306 | CG57: =RANK(CI57,CI$27:CI$55) -> #REF! | CH57: =#REF! -> #REF! | CI57: =#REF! -> #REF! | CJ57: =CJ28+1 -> 3 | CK57: =VLOOKUP(CJ57,CG$27:CI$55,2,FALSE) -> #N/A | CL57: =VLOOKUP(CK57,CH$27:CJ$55,2,FALSE) -> #N/A | CN57: =RANK(CP57,CP$51:CP$65) -> 14 | CO57: =C57 -> Milan Lucic | CP57: =BX57 -> -5.759805 | CQ57: 7 | CR57: =VLOOKUP(CQ57,CN$51:CP$65,2,FALSE) -> Jarome Iginla | CS57: =VLOOKUP(CR57,CO$51:CQ$65,2,FALSE) -> 3.017943
A58: =C58 -> Frans Nielsen | B58: =RIGHT(C58,LEN(C58)-FIND(" ",C58)) -> Nielsen | C58: Frans Nielsen | D58: 71 | E58: 82 | F58: 48 | G58: =VLOOKUP(A58,'Hard Stats 2013-2014'!$A$2:$L$691,4,0) -> 80 | H58: 13 | I58: 17 | J58: 6 | K58: =VLOOKUP(A58,'Hard Stats 2013-2014'!$A$2:$L$691,5,0) -> 25 | L58: =(H58/D58)*77 -> 14.098592 | M58: =(I58/E58)*77 -> 15.963415 | N58: =(J58/F58)*77 -> 9.625 | O58: =(K58/G58)*77 -> 24.0625 | P58: =(L58/(L$146))*1000 -> 6.0302049 | Q58: =(M58/(M$146))*1000 -> 6.3918077 | R58: =(N58/(N$146))*1000 -> 3.72362 | S58: =(O58/(O$146))*1000 -> 8.4968253 | T58: =(P58-H$147) -> -2.1665164 | U58: =(Q58-I$147) -> -1.3601303 | V58: =(R58-J$147) -> -3.7390665 | W58: =(S58-K$147) -> 1.1975552 | X58: 31 | Y58: 30 | Z58: 23 | AA58: =VLOOKUP(A58,'Hard Stats 2013-2014'!$A$2:$L$691,6,0) -> 33 | AB58: =(X58/D58)*77 -> 33.619718 | AC58: =(Y58/E58)*77 -> 28.170732 | AD58: =(Z58/F58)*77 -> 36.895833 | AE58: =(AA58/G58)*77 -> 31.7625 | AF58: =(AB58/AB$146)*1000 -> 8.2706544 | AG58: =(AC58/AC$146)*1000 -> 6.8134715 | AH58: =(AD58/AD$146)*1000 -> 7.9884652 | AI58: =(AE58/AE$146)*1000 -> 6.787598 | AJ58: =(AF58-H$147) -> 0.07393312 | AK58: =(AG58-I$147) -> -0.93846644 | AL58: =(AH58-J$147) -> 0.52577862 | AM58: =(AI58-K$147) -> -0.51167206 | AN58: 8 | AO58: 15 | AP58: 10 | AQ58: =VLOOKUP(A58,'Hard Stats 2013-2014'!$A$2:$L$691,8,0) -> 20 | AR58: =(AN58/D58)*77 -> 8.6760563 | AS58: =(AO58/E58)*77 -> 14.085366 | AT58: =(AP58/F58)*77 -> 16.041667 | AU58: =(AQ58/G58)*77 -> 19.25 | AV58: =((AR58/AR$146)*1000) -> 4.211046 | AW58: =((AS58/AS$146)*1000) -> 7.0165383 | AX58: =((AT58/AT$146)*1000) -> 6.8126435 | AY58: =((AU58/AU$146)*1000) -> 7.8756482 | AZ58: =(AV58-H$147) -> -3.9856753 | BA58: =(AW58-I$147) -> -0.73539969 | BB58: =(AX58-J$147) -> -0.65004309 | BC58: =(AY58-K$147) -> 0.5763781 | BD58: 156 | BE58: 133 | BF58: 93 | BG58: =VLOOKUP(A58,'Hard Stats 2013-2014'!$A$2:$L$691,9,0) -> 167 | BH58: =(BD58/D58)*77 -> 169.1831 | BI58: =(BE58/E58)*77 -> 124.89024 | BJ58: =(BF58/F58)*77 -> 149.1875 | BK58: =(BG58/G58)*77 -> 160.7375 | BL58: =(BH58/BH$146)*1000 -> 7.2193085 | BM58: =(BI58/BI$146)*1000 -> 5.1892272 | BN58: =(BJ58/BJ$146)*1000 -> 5.9602624 | BO58: =(BK58/BK$146)*1000 -> 6.0322172 | BP58: =(BL58-H$147) -> -0.97741284 | BQ58: =(BM58-I$147) -> -2.5627108 | BR58: =(BN58-J$147) -> -1.5024242 | BS58: =(BO58-K$147) -> -1.2670528 | BT58: =(((BP58+AZ58)+AJ58)+T58) -> -7.0556715 | BU58: =(((BQ58+BA58)+AK58)+U58) -> -5.5967072 | BV58: =(((BR58+BB58)+AL58)+V58) -> -5.3657552 | BW58: =(((BS58+BC58)+AM58)+W58) -> -0.0047915951 | BX58: =((BW58*0.6)+(BV58*0.3)+(BU58*0.1)) -> -2.1722722 | BZ58: =RANK(CB58,CB$51:CB$65) -> 9 | CA58: =C58 -> Frans Nielsen | CB58: =BW58 -> -0.0047915951 | CC58: 8 | CD58: =VLOOKUP(CC58,BZ$51:CB$65,2,FALSE) -> David Perron | CE58: =VLOOKUP(CD58,CA$51:CC$65,2,FALSE) -> 0.082004804 | CG58: =RANK(CI58,CI$100:CI$136) -> #REF! | CH58: =#REF! -> #REF! | CI58: =#REF! -> #REF! | CJ58: =CJ102+1 -> #REF! | CK58: =VLOOKUP(CJ58,CG$100:CI$136,2,FALSE) -> #REF! | CL58: =VLOOKUP(CK58,CH$100:CJ$136,2,FALSE) -> #REF! | CN58: =RANK(CP58,CP$51:CP$65) -> 11 | CO58: =C58 -> Frans Nielsen | CP58: =BX58 -> -2.1722722 | CQ58: 8 | CR58: =VLOOKUP(CQ58,CN$51:CP$65,2,FALSE) -> Evander Kane | CS58: =VLOOKUP(CR58,CO$51:CQ$65,2,FALSE) -> 0.11338683
A59: =C59 -> T.J. Oshie | B59: =RIGHT(C59,LEN(C59)-FIND(" ",C59)) -> Oshie | C59: T.J. Oshie | D59: 49 | E59: 80 | F59: 30 | G59: =VLOOKUP(A59,'Hard Stats 2013-2014'!$A$2:$L$691,4,0) -> 79 | H59: 12 | I59: 19 | J59: 7 | K59: =VLOOKUP(A59,'Hard Stats 2013-2014'!$A$2:$L$691,5,0) -> 21 | L59: =(H59/D59)*77 -> 18.857143 | M59: =(I59/E59)*77 -> 18.2875 | N59: =(J59/F59)*77 -> 17.966667 | O59: =(K59/G59)*77 -> 20.468354 | P59: =(L59/(L$146))*1000 -> 8.0655174 | Q59: =(M59/(M$146))*1000 -> 7.3223797 | R59: =(N59/(N$146))*1000 -> 6.9507574 | S59: =(O59/(O$146))*1000 -> 7.2276792 | T59: =(P59-H$147) -> -0.13120396 | U59: =(Q59-I$147) -> -0.42955832 | V59: =(R59-J$147) -> -0.51192917 | W59: =(S59-K$147) -> -0.071590857 | X59: 22 | Y59: 35 | Z59: 13 | AA59: =VLOOKUP(A59,'Hard Stats 2013-2014'!$A$2:$L$691,6,0) -> 39 | AB59: =(X59/D59)*77 -> 34.571429 | AC59: =(Y59/E59)*77 -> 33.6875 | AD59: =(Z59/F59)*77 -> 33.366667 | AE59: =(AA59/G59)*77 -> 38.012658 | AF59: =(AB59/AB$146)*1000 -> 8.5047809 | AG59: =(AC59/AC$146)*1000 -> 8.1477764 | AH59: =(AD59/AD$146)*1000 -> 7.2243511 | AI59: =(AE59/AE$146)*1000 -> 8.1232473 | AJ59: =(AF59-H$147) -> 0.30805961 | AK59: =(AG59-I$147) -> 0.39583841 | AL59: =(AH59-J$147) -> -0.23833544 | AM59: =(AI59-K$147) -> 0.82397726 | AN59: 9 | AO59: 16 | AP59: 10 | AQ59: =VLOOKUP(A59,'Hard Stats 2013-2014'!$A$2:$L$691,8,0) -> 15 | AR59: =(AN59/D59)*77 -> 14.142857 | AS59: =(AO59/E59)*77 -> 15.4 | AT59: =(AP59/F59)*77 -> 25.666667 | AU59: =(AQ59/G59)*77 -> 14.620253 | AV59: =((AR59/AR$146)*1000) -> 6.8644347 | AW59: =((AS59/AS$146)*1000) -> 7.6714152 | AX59: =((AT59/AT$146)*1000) -> 10.90023 | AY59: =((AU59/AU$146)*1000) -> 5.9815049 | AZ59: =(AV59-H$147) -> -1.3322866 | BA59: =(AW59-I$147) -> -0.080522782 | BB59: =(AX59-J$147) -> 3.437543 | BC59: =(AY59-K$147) -> -1.3177651 | BD59: 103 | BE59: 188 | BF59: 65 | BG59: =VLOOKUP(A59,'Hard Stats 2013-2014'!$A$2:$L$691,9,0) -> 152 | BH59: =(BD59/D59)*77 -> 161.85714 | BI59: =(BE59/E59)*77 -> 180.95 | BJ59: =(BF59/F59)*77 -> 166.83333 | BK59: =(BG59/G59)*77 -> 148.1519 | BL59: =(BH59/BH$146)*1000 -> 6.9066984 | BM59: =(BI59/BI$146)*1000 -> 7.518527 | BN59: =(BJ59/BJ$146)*1000 -> 6.6652396 | BO59: =(BK59/BK$146)*1000 -> 5.5599001 | BP59: =(BL59-H$147) -> -1.2900229 | BQ59: =(BM59-I$147) -> -0.23341103 | BR59: =(BN59-J$147) -> -0.79744694 | BS59: =(BO59-K$147) -> -1.73937 | BT59: =(((BP59+AZ59)+AJ59)+T59) -> -2.4454539 | BU59: =(((BQ59+BA59)+AK59)+U59) -> -0.34765372 | BV59: =(((BR59+BB59)+AL59)+V59) -> 1.8898314 | BW59: =(((BS59+BC59)+AM59)+W59) -> -2.3047487 | BX59: =((BW59*0.6)+(BV59*0.3)+(BU59*0.1)) -> -0.85066518 | BZ59: =RANK(CB59,CB$51:CB$65) -> 12 | CA59: =C59 -> T.J. Oshie | CB59: =BW59 -> -2.3047487 | CC59: 9 | CD59: =VLOOKUP(CC59,BZ$51:CB$65,2,FALSE) -> Frans Nielsen | CE59: =VLOOKUP(CD59,CA$51:CC$65,2,FALSE) -> -0.0047915951 | CG59: =RANK(CI59,CI$6:CI$178) -> #REF! | CH59: =#REF! -> #REF! | CI59: =#REF! -> #REF! | CJ59: =CJ80+1 -> 4 | CK59: =VLOOKUP(CJ59,CG$6:CI$178,2,FALSE) -> #N/A | CL59: =VLOOKUP(CK59,CH$6:CJ$178,2,FALSE) -> #N/A | CN59: =RANK(CP59,CP$51:CP$65) -> 9 | CO59: =C59 -> T.J. Oshie | CP59: =BX59 -> -0.85066518 | CQ59: 9 | CR59: =VLOOKUP(CQ59,CN$51:CP$65,2,FALSE) -> T.J. Oshie | CS59: =VLOOKUP(CR59,CO$51:CQ$65,2,FALSE) -> -0.85066518
A60: =C60 -> David Perron | B60: =RIGHT(C60,LEN(C60)-FIND(" ",C60)) -> Perron | C60: David Perron | D60: 10 | E60: 57 | F60: 48 | G60: =VLOOKUP(A60,'Hard Stats 2013-2014'!$A$2:$L$691,4,0) -> 78 | H60: 5 | I60: 21 | J60: 10 | K60: =VLOOKUP(A60,'Hard Stats 2013-2014'!$A$2:$L$691,5,0) -> 28 | L60: =(H60/D60)*77 -> 38.5 | M60: =(I60/E60)*77 -> 28.368421 | N60: =(J60/F60)*77 -> 16.041667 | O60: =(K60/G60)*77 -> 27.641026 | P60: =(L60/(L$146))*1000 -> 16.467098 | Q60: =(M60/(M$146))*1000 -> 11.358816 | R60: =(N60/(N$146))*1000 -> 6.2060334 | S60: =(O60/(O$146))*1000 -> 9.7604557 | T60: =(P60-H$147) -> 8.2703766 | U60: =(Q60-I$147) -> 3.6068781 | V60: =(R60-J$147) -> -1.2566532 | W60: =(S60-K$147) -> 2.4611856 | X60: 2 | Y60: 21 | Z60: 15 | AA60: =VLOOKUP(A60,'Hard Stats 2013-2014'!$A$2:$L$691,6,0) -> 29 | AB60: =(X60/D60)*77 -> 15.4 | AC60: =(Y60/E60)*77 -> 28.368421 | AD60: =(Z60/F60)*77 -> 24.0625 | AE60: =(AA60/G60)*77 -> 28.628205 | AF60: =(AB60/AB$146)*1000 -> 3.7884933 | AG60: =(AC60/AC$146)*1000 -> 6.8612854 | AH60: =(AD60/AD$146)*1000 -> 5.2098686 | AI60: =(AE60/AE$146)*1000 -> 6.117804 | AJ60: =(AF60-H$147) -> -4.408228 | AK60: =(AG60-I$147) -> -0.8906526 | AL60: =(AH60-J$147) -> -2.252818 | AM60: =(AI60-K$147) -> -1.1814661 | AN60: 0 | AO60: 10 | AP60: 6 | AQ60: =VLOOKUP(A60,'Hard Stats 2013-2014'!$A$2:$L$691,8,0) -> 13 | AR60: =(AN60/D60)*77 -> 0 | AS60: =(AO60/E60)*77 -> 13.508772 | AT60: =(AP60/F60)*77 -> 9.625 | AU60: =(AQ60/G60)*77 -> 12.833333 | AV60: =((AR60/AR$146)*1000) -> 0 | AW60: =((AS60/AS$146)*1000) -> 6.7293116 | AX60: =((AT60/AT$146)*1000) -> 4.0875861 | AY60: =((AU60/AU$146)*1000) -> 5.2504321 | AZ60: =(AV60-H$147) -> -8.1967213 | BA60: =(AW60-I$147) -> -1.0226264 | BB60: =(AX60-J$147) -> -3.3751005 | BC60: =(AY60-K$147) -> -2.048838 | BD60: 29 | BE60: 114 | BF60: 84 | BG60: =VLOOKUP(A60,'Hard Stats 2013-2014'!$A$2:$L$691,9,0) -> 220 | BH60: =(BD60/D60)*77 -> 223.3 | BI60: =(BE60/E60)*77 -> 154 | BJ60: =(BF60/F60)*77 -> 134.75 | BK60: =(BG60/G60)*77 -> 217.17949 | BL60: =(BH60/BH$146)*1000 -> 9.5285616 | BM60: =(BI60/BI$146)*1000 -> 6.3987463 | BN60: =(BJ60/BJ$146)*1000 -> 5.3834628 | BO60: =(BK60/BK$146)*1000 -> 8.1503933 | BP60: =(BL60-H$147) -> 1.3318403 | BQ60: =(BM60-I$147) -> -1.3531916 | BR60: =(BN60-J$147) -> -2.0792238 | BS60: =(BO60-K$147) -> 0.85112326 | BT60: =(((BP60+AZ60)+AJ60)+T60) -> -3.0027324 | BU60: =(((BQ60+BA60)+AK60)+U60) -> 0.34040748 | BV60: =(((BR60+BB60)+AL60)+V60) -> -8.9637954 | BW60: =(((BS60+BC60)+AM60)+W60) -> 0.082004804 | BX60: =((BW60*0.6)+(BV60*0.3)+(BU60*0.1)) -> -2.605895 | BZ60: =RANK(CB60,CB$51:CB$65) -> 8 | CA60: =C60 -> David Perron | CB60: =BW60 -> 0.082004804 | CC60: 10 | CD60: =VLOOKUP(CC60,BZ$51:CB$65,2,FALSE) -> Eric Staal | CE60: =VLOOKUP(CD60,CA$51:CC$65,2,FALSE) -> -0.4396547 | CG60: =RANK(CI60,CI$75:CI$184) -> #REF! | CH60: =#REF! -> #REF! | CI60: =#REF! -> #REF! | CJ60: =CJ78+1 -> 5 | CK60: =VLOOKUP(CJ60,CG$75:CI$184,2,FALSE) -> #N/A | CL60: =VLOOKUP(CK60,CH$75:CJ$184,2,FALSE) -> #N/A | CN60: =RANK(CP60,CP$51:CP$65) -> 12 | CO60: =C60 -> David Perron | CP60: =BX60 -> -2.605895 | CQ60: 10 | CR60: =VLOOKUP(CQ60,CN$51:CP$65,2,FALSE) -> David Backes | CS60: =VLOOKUP(CR60,CO$51:CQ$65,2,FALSE) -> -2.0206997
A61: =C61 -> Patrick Sharp | B61: =RIGHT(C61,LEN(C61)-FIND(" ",C61)) -> Sharp | C61: Patrick Sharp | D61: 74 | E61: 74 | F61: 28 | G61: =VLOOKUP(A61,'Hard Stats 2013-2014'!$A$2:$L$691,4,0) -> 82 | H61: 34 | I61: 33 | J61: 6 | K61: =VLOOKUP(A61,'Hard Stats 2013-2014'!$A$2:$L$691,5,0) -> 34 | L61: =(H61/D61)*77 -> 35.378378 | M61: =(I61/E61)*77 -> 34.337838 | N61: =(J61/F61)*77 -> 16.5 | O61: =(K61/G61)*77 -> 31.926829 | P61: =(L61/(L$146))*1000 -> 15.131928 | Q61: =(M61/(M$146))*1000 -> 13.748992 | R61: =(N61/(N$146))*1000 -> 6.3833486 | S61: =(O61/(O$146))*1000 -> 11.273836 | T61: =(P61-H$147) -> 6.9352065 | U61: =(Q61-I$147) -> 5.9970537 | V61: =(R61-J$147) -> -1.0793379 | W61: =(S61-K$147) -> 3.9745664 | X61: 37 | Y61: 36 | Z61: 14 | AA61: =VLOOKUP(A61,'Hard Stats 2013-2014'!$A$2:$L$691,6,0) -> 44 | AB61: =(X61/D61)*77 -> 38.5 | AC61: =(Y61/E61)*77 -> 37.459459 | AD61: =(Z61/F61)*77 -> 38.5 | AE61: =(AA61/G61)*77 -> 41.317073 | AF61: =(AB61/AB$146)*1000 -> 9.4712333 | AG61: =(AC61/AC$146)*1000 -> 9.0600757 | AH61: =(AD61/AD$146)*1000 -> 8.3357898 | AI61: =(AE61/AE$146)*1000 -> 8.8293958 | AJ61: =(AF61-H$147) -> 1.274512 | AK61: =(AG61-I$147) -> 1.3081377 | AL61: =(AH61-J$147) -> 0.87310319 | AM61: =(AI61-K$147) -> 1.5301257 | AN61: 26 | AO61: 17 | AP61: 7 | AQ61: =VLOOKUP(A61,'Hard Stats 2013-2014'!$A$2:$L$691,8,0) -> 25 | AR61: =(AN61/D61)*77 -> 27.054054 | AS61: =(AO61/E61)*77 -> 17.689189 | AT61: =(AP61/F61)*77 -> 19.25 | AU61: =(AQ61/G61)*77 -> 23.47561 | AV61: =((AR61/AR$146)*1000) -> 13.131066 | AW61: =((AS61/AS$146)*1000) -> 8.8117607 | AX61: =((AT61/AT$146)*1000) -> 8.1751722 | AY61: =((AU61/AU$146)*1000) -> 9.604449 | AZ61: =(AV61-H$147) -> 4.9343444 | BA61: =(AW61-I$147) -> 1.0598227 | BB61: =(AX61-J$147) -> 0.71248561 | BC61: =(AY61-K$147) -> 2.3051789 | BD61: 268 | BE61: 282 | BF61: 88 | BG61: =VLOOKUP(A61,'Hard Stats 2013-2014'!$A$2:$L$691,9,0) -> 313 | BH61: =(BD61/D61)*77 -> 278.86486 | BI61: =(BE61/E61)*77 -> 293.43243 | BJ61: =(BF61/F61)*77 -> 242 | BK61: =(BG61/G61)*77 -> 293.91463 | BL61: =(BH61/BH$146)*1000 -> 11.899602 | BM61: =(BI61/BI$146)*1000 -> 12.192206 | BN61: =(BJ61/BJ$146)*1000 -> 9.6682597 | BO61: =(BK61/BK$146)*1000 -> 11.030139 | BP61: =(BL61-H$147) -> 3.7028803 | BQ61: =(BM61-I$147) -> 4.4402679 | BR61: =(BN61-J$147) -> 2.2055731 | BS61: =(BO61-K$147) -> 3.7308687 | BT61: =(((BP61+AZ61)+AJ61)+T61) -> 16.846943 | BU61: =(((BQ61+BA61)+AK61)+U61) -> 12.805282 | BV61: =(((BR61+BB61)+AL61)+V61) -> 2.711824 | BW61: =(((BS61+BC61)+AM61)+W61) -> 11.54074 | BX61: =((BW61*0.6)+(BV61*0.3)+(BU61*0.1)) -> 9.0185192 | BZ61: =RANK(CB61,CB$51:CB$65) -> 2 | CA61: =C61 -> Patrick Sharp | CB61: =BW61 -> 11.54074 | CC61: 11 | CD61: =VLOOKUP(CC61,BZ$51:CB$65,2,FALSE) -> Evander Kane | CE61: =VLOOKUP(CD61,CA$51:CC$65,2,FALSE) -> -1.2836455 | CG61: =RANK(CI61,CI$122:CI$167) -> #REF! | CH61: =#REF! -> #REF! | CI61: =#REF! -> #REF! | CJ61: =CJ135+1 -> #REF! | CK61: =VLOOKUP(CJ61,CG$122:CI$167,2,FALSE) -> #REF! | CL61: =VLOOKUP(CK61,CH$122:CJ$167,2,FALSE) -> #REF! | CN61: =RANK(CP61,CP$51:CP$65) -> 2 | CO61: =C61 -> Patrick Sharp | CP61: =BX61 -> 9.0185192 | CQ61: 11 | CR61: =VLOOKUP(CQ61,CN$51:CP$65,2,FALSE) -> Frans Nielsen | CS61: =VLOOKUP(CR61,CO$51:CQ$65,2,FALSE) -> -2.1722722
A62: =C62 -> Eric Staal | B62: =RIGHT(C62,LEN(C62)-FIND(" ",C62)) -> Staal | C62: Eric Staal | D62: 81 | E62: 82 | F62: 48 | G62: =VLOOKUP(A62,'Hard Stats 2013-2014'!$A$2:$L$691,4,0) -> 79 | H62: 33 | I62: 24 | J62: 18 | K62: =VLOOKUP(A62,'Hard Stats 2013-2014'!$A$2:$L$691,5,0) -> 21 | L62: =(H62/D62)*77 -> 31.37037 | M62: =(I62/E62)*77 -> 22.536585 | N62: =(J62/F62)*77 -> 28.875 | O62: =(K62/G62)*77 -> 20.468354 | P62: =(L62/(L$146))*1000 -> 13.417635 | Q62: =(M62/(M$146))*1000 -> 9.0237285 | R62: =(N62/(N$146))*1000 -> 11.17086 | S62: =(O62/(O$146))*1000 -> 7.2276792 | T62: =(P62-H$147) -> 5.220914 | U62: =(Q62-I$147) -> 1.2717905 | V62: =(R62-J$147) -> 3.7081735 | W62: =(S62-K$147) -> -0.071590857 | X62: 43 | Y62: 46 | Z62: 35 | AA62: =VLOOKUP(A62,'Hard Stats 2013-2014'!$A$2:$L$691,6,0) -> 40 | AB62: =(X62/D62)*77 -> 40.876543 | AC62: =(Y62/E62)*77 -> 43.195122 | AD62: =(Z62/F62)*77 -> 56.145833 | AE62: =(AA62/G62)*77 -> 38.987342 | AF62: =(AB62/AB$146)*1000 -> 10.055877 | AG62: =(AC62/AC$146)*1000 -> 10.447323 | AH62: =(AD62/AD$146)*1000 -> 12.15636 | AI62: =(AE62/AE$146)*1000 -> 8.3315357 | AJ62: =(AF62-H$147) -> 1.859156 | AK62: =(AG62-I$147) -> 2.6953851 | AL62: =(AH62-J$147) -> 4.6936735 | AM62: =(AI62-K$147) -> 1.0322657 | AN62: 29 | AO62: 23 | AP62: 9 | AQ62: =VLOOKUP(A62,'Hard Stats 2013-2014'!$A$2:$L$691,8,0) -> 12 | AR62: =(AN62/D62)*77 -> 27.567901 | AS62: =(AO62/E62)*77 -> 21.597561 | AT62: =(AP62/F62)*77 -> 14.4375 | AU62: =(AQ62/G62)*77 -> 11.696203 | AV62: =((AR62/AR$146)*1000) -> 13.380469 | AW62: =((AS62/AS$146)*1000) -> 10.758692 | AX62: =((AT62/AT$146)*1000) -> 6.1313791 | AY62: =((AU62/AU$146)*1000) -> 4.785204 | AZ62: =(AV62-H$147) -> 5.1837474 | BA62: =(AW62-I$147) -> 3.0067541 | BB62: =(AX62-J$147) -> -1.3313074 | BC62: =(AY62-K$147) -> -2.5140661 | BD62: 296 | BE62: 262 | BF62: 152 | BG62: =VLOOKUP(A62,'Hard Stats 2013-2014'!$A$2:$L$691,9,0) -> 230 | BH62: =(BD62/D62)*77 -> 281.38272 | BI62: =(BE62/E62)*77 -> 246.02439 | BJ62: =(BF62/F62)*77 -> 243.83333 | BK62: =(BG62/G62)*77 -> 224.17722 | BL62: =(BH62/BH$146)*1000 -> 12.007042 | BM62: =(BI62/BI$146)*1000 -> 10.222387 | BN62: =(BJ62/BJ$146)*1000 -> 9.7415041 | BO62: =(BK62/BK$146)*1000 -> 8.4130067 | BP62: =(BL62-H$147) -> 3.810321 | BQ62: =(BM62-I$147) -> 2.4704495 | BR62: =(BN62-J$147) -> 2.2788175 | BS62: =(BO62-K$147) -> 1.1137366 | BT62: =(((BP62+AZ62)+AJ62)+T62) -> 16.074138 | BU62: =(((BQ62+BA62)+AK62)+U62) -> 9.4443791 | BV62: =(((BR62+BB62)+AL62)+V62) -> 9.3493571 | BW62: =(((BS62+BC62)+AM62)+W62) -> -0.4396547 | BX62: =((BW62*0.6)+(BV62*0.3)+(BU62*0.1)) -> 3.4854522 | BZ62: =RANK(CB62,CB$51:CB$65) -> 10 | CA62: =C62 -> Eric Staal | CB62: =BW62 -> -0.4396547 | CC62: 12 | CD62: =VLOOKUP(CC62,BZ$51:CB$65,2,FALSE) -> T.J. Oshie | CE62: =VLOOKUP(CD62,CA$51:CC$65,2,FALSE) -> -2.3047487 | CH62: =#REF! -> #REF! | CN62: =RANK(CP62,CP$51:CP$65) -> 6 | CO62: =C62 -> Eric Staal | CP62: =BX62 -> 3.4854522 | CQ62: 12 | CR62: =VLOOKUP(CQ62,CN$51:CP$65,2,FALSE) -> David Perron | CS62: =VLOOKUP(CR62,CO$51:CQ$65,2,FALSE) -> -2.605895
A63: =C63 -> Vladimir Tarasenko | B63: =RIGHT(C63,LEN(C63)-FIND(" ",C63)) -> Tarasenko | C63: Vladimir Tarasenko | D63: NA | E63: NA | F63: 38 | G63: =VLOOKUP(A63,'Hard Stats 2013-2014'!$A$2:$L$691,4,0) -> 64 | H63: NA | I63: NA | J63: 8 | K63: =VLOOKUP(A63,'Hard Stats 2013-2014'!$A$2:$L$691,5,0) -> 21 | L63: NA | M63: NA | N63: =(J63/F63)*77 -> 16.210526 | O63: =(K63/G63)*77 -> 25.265625 | P63: NA | Q63: NA | R63: =(N63/(N$146))*1000 -> 6.2713601 | S63: =(O63/(O$146))*1000 -> 8.9216665 | T63: NA | U63: NA | V63: =(R63-J$147) -> -1.1913265 | W63: =(S63-K$147) -> 1.6223965 | X63: NA | Y63: NA | Z63: 11 | AA63: =VLOOKUP(A63,'Hard Stats 2013-2014'!$A$2:$L$691,6,0) -> 22 | AB63: NA | AC63: NA | AD63: =(Z63/F63)*77 -> 22.289474 | AE63: =(AA63/G63)*77 -> 26.46875 | AF63: NA | AG63: NA | AH63: =(AD63/AD$146)*1000 -> 4.8259835 | AI63: =(AE63/AE$146)*1000 -> 5.6563317 | AJ63: NA | AK63: NA | AL63: =(AH63-J$147) -> -2.636703 | AM63: =(AI63-K$147) -> -1.6429384 | AN63: NA | AO63: NA | AP63: 5 | AQ63: =VLOOKUP(A63,'Hard Stats 2013-2014'!$A$2:$L$691,8,0) -> 7 | AR63: NA | AS63: NA | AT63: =(AP63/F63)*77 -> 10.131579 | AU63: =(AQ63/G63)*77 -> 8.421875 | AV63: NA | AW63: NA | AX63: =((AT63/AT$146)*1000) -> 4.3027222 | AY63: =((AU63/AU$146)*1000) -> 3.4455961 | AZ63: NA | BA63: NA | BB63: =(AX63-J$147) -> -3.1599644 | BC63: =(AY63-K$147) -> -3.853674 | BD63: NA | BE63: NA | BF63: 75 | BG63: =VLOOKUP(A63,'Hard Stats 2013-2014'!$A$2:$L$691,9,0) -> 136 | BH63: NA | BI63: NA | BJ63: =(BF63/F63)*77 -> 151.97368 | BK63: =(BG63/G63)*77 -> 163.625 | BL63: NA | BM63: NA | BN63: =(BJ63/BJ$146)*1000 -> 6.0715746 | BO63: =(BK63/BK$146)*1000 -> 6.1405804 | BP63: NA | BQ63: NA | BR63: =(BN63-J$147) -> -1.391112 | BS63: =(BO63-K$147) -> -1.1586896 | BT63: NA | BU63: NA | BV63: =(((BR63+BB63)+AL63)+V63) -> -8.3791059 | BW63: =(((BS63+BC63)+AM63)+W63) -> -5.0329056 | BX63: =((BW63*0.65)+(BV63*0.35)) -> -6.2040757 | BZ63: =RANK(CB63,CB$51:CB$65) -> 15 | CA63: =C63 -> Vladimir Tarasenko | CB63: =BW63 -> -5.0329056 | CC63: 13 | CD63: =VLOOKUP(CC63,BZ$51:CB$65,2,FALSE) -> Nazem Kadri | CE63: =VLOOKUP(CD63,CA$51:CC$65,2,FALSE) -> -3.1437426 | CH63: =#REF! -> #REF! | CN63: =RANK(CP63,CP$51:CP$65) -> 15 | CO63: =C63 -> Vladimir Tarasenko | CP63: =BX63 -> -6.2040757 | CQ63: 13 | CR63: =VLOOKUP(CQ63,CN$51:CP$65,2,FALSE) -> Nazem Kadri | CS63: =VLOOKUP(CR63,CO$51:CQ$65,2,FALSE) -> -2.6688931
A64: =C64 -> John Tavares | B64: =RIGHT(C64,LEN(C64)-FIND(" ",C64)) -> Tavares | C64: John Tavares | D64: 79 | E64: 82 | F64: 48 | G64: =VLOOKUP(A64,'Hard Stats 2013-2014'!$A$2:$L$691,4,0) -> 59 | H64: 29 | I64: 31 | J64: 28 | K64: =VLOOKUP(A64,'Hard Stats 2013-2014'!$A$2:$L$691,5,0) -> 24 | L64: =(H64/D64)*77 -> 28.265823 | M64: =(I64/E64)*77 -> 29.109756 | N64: =(J64/F64)*77 -> 44.916667 | O64: =(K64/G64)*77 -> 31.322034 | P64: =(L64/(L$146))*1000 -> 12.089768 | Q64: =(M64/(M$146))*1000 -> 11.655649 | R64: =(N64/(N$146))*1000 -> 17.376893 | S64: =(O64/(O$146))*1000 -> 11.060274 | T64: =(P64-H$147) -> 3.8930468 | U64: =(Q64-I$147) -> 3.9037113 | V64: =(R64-J$147) -> 9.9142069 | W64: =(S64-K$147) -> 3.7610042 | X64: 38 | Y64: 50 | Z64: 19 | AA64: =VLOOKUP(A64,'Hard Stats 2013-2014'!$A$2:$L$691,6,0) -> 42 | AB64: =(X64/D64)*77 -> 37.037975 | AC64: =(Y64/E64)*77 -> 46.95122 | AD64: =(Z64/F64)*77 -> 30.479167 | AE64: =(AA64/G64)*77 -> 54.813559 | AF64: =(AB64/AB$146)*1000 -> 9.1115662 | AG64: =(AC64/AC$146)*1000 -> 11.355786 | AH64: =(AD64/AD$146)*1000 -> 6.5991669 | AI64: =(AE64/AE$146)*1000 -> 11.713574 | AJ64: =(AF64-H$147) -> 0.9148449 | AK64: =(AG64-I$147) -> 3.6038479 | AL64: =(AH64-J$147) -> -0.86351967 | AM64: =(AI64-K$147) -> 4.4143043 | AN64: 24 | AO64: 25 | AP64: 16 | AQ64: =VLOOKUP(A64,'Hard Stats 2013-2014'!$A$2:$L$691,8,0) -> 25 | AR64: =(AN64/D64)*77 -> 23.392405 | AS64: =(AO64/E64)*77 -> 23.47561 | AT64: =(AP64/F64)*77 -> 25.666667 | AU64: =(AQ64/G64)*77 -> 32.627119 | AV64: =((AR64/AR$146)*1000) -> 11.353833 | AW64: =((AS64/AS$146)*1000) -> 11.69423 | AX64: =((AT64/AT$146)*1000) -> 10.90023 | AY64: =((AU64/AU$146)*1000) -> 13.348556 | AZ64: =(AV64-H$147) -> 3.1571116 | BA64: =(AW64-I$147) -> 3.9422925 | BB64: =(AX64-J$147) -> 3.437543 | BC64: =(AY64-K$147) -> 6.0492861 | BD64: 243 | BE64: 286 | BF64: 162 | BG64: =VLOOKUP(A64,'Hard Stats 2013-2014'!$A$2:$L$691,9,0) -> 188 | BH64: =(BD64/D64)*77 -> 236.8481 | BI64: =(BE64/E64)*77 -> 268.56098 | BJ64: =(BF64/F64)*77 -> 259.875 | BK64: =(BG64/G64)*77 -> 245.35593 | BL64: =(BH64/BH$146)*1000 -> 10.10668 | BM64: =(BI64/BI$146)*1000 -> 11.158789 | BN64: =(BJ64/BJ$146)*1000 -> 10.382392 | BO64: =(BK64/BK$146)*1000 -> 9.2078095 | BP64: =(BL64-H$147) -> 1.9099591 | BQ64: =(BM64-I$147) -> 3.4068514 | BR64: =(BN64-J$147) -> 2.9197059 | BS64: =(BO64-K$147) -> 1.9085395 | BT64: =(((BP64+AZ64)+AJ64)+T64) -> 9.8749623 | BU64: =(((BQ64+BA64)+AK64)+U64) -> 14.856703 | BV64: =(((BR64+BB64)+AL64)+V64) -> 15.407936 | BW64: =(((BS64+BC64)+AM64)+W64) -> 16.133134 | BX64: =((BW64*0.6)+(BV64*0.3)+(BU64*0.1)) -> 15.787932 | BZ64: =RANK(CB64,CB$51:CB$65) -> 1 | CA64: =C64 -> John Tavares | CB64: =BW64 -> 16.133134 | CC64: 14 | CD64: =VLOOKUP(CC64,BZ$51:CB$65,2,FALSE) -> Milan Lucic | CE64: =VLOOKUP(CD64,CA$51:CC$65,2,FALSE) -> -3.5892492 | CH64: =#REF! -> #REF! | CN64: =RANK(CP64,CP$51:CP$65) -> 1 | CO64: =C64 -> John Tavares | CP64: =BX64 -> 15.787932 | CQ64: 14 | CR64: =VLOOKUP(CQ64,CN$51:CP$65,2,FALSE) -> Milan Lucic | CS64: =VLOOKUP(CR64,CO$51:CQ$65,2,FALSE) -> -5.759805
A65: =C65 -> Jonathan Toews | B65: =RIGHT(C65,LEN(C65)-FIND(" ",C65)) -> Toews | C65: Jonathan Toews | D65: 80 | E65: 59 | F65: 47 | G65: =VLOOKUP(A65,'Hard Stats 2013-2014'!$A$2:$L$691,4,0) -> 76 | H65: 32 | I65: 29 | J65: 23 | K65: =VLOOKUP(A65,'Hard Stats 2013-2014'!$A$2:$L$691,5,0) -> 28 | L65: =(H65/D65)*77 -> 30.8 | M65: =(I65/E65)*77 -> 37.847458 | N65: =(J65/F65)*77 -> 37.680851 | O65: =(K65/G65)*77 -> 28.368421 | P65: =(L65/(L$146))*1000 -> 13.173678 | Q65: =(M65/(M$146))*1000 -> 15.154256 | R65: =(N65/(N$146))*1000 -> 14.577576 | S65: =(O65/(O$146))*1000 -> 10.01731 | T65: =(P65-H$147) -> 4.976957 | U65: =(Q65-I$147) -> 7.4023179 | V65: =(R65-J$147) -> 7.1148897 | W65: =(S65-K$147) -> 2.7180397 | X65: 44 | Y65: 28 | Z65: 25 | AA65: =VLOOKUP(A65,'Hard Stats 2013-2014'!$A$2:$L$691,6,0) -> 40 | AB65: =(X65/D65)*77 -> 42.35 | AC65: =(Y65/E65)*77 -> 36.542373 | AD65: =(Z65/F65)*77 -> 40.957447 | AE65: =(AA65/G65)*77 -> 40.526316 | AF65: =(AB65/AB$146)*1000 -> 10.418357 | AG65: =(AC65/AC$146)*1000 -> 8.8382659 | AH65: =(AD65/AD$146)*1000 -> 8.8678614 | AI65: =(AE65/AE$146)*1000 -> 8.6604121 | AJ65: =(AF65-H$147) -> 2.2216353 | AK65: =(AG65-I$147) -> 1.0863279 | AL65: =(AH65-J$147) -> 1.4051749 | AM65: =(AI65-K$147) -> 1.3611421 | AN65: 25 | AO65: 12 | AP65: 6 | AQ65: =VLOOKUP(A65,'Hard Stats 2013-2014'!$A$2:$L$691,8,0) -> 15 | AR65: =(AN65/D65)*77 -> 24.0625 | AS65: =(AO65/E65)*77 -> 15.661017 | AT65: =(AP65/F65)*77 -> 9.8297872 | AU65: =(AQ65/G65)*77 -> 15.197368 | AV65: =((AR65/AR$146)*1000) -> 11.679073 | AW65: =((AS65/AS$146)*1000) -> 7.8014392 | AX65: =((AT65/AT$146)*1000) -> 4.174556 | AY65: =((AU65/AU$146)*1000) -> 6.217617 | AZ65: =(AV65-H$147) -> 3.4823516 | BA65: =(AW65-I$147) -> 0.049501204 | BB65: =(AX65-J$147) -> -3.2881306 | BC65: =(AY65-K$147) -> -1.0816531 | BD65: 233 | BE65: 185 | BF65: 143 | BG65: =VLOOKUP(A65,'Hard Stats 2013-2014'!$A$2:$L$691,9,0) -> 193 | BH65: =(BD65/D65)*77 -> 224.2625 | BI65: =(BE65/E65)*77 -> 241.44068 | BJ65: =(BF65/F65)*77 -> 234.2766 | BK65: =(BG65/G65)*77 -> 195.53947 | BL65: =(BH65/BH$146)*1000 -> 9.569633 | BM65: =(BI65/BI$146)*1000 -> 10.031933 | BN65: =(BJ65/BJ$146)*1000 -> 9.3596982 | BO65: =(BK65/BK$146)*1000 -> 7.3382788 | BP65: =(BL65-H$147) -> 1.3729117 | BQ65: =(BM65-I$147) -> 2.2799948 | BR65: =(BN65-J$147) -> 1.8970116 | BS65: =(BO65-K$147) -> 0.039008709 | BT65: =(((BP65+AZ65)+AJ65)+T65) -> 12.053856 | BU65: =(((BQ65+BA65)+AK65)+U65) -> 10.818142 | BV65: =(((BR65+BB65)+AL65)+V65) -> 7.1289457 | BW65: =(((BS65+BC65)+AM65)+W65) -> 3.0365374 | BX65: =((BW65*0.6)+(BV65*0.3)+(BU65*0.1)) -> 5.0424203 | BZ65: =RANK(CB65,CB$51:CB$65) -> 5 | CA65: =C65 -> Jonathan Toews | CB65: =BW65 -> 3.0365374 | CC65: 15 | CD65: =VLOOKUP(CC65,BZ$51:CB$65,2,FALSE) -> Vladimir Tarasenko | CE65: =VLOOKUP(CD65,CA$51:CC$65,2,FALSE) -> -5.0329056 | CH65: =#REF! -> #REF! | CN65: =RANK(CP65,CP$51:CP$65) -> 5 | CO65: =C65 -> Jonathan Toews | CP65: =BX65 -> 5.0424203 | CQ65: 15 | CR65: =VLOOKUP(CQ65,CN$51:CP$65,2,FALSE) -> Vladimir Tarasenko | CS65: =VLOOKUP(CR65,CO$51:CQ$65,2,FALSE) -> -6.2040757
A66: =C66 -> Dan Boyle | B66: =RIGHT(C66,LEN(C66)-FIND(" ",C66)) -> Boyle | C66: Dan Boyle | D66: 76 | E66: 81 | F66: 46 | G66: =VLOOKUP(A66,'Hard Stats 2013-2014'!$A$2:$L$691,4,0) -> 75 | H66: 9 | I66: 9 | J66: 7 | K66: =VLOOKUP(A66,'Hard Stats 2013-2014'!$A$2:$L$691,5,0) -> 12 | L66: =(H66/D66)*77 -> 9.1184211 | M66: =(I66/E66)*77 -> 8.5555556 | N66: =(J66/F66)*77 -> 11.717391 | O66: =(K66/G66)*77 -> 12.32 | P66: =(L66/(L$146))*1000 -> 3.9001021 | Q66: =(M66/(M$146))*1000 -> 3.4256747 | R66: =(N66/(N$146))*1000 -> 4.5331026 | S66: =(O66/(O$146))*1000 -> 4.3503745 | T66: =(P66-H$147) -> -4.2966192 | U66: =(Q66-I$147) -> -4.3262633 | V66: =(R66-J$147) -> -2.9295839 | W66: =(S66-K$147) -> -2.9488955 | X66: 41 | Y66: 39 | Z66: 13 | AA66: =VLOOKUP(A66,'Hard Stats 2013-2014'!$A$2:$L$691,6,0) -> 24 | AB66: =(X66/D66)*77 -> 41.539474 | AC66: =(Y66/E66)*77 -> 37.074074 | AD66: =(Z66/F66)*77 -> 21.76087 | AE66: =(AA66/G66)*77 -> 24.64 | AF66: =(AB66/AB$146)*1000 -> 10.218962 | AG66: =(AC66/AC$146)*1000 -> 8.966865 | AH66: =(AD66/AD$146)*1000 -> 4.7115333 | AI66: =(AE66/AE$146)*1000 -> 5.2655306 | AJ66: =(AF66-H$147) -> 2.0222409 | AK66: =(AG66-I$147) -> 1.214927 | AL66: =(AH66-J$147) -> -2.7511532 | AM66: =(AI66-K$147) -> -2.0337395 | AN66: 27 | AO66: 17 | AP66: 13 | AQ66: =VLOOKUP(A66,'Hard Stats 2013-2014'!$A$2:$L$691,8,0) -> 18 | AR66: =(AN66/D66)*77 -> 27.355263 | AS66: =(AO66/E66)*77 -> 16.160494 | AT66: =(AP66/F66)*77 -> 21.76087 | AU66: =(AQ66/G66)*77 -> 18.48 | AV66: =((AR66/AR$146)*1000) -> 13.277262 | AW66: =((AS66/AS$146)*1000) -> 8.0502505 | AX66: =((AT66/AT$146)*1000) -> 9.241499 | AY66: =((AU66/AU$146)*1000) -> 7.5606222 | AZ66: =(AV66-H$147) -> 5.0805405 | BA66: =(AW66-I$147) -> 0.29831254 | BB66: =(AX66-J$147) -> 1.7788124 | BC66: =(AY66-K$147) -> 0.26135217 | BD66: 199 | BE66: 252 | BF66: 97 | BG66: =VLOOKUP(A66,'Hard Stats 2013-2014'!$A$2:$L$691,9,0) -> 154 | BH66: =(BD66/D66)*77 -> 201.61842 | BI66: =(BE66/E66)*77 -> 239.55556 | BJ66: =(BF66/F66)*77 -> 162.36957 | BK66: =(BG66/G66)*77 -> 158.10667 | BL66: =(BH66/BH$146)*1000 -> 8.6033746 | BM66: =(BI66/BI$146)*1000 -> 9.9536054 | BN66: =(BJ66/BJ$146)*1000 -> 6.4869055 | BO66: =(BK66/BK$146)*1000 -> 5.9334863 | BP66: =(BL66-H$147) -> 0.4066533 | BQ66: =(BM66-I$147) -> 2.2016674 | BR66: =(BN66-J$147) -> -0.97578112 | BS66: =(BO66-K$147) -> -1.3657837 | BT66: =(((BP66+AZ66)+AJ66)+T66) -> 3.2128156 | BU66: =(((BQ66+BA66)+AK66)+U66) -> -0.61135627 | BV66: =(((BR66+BB66)+AL66)+V66) -> -4.8777058 | BW66: =(((BS66+BC66)+AM66)+W66) -> -6.0870666 | BX66: =((BW66*0.6)+(BV66*0.3)+(BU66*0.1)) -> -5.1766873 | BZ66: =RANK(CB66,CB$66:CB$73) -> 4 | CA66: =C66 -> Dan Boyle | CB66: =BW66 -> -6.0870666 | CC66: 1 | CD66: =VLOOKUP(CC66,BZ$66:CB$73,2,FALSE) -> Kevin Shattenkirk | CE66: =VLOOKUP(CD66,CA$66:CC$73,2,FALSE) -> -1.911352 | CG66: =RANK(CI66,CI$18:CI$163) -> #REF! | CH66: =#REF! -> #REF! | CI66: =#REF! -> #REF! | CJ66: 1 | CK66: =VLOOKUP(CJ66,CG$18:CI$163,2,FALSE) -> #N/A | CL66: =VLOOKUP(CK66,CH$18:CJ$163,2,FALSE) -> #N/A | CN66: =RANK(CP66,CP$66:CP$73) -> 3 | CO66: =C66 -> Dan Boyle | CP66: =BX66 -> -5.1766873 | CQ66: 1 | CR66: =VLOOKUP(CQ66,CN$66:CP$73,2,FALSE) -> Mike Green | CS66: =VLOOKUP(CR66,CO$66:CQ$73,2,FALSE) -> -1.9148231
A67: =C67 -> Christian Ehrhoff | B67: =RIGHT(C67,LEN(C67)-FIND(" ",C67)) -> Ehrhoff | C67: Christian Ehrhoff | D67: 79 | E67: 66 | F67: 47 | G67: =VLOOKUP(A67,'Hard Stats 2013-2014'!$A$2:$L$691,4,0) -> 79 | H67: 14 | I67: 5 | J67: 5 | K67: =VLOOKUP(A67,'Hard Stats 2013-2014'!$A$2:$L$691,5,0) -> 6 | L67: =(H67/D67)*77 -> 13.64557 | M67: =(I67/E67)*77 -> 5.8333333 | N67: =(J67/F67)*77 -> 8.1914894 | O67: =(K67/G67)*77 -> 5.8481013 | P67: =(L67/(L$146))*1000 -> 5.8364398 | Q67: =(M67/(M$146))*1000 -> 2.3356873 | R67: =(N67/(N$146))*1000 -> 3.1690383 | S67: =(O67/(O$146))*1000 -> 2.0650512 | T67: =(P67-H$147) -> -2.3602815 | U67: =(Q67-I$147) -> -5.4162507 | V67: =(R67-J$147) -> -4.2936482 | W67: =(S67-K$147) -> -5.2342189 | X67: 36 | Y67: 27 | Z67: 17 | AA67: =VLOOKUP(A67,'Hard Stats 2013-2014'!$A$2:$L$691,6,0) -> 27 | AB67: =(X67/D67)*77 -> 35.088608 | AC67: =(Y67/E67)*77 -> 31.5 | AD67: =(Z67/F67)*77 -> 27.851064 | AE67: =(AA67/G67)*77 -> 26.316456 | AF67: =(AB67/AB$146)*1000 -> 8.6320101 | AG67: =(AC67/AC$146)*1000 -> 7.6187 | AH67: =(AD67/AD$146)*1000 -> 6.0301458 | AI67: =(AE67/AE$146)*1000 -> 5.6237866 | AJ67: =(AF67-H$147) -> 0.43528879 | AK67: =(AG67-I$147) -> -0.13323798 | AL67: =(AH67-J$147) -> -1.4325408 | AM67: =(AI67-K$147) -> -1.6754835 | AN67: 28 | AO67: 11 | AP67: 9 | AQ67: =VLOOKUP(A67,'Hard Stats 2013-2014'!$A$2:$L$691,8,0) -> 12 | AR67: =(AN67/D67)*77 -> 27.291139 | AS67: =(AO67/E67)*77 -> 12.833333 | AT67: =(AP67/F67)*77 -> 14.744681 | AU67: =(AQ67/G67)*77 -> 11.696203 | AV67: =((AR67/AR$146)*1000) -> 13.246138 | AW67: =((AS67/AS$146)*1000) -> 6.392846 | AX67: =((AT67/AT$146)*1000) -> 6.261834 | AY67: =((AU67/AU$146)*1000) -> 4.785204 | AZ67: =(AV67-H$147) -> 5.049417 | BA67: =(AW67-I$147) -> -1.359092 | BB67: =(AX67-J$147) -> -1.2008526 | BC67: =(AY67-K$147) -> -2.5140661 | BD67: 209 | BE67: 136 | BF67: 102 | BG67: =VLOOKUP(A67,'Hard Stats 2013-2014'!$A$2:$L$691,9,0) -> 161 | BH67: =(BD67/D67)*77 -> 203.70886 | BI67: =(BE67/E67)*77 -> 158.66667 | BJ67: =(BF67/F67)*77 -> 167.10638 | BK67: =(BG67/G67)*77 -> 156.92405 | BL67: =(BH67/BH$146)*1000 -> 8.692577 | BM67: =(BI67/BI$146)*1000 -> 6.5926477 | BN67: =(BJ67/BJ$146)*1000 -> 6.6761484 | BO67: =(BK67/BK$146)*1000 -> 5.8891047 | BP67: =(BL67-H$147) -> 0.49585564 | BQ67: =(BM67-I$147) -> -1.1592902 | BR67: =(BN67-J$147) -> -0.78653821 | BS67: =(BO67-K$147) -> -1.4101654 | BT67: =(((BP67+AZ67)+AJ67)+T67) -> 3.6202799 | BU67: =(((BQ67+BA67)+AK67)+U67) -> -8.0678709 | BV67: =(((BR67+BB67)+AL67)+V67) -> -7.7135798 | BW67: =(((BS67+BC67)+AM67)+W67) -> -10.833934 | BX67: =((BW67*0.6)+(BV67*0.3)+(BU67*0.1)) -> -9.6212213 | BZ67: =RANK(CB67,CB$66:CB$73) -> 6 | CA67: =C67 -> Christian Ehrhoff | CB67: =BW67 -> -10.833934 | CC67: 2 | CD67: =VLOOKUP(CC67,BZ$66:CB$73,2,FALSE) -> Alex Pietrangelo | CE67: =VLOOKUP(CD67,CA$66:CC$73,2,FALSE) -> -4.9251125 | CG67: =RANK(CI67,CI$42:CI$49) -> #REF! | CH67: =#REF! -> #REF! | CI67: =#REF! -> #REF! | CJ67: 1 | CK67: =VLOOKUP(CJ67,CG$42:CI$49,2,FALSE) -> #N/A | CL67: =VLOOKUP(CK67,CH$42:CJ$49,2,FALSE) -> #N/A | CN67: =RANK(CP67,CP$66:CP$73) -> 7 | CO67: =C67 -> Christian Ehrhoff | CP67: =BX67 -> -9.6212213 | CQ67: 2 | CR67: =VLOOKUP(CQ67,CN$66:CP$73,2,FALSE) -> Kevin Shattenkirk | CS67: =VLOOKUP(CR67,CO$66:CQ$73,2,FALSE) -> -4.2621543
A68: =C68 -> Tobias Enstrom | B68: =RIGHT(C68,LEN(C68)-FIND(" ",C68)) -> Enstrom | C68: Tobias Enstrom | D68: 72 | E68: 62 | F68: 22 | G68: =VLOOKUP(A68,'Hard Stats 2013-2014'!$A$2:$L$691,4,0) -> 82 | H68: 10 | I68: 6 | J68: 4 | K68: =VLOOKUP(A68,'Hard Stats 2013-2014'!$A$2:$L$691,5,0) -> 10 | L68: =(H68/D68)*77 -> 10.694444 | M68: =(I68/E68)*77 -> 7.4516129 | N68: =(J68/F68)*77 -> 14 | O68: =(K68/G68)*77 -> 9.3902439 | P68: =(L68/(L$146))*1000 -> 4.5741939 | Q68: =(M68/(M$146))*1000 -> 2.9836522 | R68: =(N68/(N$146))*1000 -> 5.4161746 | S68: =(O68/(O$146))*1000 -> 3.3158343 | T68: =(P68-H$147) -> -3.6225274 | U68: =(Q68-I$147) -> -4.7682858 | V68: =(R68-J$147) -> -2.046512 | W68: =(S68-K$147) -> -3.9834358 | X68: 41 | Y68: 27 | Z68: 11 | AA68: =VLOOKUP(A68,'Hard Stats 2013-2014'!$A$2:$L$691,6,0) -> 20 | AB68: =(X68/D68)*77 -> 43.847222 | AC68: =(Y68/E68)*77 -> 33.532258 | AD68: =(Z68/F68)*77 -> 38.5 | AE68: =(AA68/G68)*77 -> 18.780488 | AF68: =(AB68/AB$146)*1000 -> 10.786682 | AG68: =(AC68/AC$146)*1000 -> 8.110229 | AH68: =(AD68/AD$146)*1000 -> 8.3357898 | AI68: =(AE68/AE$146)*1000 -> 4.0133617 | AJ68: =(AF68-H$147) -> 2.5899611 | AK68: =(AG68-I$147) -> 0.35829105 | AL68: =(AH68-J$147) -> 0.87310319 | AM68: =(AI68-K$147) -> -3.2859084 | AN68: 28 | AO68: 11 | AP68: 7 | AQ68: =VLOOKUP(A68,'Hard Stats 2013-2014'!$A$2:$L$691,8,0) -> 13 | AR68: =(AN68/D68)*77 -> 29.944444 | AS68: =(AO68/E68)*77 -> 13.66129 | AT68: =(AP68/F68)*77 -> 24.5 | AU68: =(AQ68/G68)*77 -> 12.207317 | AV68: =((AR68/AR$146)*1000) -> 14.533957 | AW68: =((AS68/AS$146)*1000) -> 6.8052877 | AX68: =((AT68/AT$146)*1000) -> 10.404765 | AY68: =((AU68/AU$146)*1000) -> 4.9943135 | AZ68: =(AV68-H$147) -> 6.3372361 | BA68: =(AW68-I$147) -> -0.9466503 | BB68: =(AX68-J$147) -> 2.942078 | BC68: =(AY68-K$147) -> -2.3049566 | BD68: 113 | BE68: 94 | BF68: 21 | BG68: =VLOOKUP(A68,'Hard Stats 2013-2014'!$A$2:$L$691,9,0) -> 106 | BH68: =(BD68/D68)*77 -> 120.84722 | BI68: =(BE68/E68)*77 -> 116.74194 | BJ68: =(BF68/F68)*77 -> 73.5 | BK68: =(BG68/G68)*77 -> 99.536585 | BL68: =(BH68/BH$146)*1000 -> 5.1567407 | BM68: =(BI68/BI$146)*1000 -> 4.8506626 | BN68: =(BJ68/BJ$146)*1000 -> 2.9364342 | BO68: =(BK68/BK$146)*1000 -> 3.7354463 | BP68: =(BL68-H$147) -> -3.0399806 | BQ68: =(BM68-I$147) -> -2.9012754 | BR68: =(BN68-J$147) -> -4.5262523 | BS68: =(BO68-K$147) -> -3.5638237 | BT68: =(((BP68+AZ68)+AJ68)+T68) -> 2.2646891 | BU68: =(((BQ68+BA68)+AK68)+U68) -> -8.2579205 | BV68: =(((BR68+BB68)+AL68)+V68) -> -2.7575831 | BW68: =(((BS68+BC68)+AM68)+W68) -> -13.138125 | BX68: =((BW68*0.6)+(BV68*0.3)+(BU68*0.1)) -> -9.5359417 | BZ68: =RANK(CB68,CB$66:CB$73) -> 7 | CA68: =C68 -> Tobias Enstrom | CB68: =BW68 -> -13.138125 | CC68: 3 | CD68: =VLOOKUP(CC68,BZ$66:CB$73,2,FALSE) -> Mike Green | CE68: =VLOOKUP(CD68,CA$66:CC$73,2,FALSE) -> -5.0333379 | CN68: =RANK(CP68,CP$66:CP$73) -> 6 | CO68: =C68 -> Tobias Enstrom | CP68: =BX68 -> -9.5359417 | CQ68: 3 | CR68: =VLOOKUP(CQ68,CN$66:CP$73,2,FALSE) -> Dan Boyle | CS68: =VLOOKUP(CR68,CO$66:CQ$73,2,FALSE) -> -5.1766873
