Workbook

Sheet Analysis
D1: Games | H1: Goals | L1: Pro-Rated Goals | P1: Player Ratio | T1: Player Goals Above Average | X1: Assists | AB1: Pro-Rated Assists | AF1: Player Ratio | AJ1: Player Assists Above Average | AN1: PPP | AR1: Pro-Rated PPP | AV1: Player Ratio | AZ1: Player PPP Above Average | BD1: SOG | BH1: Pro-Rated SOG | BL1: Player Ratio | BP1: Player SOG Above Average | BT1: SUB-TOTAL | CA1: 2012-2013 Ranked Names | CD1: 2013-2014 Ranked Names | CH1: 2010-2013 Ranked Names | CK1: 2010-2013 Ranked Names | CR1: Average Ranked
C2: Optimus-Reim | D2: 2010-2011 | E2: 2011-2012 | F2: 2012-2013 | G2: 2013-2014 | H2: 2010-2011 | I2: 2011-2012 | J2: 2012-2013 | K2: 2013-2014 | L2: 2010-2011 | M2: 2011-2012 | N2: 2012-2013 | O2: 2013-2014 | P2: 2010-2011 | Q2: 2011-2012 | R2: 2012-2013 | S2: 2013-2014 | T2: 2010-2011 | U2: 2011-2012 | V2: 2012-2013 | W2: 2013-2014 | X2: 2010-2011 | Y2: 2011-2012 | Z2: 2012-2013 | AA2: 2013-2014 | AB2: 2010-2011 | AC2: 2011-2012 | AD2: 2012-2013 | AE2: 2013-2014 | AF2: 2010-2011 | AG2: 2011-2012 | AH2: 2012-2013 | AI2: 2013-2014 | AJ2: 2010-2011 | AK2: 2011-2012 | AL2: 2012-2013 | AM2: 2013-2014 | AN2: 2010-2011 | AO2: 2011-2012 | AP2: 2012-2013 | AQ2: 2013-2014 | AR2: 2010-2011 | AS2: 2011-2012 | AT2: 2012-2013 | AU2: 2013-2014 | AV2: 2010-2011 | AW2: 2011-2012 | AX2: 2012-2013 | AY2: 2013-2014 | AZ2: 2010-2011 | BA2: 2011-2012 | BB2: 2012-2013 | BC2: 2013-2014 | BD2: 2010-2011 | BE2: 2011-2012 | BF2: 2012-2013 | BG2: 2013-2014 | BH2: 2010-2011 | BI2: 2011-2012 | BJ2: 2012-2013 | BK2: 2013-2014 | BL2: 2010-2011 | BM2: 2011-2012 | BN2: 2012-2013 | BO2: 2013-2014 | BP2: 2010-2011 | BQ2: 2011-2012 | BR2: 2012-2013 | BS2: 2013-2014 | BT2: 2010-2011 | BU2: 2011-2012 | BV2: 2012-2013 | BW2: 2013-2014 | BX2: AVG. | BZ2: No. | CA2: Optimus-Reim | CC2: Desired No. | CD2: Optimus-Reim | CG2: No. | CH2: Optimus-Reim | CJ2: Desired No. | CK2: Optimus-Reim | CN2: No. | CO2: Optimus-Reim | CQ2: Desired No. | CR2: Optimus-Reim
A3: =C3 -> Tyler Bozak | B3: =RIGHT(C3,LEN(C3)-FIND(" ",C3)) -> Bozak | C3: Tyler Bozak | D3: 82 | E3: 73 | F3: 46 | G3: =VLOOKUP(A3,'Hard Stats 2013-2014'!$A$2:$L$691,4,0) -> 58 | H3: 15 | I3: 18 | J3: 12 | K3: =VLOOKUP(A3,'Hard Stats 2013-2014'!$A$2:$L$691,5,0) -> 19 | L3: =(H3/D3)*77 -> 14.085366 | M3: =(I3/E3)*77 -> 18.986301 | N3: =(J3/F3)*77 -> 20.086957 | O3: =(K3/G3)*77 -> 25.224138 | P3: =(L3/(L$146))*1000 -> 6.024548 | Q3: =(M3/(M$146))*1000 -> 7.6021822 | R3: =(N3/(N$146))*1000 -> 7.7710331 | S3: =(O3/(O$146))*1000 -> 8.9070168 | T3: =(P3-H$147) -> -2.1721733 | U3: =(Q3-I$147) -> -0.14975578 | V3: =(R3-J$147) -> 0.30834654 | W3: =(S3-K$147) -> 1.6077468 | X3: 17 | Y3: 29 | Z3: 16 | AA3: =VLOOKUP(A3,'Hard Stats 2013-2014'!$A$2:$L$691,6,0) -> 30 | AB3: =(X3/D3)*77 -> 15.963415 | AC3: =(Y3/E3)*77 -> 30.589041 | AD3: =(Z3/F3)*77 -> 26.782609 | AE3: =(AA3/G3)*77 -> 39.827586 | AF3: =(AB3/AB$146)*1000 -> 3.9270967 | AG3: =(AC3/AC$146)*1000 -> 7.3983723 | AH3: =(AD3/AD$146)*1000 -> 5.7988103 | AI3: =(AE3/AE$146)*1000 -> 8.5110947 | AJ3: =(AF3-H$147) -> -4.2696246 | AK3: =(AG3-I$147) -> -0.35356568 | AL3: =(AH3-J$147) -> -1.6638763 | AM3: =(AI3-K$147) -> 1.2118246 | AN3: 11 | AO3: 12 | AP3: 9 | AQ3: =VLOOKUP(A3,'Hard Stats 2013-2014'!$A$2:$L$691,8,0) -> 8 | AR3: =(AN3/D3)*77 -> 10.329268 | AS3: =(AO3/E3)*77 -> 12.657534 | AT3: =(AP3/F3)*77 -> 15.065217 | AU3: =(AQ3/G3)*77 -> 10.62069 | AV3: =((AR3/AR$146)*1000) -> 5.0134557 | AW3: =((AS3/AS$146)*1000) -> 6.3052728 | AX3: =((AT3/AT$146)*1000) -> 6.3979608 | AY3: =((AU3/AU$146)*1000) -> 4.3451852 | AZ3: =(AV3-H$147) -> -3.1832656 | BA3: =(AW3-I$147) -> -1.4466652 | BB3: =(AX3-J$147) -> -1.0647257 | BC3: =(AY3-K$147) -> -2.9540849 | BD3: 120 | BE3: 109 | BF3: 61 | BG3: =VLOOKUP(A3,'Hard Stats 2013-2014'!$A$2:$L$691,9,0) -> 90 | BH3: =(BD3/D3)*77 -> 112.68293 | BI3: =(BE3/E3)*77 -> 114.9726 | BJ3: =(BF3/F3)*77 -> 102.1087 | BK3: =(BG3/G3)*77 -> 119.48276 | BL3: =(BH3/BH$146)*1000 -> 4.8083574 | BM3: =(BI3/BI$146)*1000 -> 4.7771462 | BN3: =(BJ3/BJ$146)*1000 -> 4.0793942 | BO3: =(BK3/BK$146)*1000 -> 4.4839938 | BP3: =(BL3-H$147) -> -3.3883639 | BQ3: =(BM3-I$147) -> -2.9747917 | BR3: =(BN3-J$147) -> -3.3832924 | BS3: =(BO3-K$147) -> -2.8152762 | BT3: =(((BP3+AZ3)+AJ3)+T3) -> -13.013427 | BU3: =(((BQ3+BA3)+AK3)+U3) -> -4.9247784 | BV3: =(((BR3+BB3)+AL3)+V3) -> -5.8035479 | BW3: =(((BS3+BC3)+AM3)+W3) -> -2.9497898 | BX3: =((BW3*0.6)+(BV3*0.3)+(BU3*0.1)) -> -4.0034161 | BZ3: =RANK(CB3,CB$3:CB$17) -> 13 | CA3: =C3 -> Tyler Bozak | CB3: =BW3 -> -2.9497898 | CC3: 1 | CD3: =VLOOKUP(CC3,BZ$3:CB$17,2,FALSE) -> James Neal | CE3: =VLOOKUP(CD3,CA$3:CC$17,2,FALSE) -> 18.267339 | CG3: =RANK(CI3,CI$3:CI$161) -> #REF! | CH3: =#REF! -> #REF! | CI3: =#REF! -> #REF! | CJ3: 1 | CK3: =VLOOKUP(CJ3,CG$3:CI$161,2,FALSE) -> #N/A | CL3: =VLOOKUP(CK3,CH$3:CJ$161,2,FALSE) -> #N/A | CN3: =RANK(CP3,CP$3:CP$17) -> 13 | CO3: =C3 -> Tyler Bozak | CP3: =BX3 -> -4.0034161 | CQ3: 1 | CR3: =VLOOKUP(CQ3,CN$3:CP$17,2,FALSE) -> James Neal | CS3: =VLOOKUP(CR3,CO$3:CQ$17,2,FALSE) -> 17.783731
A4: =C4 -> Jordan Eberle | B4: =RIGHT(C4,LEN(C4)-FIND(" ",C4)) -> Eberle | C4: Jordan Eberle | D4: 69 | E4: 78 | F4: 48 | G4: =VLOOKUP(A4,'Hard Stats 2013-2014'!$A$2:$L$691,4,0) -> 80 | H4: 18 | I4: 34 | J4: 16 | K4: =VLOOKUP(A4,'Hard Stats 2013-2014'!$A$2:$L$691,5,0) -> 28 | L4: =(H4/D4)*77 -> 20.086957 | M4: =(I4/E4)*77 -> 33.564103 | N4: =(J4/F4)*77 -> 25.666667 | O4: =(K4/G4)*77 -> 26.95 | P4: =(L4/(L$146))*1000 -> 8.5915294 | Q4: =(M4/(M$146))*1000 -> 13.439185 | R4: =(N4/(N$146))*1000 -> 9.9296534 | S4: =(O4/(O$146))*1000 -> 9.5164443 | T4: =(P4-H$147) -> 0.39480805 | U4: =(Q4-I$147) -> 5.6872474 | V4: =(R4-J$147) -> 2.4669669 | W4: =(S4-K$147) -> 2.2171742 | X4: 25 | Y4: 42 | Z4: 21 | AA4: =VLOOKUP(A4,'Hard Stats 2013-2014'!$A$2:$L$691,6,0) -> 37 | AB4: =(X4/D4)*77 -> 27.898551 | AC4: =(Y4/E4)*77 -> 41.461538 | AD4: =(Z4/F4)*77 -> 33.6875 | AE4: =(AA4/G4)*77 -> 35.6125 | AF4: =(AB4/AB$146)*1000 -> 6.8632125 | AG4: =(AC4/AC$146)*1000 -> 10.028032 | AH4: =(AD4/AD$146)*1000 -> 7.293816 | AI4: =(AE4/AE$146)*1000 -> 7.6103372 | AJ4: =(AF4-H$147) -> -1.3335088 | AK4: =(AG4-I$147) -> 2.2760945 | AL4: =(AH4-J$147) -> -0.16887053 | AM4: =(AI4-K$147) -> 0.31106709 | AN4: 11 | AO4: 20 | AP4: 9 | AQ4: =VLOOKUP(A4,'Hard Stats 2013-2014'!$A$2:$L$691,8,0) -> 20 | AR4: =(AN4/D4)*77 -> 12.275362 | AS4: =(AO4/E4)*77 -> 19.74359 | AT4: =(AP4/F4)*77 -> 14.4375 | AU4: =(AQ4/G4)*77 -> 19.25 | AV4: =((AR4/AR$146)*1000) -> 5.9580198 | AW4: =((AS4/AS$146)*1000) -> 9.8351477 | AX4: =((AT4/AT$146)*1000) -> 6.1313791 | AY4: =((AU4/AU$146)*1000) -> 7.8756482 | AZ4: =(AV4-H$147) -> -2.2387015 | BA4: =(AW4-I$147) -> 2.0832097 | BB4: =(AX4-J$147) -> -1.3313074 | BC4: =(AY4-K$147) -> 0.5763781 | BD4: 158 | BE4: 180 | BF4: 133 | BG4: =VLOOKUP(A4,'Hard Stats 2013-2014'!$A$2:$L$691,9,0) -> 200 | BH4: =(BD4/D4)*77 -> 176.31884 | BI4: =(BE4/E4)*77 -> 177.69231 | BJ4: =(BF4/F4)*77 -> 213.35417 | BK4: =(BG4/G4)*77 -> 192.5 | BL4: =(BH4/BH$146)*1000 -> 7.5238018 | BM4: =(BI4/BI$146)*1000 -> 7.3831689 | BN4: =(BJ4/BJ$146)*1000 -> 8.5238161 | BO4: =(BK4/BK$146)*1000 -> 7.2242123 | BP4: =(BL4-H$147) -> -0.67291953 | BQ4: =(BM4-I$147) -> -0.36876913 | BR4: =(BN4-J$147) -> 1.0611295 | BS4: =(BO4-K$147) -> -0.0750578 | BT4: =(((BP4+AZ4)+AJ4)+T4) -> -3.8503218 | BU4: =(((BQ4+BA4)+AK4)+U4) -> 9.6777825 | BV4: =(((BR4+BB4)+AL4)+V4) -> 2.0279184 | BW4: =(((BS4+BC4)+AM4)+W4) -> 3.0295616 | BX4: =((BW4*0.6)+(BV4*0.3)+(BU4*0.1)) -> 3.3938907 | BZ4: =RANK(CB4,CB$3:CB$17) -> 7 | CA4: =C4 -> Jordan Eberle | CB4: =BW4 -> 3.0295616 | CC4: =CC3+1 -> 2 | CD4: =VLOOKUP(CC4,BZ$3:CB$17,2,FALSE) -> Ryan Getzlaf | CE4: =VLOOKUP(CD4,CA$3:CC$17,2,FALSE) -> 10.782248 | CG4: =RANK(CI4,CI$3:CI$161) -> #REF! | CH4: =#REF! -> #REF! | CI4: =#REF! -> #REF! | CJ4: =CJ3+1 -> 2 | CK4: =VLOOKUP(CJ4,CG$3:CI$161,2,FALSE) -> #N/A | CL4: =VLOOKUP(CK4,CH$3:CJ$161,2,FALSE) -> #N/A | CN4: =RANK(CP4,CP$3:CP$17) -> 6 | CO4: =C4 -> Jordan Eberle | CP4: =BX4 -> 3.3938907 | CQ4: =CQ3+1 -> 2 | CR4: =VLOOKUP(CQ4,CN$3:CP$17,2,FALSE) -> Phil Kessel | CS4: =VLOOKUP(CR4,CO$3:CQ$17,2,FALSE) -> 13.108642
A5: =C5 -> Patrik Elias | B5: =RIGHT(C5,LEN(C5)-FIND(" ",C5)) -> Elias | C5: Patrik Elias | D5: 81 | E5: 81 | F5: 48 | G5: =VLOOKUP(A5,'Hard Stats 2013-2014'!$A$2:$L$691,4,0) -> 65 | H5: 21 | I5: 26 | J5: 14 | K5: =VLOOKUP(A5,'Hard Stats 2013-2014'!$A$2:$L$691,5,0) -> 18 | L5: =(H5/D5)*77 -> 19.962963 | M5: =(I5/E5)*77 -> 24.716049 | N5: =(J5/F5)*77 -> 22.458333 | O5: =(K5/G5)*77 -> 21.323077 | P5: =(L5/(L$146))*1000 -> 8.5384952 | Q5: =(M5/(M$146))*1000 -> 9.8963936 | R5: =(N5/(N$146))*1000 -> 8.6884467 | S5: =(O5/(O$146))*1000 -> 7.5294944 | T5: =(P5-H$147) -> 0.34177391 | U5: =(Q5-I$147) -> 2.1444556 | V5: =(R5-J$147) -> 1.2257602 | W5: =(S5-K$147) -> 0.23022432 | X5: 41 | Y5: 52 | Z5: 22 | AA5: =VLOOKUP(A5,'Hard Stats 2013-2014'!$A$2:$L$691,6,0) -> 35 | AB5: =(X5/D5)*77 -> 38.975309 | AC5: =(Y5/E5)*77 -> 49.432099 | AD5: =(Z5/F5)*77 -> 35.291667 | AE5: =(AA5/G5)*77 -> 41.461538 | AF5: =(AB5/AB$146)*1000 -> 9.5881621 | AG5: =(AC5/AC$146)*1000 -> 11.95582 | AH5: =(AD5/AD$146)*1000 -> 7.6411406 | AI5: =(AE5/AE$146)*1000 -> 8.8602678 | AJ5: =(AF5-H$147) -> 1.3914408 | AK5: =(AG5-I$147) -> 4.203882 | AL5: =(AH5-J$147) -> 0.17845405 | AM5: =(AI5-K$147) -> 1.5609977 | AN5: 20 | AO5: 29 | AP5: 14 | AQ5: =VLOOKUP(A5,'Hard Stats 2013-2014'!$A$2:$L$691,8,0) -> 17 | AR5: =(AN5/D5)*77 -> 19.012346 | AS5: =(AO5/E5)*77 -> 27.567901 | AT5: =(AP5/F5)*77 -> 22.458333 | AU5: =(AQ5/G5)*77 -> 20.138462 | AV5: =((AR5/AR$146)*1000) -> 9.2279094 | AW5: =((AS5/AS$146)*1000) -> 13.73278 | AX5: =((AT5/AT$146)*1000) -> 9.5377009 | AY5: =((AU5/AU$146)*1000) -> 8.2391396 | AZ5: =(AV5-H$147) -> 1.0311881 | BA5: =(AW5-I$147) -> 5.9808423 | BB5: =(AX5-J$147) -> 2.0750143 | BC5: =(AY5-K$147) -> 0.93986955 | BD5: 204 | BE5: 164 | BF5: 118 | BG5: =VLOOKUP(A5,'Hard Stats 2013-2014'!$A$2:$L$691,9,0) -> 116 | BH5: =(BD5/D5)*77 -> 193.92593 | BI5: =(BE5/E5)*77 -> 155.90123 | BJ5: =(BF5/F5)*77 -> 189.29167 | BK5: =(BG5/G5)*77 -> 137.41538 | BL5: =(BH5/BH$146)*1000 -> 8.2751238 | BM5: =(BI5/BI$146)*1000 -> 6.4777432 | BN5: =(BJ5/BJ$146)*1000 -> 7.5624834 | BO5: =(BK5/BK$146)*1000 -> 5.1569761 | BP5: =(BL5-H$147) -> 0.07840245 | BQ5: =(BM5-I$147) -> -1.2741948 | BR5: =(BN5-J$147) -> 0.099796851 | BS5: =(BO5-K$147) -> -2.1422939 | BT5: =(((BP5+AZ5)+AJ5)+T5) -> 2.8428053 | BU5: =(((BQ5+BA5)+AK5)+U5) -> 11.054985 | BV5: =(((BR5+BB5)+AL5)+V5) -> 3.5790254 | BW5: =(((BS5+BC5)+AM5)+W5) -> 0.58879767 | BX5: =((BW5*0.6)+(BV5*0.3)+(BU5*0.1)) -> 2.5324847 | BZ5: =RANK(CB5,CB$3:CB$17) -> 9 | CA5: =C5 -> Patrik Elias | CB5: =BW5 -> 0.58879767 | CC5: =CC4+1 -> 3 | CD5: =VLOOKUP(CC5,BZ$3:CB$17,2,FALSE) -> Phil Kessel | CE5: =VLOOKUP(CD5,CA$3:CC$17,2,FALSE) -> 10.132012 | CG5: =RANK(CI5,CI$3:CI$161) -> #REF! | CH5: =#REF! -> #REF! | CI5: =#REF! -> #REF! | CJ5: =CJ4+1 -> 3 | CK5: =VLOOKUP(CJ5,CG$3:CI$161,2,FALSE) -> #N/A | CL5: =VLOOKUP(CK5,CH$3:CJ$161,2,FALSE) -> #N/A | CN5: =RANK(CP5,CP$3:CP$17) -> 8 | CO5: =C5 -> Patrik Elias | CP5: =BX5 -> 2.5324847 | CQ5: =CQ4+1 -> 3 | CR5: =VLOOKUP(CQ5,CN$3:CP$17,2,FALSE) -> Ryan Getzlaf | CS5: =VLOOKUP(CR5,CO$3:CQ$17,2,FALSE) -> 10.001589
A6: =C6 -> Ryan Getzlaf | B6: =RIGHT(C6,LEN(C6)-FIND(" ",C6)) -> Getzlaf | C6: Ryan Getzlaf | D6: 67 | E6: 82 | F6: 44 | G6: =VLOOKUP(A6,'Hard Stats 2013-2014'!$A$2:$L$691,4,0) -> 77 | H6: 19 | I6: 11 | J6: 15 | K6: =VLOOKUP(A6,'Hard Stats 2013-2014'!$A$2:$L$691,5,0) -> 31 | L6: =(H6/D6)*77 -> 21.835821 | M6: =(I6/E6)*77 -> 10.329268 | N6: =(J6/F6)*77 -> 26.25 | O6: =(K6/G6)*77 -> 31 | P6: =(L6/(L$146))*1000 -> 9.3395481 | Q6: =(M6/(M$146))*1000 -> 4.1358756 | R6: =(N6/(N$146))*1000 -> 10.155327 | S6: =(O6/(O$146))*1000 -> 10.946559 | T6: =(P6-H$147) -> 1.1428268 | U6: =(Q6-I$147) -> -3.6160624 | V6: =(R6-J$147) -> 2.6926408 | W6: =(S6-K$147) -> 3.6472892 | X6: 57 | Y6: 46 | Z6: 34 | AA6: =VLOOKUP(A6,'Hard Stats 2013-2014'!$A$2:$L$691,6,0) -> 56 | AB6: =(X6/D6)*77 -> 65.507463 | AC6: =(Y6/E6)*77 -> 43.195122 | AD6: =(Z6/F6)*77 -> 59.5 | AE6: =(AA6/G6)*77 -> 56 | AF6: =(AB6/AB$146)*1000 -> 16.115233 | AG6: =(AC6/AC$146)*1000 -> 10.447323 | AH6: =(AD6/AD$146)*1000 -> 12.882584 | AI6: =(AE6/AE$146)*1000 -> 11.967115 | AJ6: =(AF6-H$147) -> 7.9185115 | AK6: =(AG6-I$147) -> 2.6953851 | AL6: =(AH6-J$147) -> 5.4198976 | AM6: =(AI6-K$147) -> 4.6678449 | AN6: 27 | AO6: 23 | AP6: 15 | AQ6: =VLOOKUP(A6,'Hard Stats 2013-2014'!$A$2:$L$691,8,0) -> 23 | AR6: =(AN6/D6)*77 -> 31.029851 | AS6: =(AO6/E6)*77 -> 21.597561 | AT6: =(AP6/F6)*77 -> 26.25 | AU6: =(AQ6/G6)*77 -> 23 | AV6: =((AR6/AR$146)*1000) -> 15.060775 | AW6: =((AS6/AS$146)*1000) -> 10.758692 | AX6: =((AT6/AT$146)*1000) -> 11.147962 | AY6: =((AU6/AU$146)*1000) -> 9.4098653 | AZ6: =(AV6-H$147) -> 6.8640533 | BA6: =(AW6-I$147) -> 3.0067541 | BB6: =(AX6-J$147) -> 3.6852755 | BC6: =(AY6-K$147) -> 2.1105953 | BD6: 117 | BE6: 185 | BF6: 99 | BG6: =VLOOKUP(A6,'Hard Stats 2013-2014'!$A$2:$L$691,9,0) -> 204 | BH6: =(BD6/D6)*77 -> 134.46269 | BI6: =(BE6/E6)*77 -> 173.71951 | BJ6: =(BF6/F6)*77 -> 173.25 | BK6: =(BG6/G6)*77 -> 204 | BL6: =(BH6/BH$146)*1000 -> 5.737734 | BM6: =(BI6/BI$146)*1000 -> 7.218098 | BN6: =(BJ6/BJ$146)*1000 -> 6.921595 | BO6: =(BK6/BK$146)*1000 -> 7.6557886 | BP6: =(BL6-H$147) -> -2.4589873 | BQ6: =(BM6-I$147) -> -0.53383997 | BR6: =(BN6-J$147) -> -0.54109157 | BS6: =(BO6-K$147) -> 0.35651852 | BT6: =(((BP6+AZ6)+AJ6)+T6) -> 13.466404 | BU6: =(((BQ6+BA6)+AK6)+U6) -> 1.5522367 | BV6: =(((BR6+BB6)+AL6)+V6) -> 11.256722 | BW6: =(((BS6+BC6)+AM6)+W6) -> 10.782248 | BX6: =((BW6*0.6)+(BV6*0.3)+(BU6*0.1)) -> 10.001589 | BZ6: =RANK(CB6,CB$3:CB$17) -> 2 | CA6: =C6 -> Ryan Getzlaf | CB6: =BW6 -> 10.782248 | CC6: =CC5+1 -> 4 | CD6: =VLOOKUP(CC6,BZ$3:CB$17,2,FALSE) -> Kyle Okposo | CE6: =VLOOKUP(CD6,CA$3:CC$17,2,FALSE) -> 5.4684696 | CG6: =RANK(CI6,CI$6:CI$178) -> #REF! | CH6: =#REF! -> #REF! | CI6: =#REF! -> #REF! | CJ6: 1 | CK6: =VLOOKUP(CJ6,CG$6:CI$178,2,FALSE) -> #N/A | CL6: =VLOOKUP(CK6,CH$6:CJ$178,2,FALSE) -> #N/A | CN6: =RANK(CP6,CP$3:CP$17) -> 3 | CO6: =C6 -> Ryan Getzlaf | CP6: =BX6 -> 10.001589 | CQ6: 4 | CR6: =VLOOKUP(CQ6,CN$3:CP$17,2,FALSE) -> Anze Kopitar | CS6: =VLOOKUP(CR6,CO$3:CQ$17,2,FALSE) -> 5.4446775
A7: =C7 -> Phil Kessel | B7: =RIGHT(C7,LEN(C7)-FIND(" ",C7)) -> Kessel | C7: Phil Kessel | D7: 82 | E7: 82 | F7: 48 | G7: =VLOOKUP(A7,'Hard Stats 2013-2014'!$A$2:$L$691,4,0) -> 82 | H7: 32 | I7: 37 | J7: 20 | K7: =VLOOKUP(A7,'Hard Stats 2013-2014'!$A$2:$L$691,5,0) -> 37 | L7: =(H7/D7)*77 -> 30.04878 | M7: =(I7/E7)*77 -> 34.743902 | N7: =(J7/F7)*77 -> 32.083333 | O7: =(K7/G7)*77 -> 34.743902 | P7: =(L7/(L$146))*1000 -> 12.852369 | Q7: =(M7/(M$146))*1000 -> 13.911581 | R7: =(N7/(N$146))*1000 -> 12.412067 | S7: =(O7/(O$146))*1000 -> 12.268587 | T7: =(P7-H$147) -> 4.6556478 | U7: =(Q7-I$147) -> 6.1596434 | V7: =(R7-J$147) -> 4.9493802 | W7: =(S7-K$147) -> 4.9693167 | X7: 32 | Y7: 45 | Z7: 32 | AA7: =VLOOKUP(A7,'Hard Stats 2013-2014'!$A$2:$L$691,6,0) -> 43 | AB7: =(X7/D7)*77 -> 30.04878 | AC7: =(Y7/E7)*77 -> 42.256098 | AD7: =(Z7/F7)*77 -> 51.333333 | AE7: =(AA7/G7)*77 -> 40.378049 | AF7: =(AB7/AB$146)*1000 -> 7.3921821 | AG7: =(AC7/AC$146)*1000 -> 10.220207 | AH7: =(AD7/AD$146)*1000 -> 11.114386 | AI7: =(AE7/AE$146)*1000 -> 8.6287277 | AJ7: =(AF7-H$147) -> -0.80453922 | AK7: =(AG7-I$147) -> 2.4682693 | AL7: =(AH7-J$147) -> 3.6516998 | AM7: =(AI7-K$147) -> 1.3294576 | AN7: 23 | AO7: 23 | AP7: 21 | AQ7: =VLOOKUP(A7,'Hard Stats 2013-2014'!$A$2:$L$691,8,0) -> 20 | AR7: =(AN7/D7)*77 -> 21.597561 | AS7: =(AO7/E7)*77 -> 21.597561 | AT7: =(AP7/F7)*77 -> 33.6875 | AU7: =(AQ7/G7)*77 -> 18.780488 | AV7: =((AR7/AR$146)*1000) -> 10.48268 | AW7: =((AS7/AS$146)*1000) -> 10.758692 | AX7: =((AT7/AT$146)*1000) -> 14.306551 | AY7: =((AU7/AU$146)*1000) -> 7.6835592 | AZ7: =(AV7-H$147) -> 2.2859587 | BA7: =(AW7-I$147) -> 3.0067541 | BB7: =(AX7-J$147) -> 6.8438647 | BC7: =(AY7-K$147) -> 0.38428912 | BD7: 325 | BE7: 295 | BF7: 161 | BG7: =VLOOKUP(A7,'Hard Stats 2013-2014'!$A$2:$L$691,9,0) -> 305 | BH7: =(BD7/D7)*77 -> 305.18293 | BI7: =(BE7/E7)*77 -> 277.0122 | BJ7: =(BF7/F7)*77 -> 258.27083 | BK7: =(BG7/G7)*77 -> 286.40244 | BL7: =(BH7/BH$146)*1000 -> 13.022635 | BM7: =(BI7/BI$146)*1000 -> 11.50994 | BN7: =(BJ7/BJ$146)*1000 -> 10.318304 | BO7: =(BK7/BK$146)*1000 -> 10.748218 | BP7: =(BL7-H$147) -> 4.8259134 | BQ7: =(BM7-I$147) -> 3.7580021 | BR7: =(BN7-J$147) -> 2.8556171 | BS7: =(BO7-K$147) -> 3.4489482 | BT7: =(((BP7+AZ7)+AJ7)+T7) -> 10.962981 | BU7: =(((BQ7+BA7)+AK7)+U7) -> 15.392669 | BV7: =(((BR7+BB7)+AL7)+V7) -> 18.300562 | BW7: =(((BS7+BC7)+AM7)+W7) -> 10.132012 | BX7: =((BW7*0.6)+(BV7*0.3)+(BU7*0.1)) -> 13.108642 | BZ7: =RANK(CB7,CB$3:CB$17) -> 3 | CA7: =C7 -> Phil Kessel | CB7: =BW7 -> 10.132012 | CC7: =CC6+1 -> 5 | CD7: =VLOOKUP(CC7,BZ$3:CB$17,2,FALSE) -> Anze Kopitar | CE7: =VLOOKUP(CD7,CA$3:CC$17,2,FALSE) -> 4.5303356 | CG7: =RANK(CI7,CI$6:CI$178) -> #REF! | CH7: =#REF! -> #REF! | CI7: =#REF! -> #REF! | CJ7: =CJ173+1 -> 4 | CK7: =VLOOKUP(CJ7,CG$6:CI$178,2,FALSE) -> #N/A | CL7: =VLOOKUP(CK7,CH$6:CJ$178,2,FALSE) -> #N/A | CN7: =RANK(CP7,CP$3:CP$17) -> 2 | CO7: =C7 -> Phil Kessel | CP7: =BX7 -> 13.108642 | CQ7: 5 | CR7: =VLOOKUP(CQ7,CN$3:CP$17,2,FALSE) -> Joffrey Lupul | CS7: =VLOOKUP(CR7,CO$3:CQ$17,2,FALSE) -> 3.9551721
A8: =C8 -> Mikko Koivu | B8: =RIGHT(C8,LEN(C8)-FIND(" ",C8)) -> Koivu | C8: Mikko Koivu | D8: 71 | E8: 55 | F8: 48 | G8: =VLOOKUP(A8,'Hard Stats 2013-2014'!$A$2:$L$691,4,0) -> 65 | H8: 17 | I8: 12 | J8: 11 | K8: =VLOOKUP(A8,'Hard Stats 2013-2014'!$A$2:$L$691,5,0) -> 11 | L8: =(H8/D8)*77 -> 18.43662 | M8: =(I8/E8)*77 -> 16.8 | N8: =(J8/F8)*77 -> 17.645833 | O8: =(K8/G8)*77 -> 13.030769 | P8: =(L8/(L$146))*1000 -> 7.8856525 | Q8: =(M8/(M$146))*1000 -> 6.7267794 | R8: =(N8/(N$146))*1000 -> 6.8266367 | S8: =(O8/(O$146))*1000 -> 4.6013577 | T8: =(P8-H$147) -> -0.31106878 | U8: =(Q8-I$147) -> -1.0251586 | V8: =(R8-J$147) -> -0.63604984 | W8: =(S8-K$147) -> -2.6979124 | X8: 45 | Y8: 32 | Z8: 26 | AA8: =VLOOKUP(A8,'Hard Stats 2013-2014'!$A$2:$L$691,6,0) -> 43 | AB8: =(X8/D8)*77 -> 48.802817 | AC8: =(Y8/E8)*77 -> 44.8 | AD8: =(Z8/F8)*77 -> 41.708333 | AE8: =(AA8/G8)*77 -> 50.938462 | AF8: =(AB8/AB$146)*1000 -> 12.005789 | AG8: =(AC8/AC$146)*1000 -> 10.835484 | AH8: =(AD8/AD$146)*1000 -> 9.0304389 | AI8: =(AE8/AE$146)*1000 -> 10.885472 | AJ8: =(AF8-H$147) -> 3.8090674 | AK8: =(AG8-I$147) -> 3.0835465 | AL8: =(AH8-J$147) -> 1.5677523 | AM8: =(AI8-K$147) -> 3.5862018 | AN8: 22 | AO8: 15 | AP8: 13 | AQ8: =VLOOKUP(A8,'Hard Stats 2013-2014'!$A$2:$L$691,8,0) -> 18 | AR8: =(AN8/D8)*77 -> 23.859155 | AS8: =(AO8/E8)*77 -> 21 | AT8: =(AP8/F8)*77 -> 20.854167 | AU8: =(AQ8/G8)*77 -> 21.323077 | AV8: =((AR8/AR$146)*1000) -> 11.580376 | AW8: =((AS8/AS$146)*1000) -> 10.461021 | AX8: =((AT8/AT$146)*1000) -> 8.8564365 | AY8: =((AU8/AU$146)*1000) -> 8.7237949 | AZ8: =(AV8-H$147) -> 3.3836552 | BA8: =(AW8-I$147) -> 2.7090827 | BB8: =(AX8-J$147) -> 1.39375 | BC8: =(AY8-K$147) -> 1.4245248 | BD8: 191 | BE8: 129 | BF8: 127 | BG8: =VLOOKUP(A8,'Hard Stats 2013-2014'!$A$2:$L$691,9,0) -> 147 | BH8: =(BD8/D8)*77 -> 207.14085 | BI8: =(BE8/E8)*77 -> 180.6 | BJ8: =(BF8/F8)*77 -> 203.72917 | BK8: =(BG8/G8)*77 -> 174.13846 | BL8: =(BH8/BH$146)*1000 -> 8.8390251 | BM8: =(BI8/BI$146)*1000 -> 7.5039843 | BN8: =(BJ8/BJ$146)*1000 -> 8.139283 | BO8: =(BK8/BK$146)*1000 -> 6.5351336 | BP8: =(BL8-H$147) -> 0.6423038 | BQ8: =(BM8-I$147) -> -0.24795363 | BR8: =(BN8-J$147) -> 0.67659643 | BS8: =(BO8-K$147) -> -0.76413651 | BT8: =(((BP8+AZ8)+AJ8)+T8) -> 7.5239576 | BU8: =(((BQ8+BA8)+AK8)+U8) -> 4.519517 | BV8: =(((BR8+BB8)+AL8)+V8) -> 3.0020489 | BW8: =(((BS8+BC8)+AM8)+W8) -> 1.5486777 | BX8: =((BW8*0.6)+(BV8*0.3)+(BU8*0.1)) -> 2.281773 | BZ8: =RANK(CB8,CB$3:CB$17) -> 8 | CA8: =C8 -> Mikko Koivu | CB8: =BW8 -> 1.5486777 | CC8: =CC7+1 -> 6 | CD8: =VLOOKUP(CC8,BZ$3:CB$17,2,FALSE) -> Ryan O'Reilly | CE8: =VLOOKUP(CD8,CA$3:CC$17,2,FALSE) -> 3.6475627 | CG8: =RANK(CI8,CI$3:CI$161) -> #REF! | CH8: =#REF! -> #REF! | CI8: =#REF! -> #REF! | CJ8: =CJ125+1 -> 5 | CK8: =VLOOKUP(CJ8,CG$3:CI$161,2,FALSE) -> #N/A | CL8: =VLOOKUP(CK8,CH$3:CJ$161,2,FALSE) -> #N/A | CN8: =RANK(CP8,CP$3:CP$17) -> 9 | CO8: =C8 -> Mikko Koivu | CP8: =BX8 -> 2.281773 | CQ8: 6 | CR8: =VLOOKUP(CQ8,CN$3:CP$17,2,FALSE) -> Jordan Eberle | CS8: =VLOOKUP(CR8,CO$3:CQ$17,2,FALSE) -> 3.3938907
A9: =C9 -> Anze Kopitar | B9: =RIGHT(C9,LEN(C9)-FIND(" ",C9)) -> Kopitar | C9: Anze Kopitar | D9: 75 | E9: 82 | F9: 47 | G9: =VLOOKUP(A9,'Hard Stats 2013-2014'!$A$2:$L$691,4,0) -> 82 | H9: 25 | I9: 25 | J9: 10 | K9: =VLOOKUP(A9,'Hard Stats 2013-2014'!$A$2:$L$691,5,0) -> 29 | L9: =(H9/D9)*77 -> 25.666667 | M9: =(I9/E9)*77 -> 23.47561 | N9: =(J9/F9)*77 -> 16.382979 | O9: =(K9/G9)*77 -> 27.231707 | P9: =(L9/(L$146))*1000 -> 10.978065 | Q9: =(M9/(M$146))*1000 -> 9.3997172 | R9: =(N9/(N$146))*1000 -> 6.3380767 | S9: =(O9/(O$146))*1000 -> 9.6159193 | T9: =(P9-H$147) -> 2.781344 | U9: =(Q9-I$147) -> 1.6477792 | V9: =(R9-J$147) -> -1.1246099 | W9: =(S9-K$147) -> 2.3166493 | X9: 48 | Y9: 51 | Z9: 32 | AA9: =VLOOKUP(A9,'Hard Stats 2013-2014'!$A$2:$L$691,6,0) -> 41 | AB9: =(X9/D9)*77 -> 49.28 | AC9: =(Y9/E9)*77 -> 47.890244 | AD9: =(Z9/F9)*77 -> 52.425532 | AE9: =(AA9/G9)*77 -> 38.5 | AF9: =(AB9/AB$146)*1000 -> 12.123179 | AG9: =(AC9/AC$146)*1000 -> 11.582902 | AH9: =(AD9/AD$146)*1000 -> 11.350863 | AI9: =(AE9/AE$146)*1000 -> 8.2273915 | AJ9: =(AF9-H$147) -> 3.9264573 | AK9: =(AG9-I$147) -> 3.8309636 | AL9: =(AH9-J$147) -> 3.8881761 | AM9: =(AI9-K$147) -> 0.92812145 | AN9: 18 | AO9: 26 | AP9: 16 | AQ9: =VLOOKUP(A9,'Hard Stats 2013-2014'!$A$2:$L$691,8,0) -> 23 | AR9: =(AN9/D9)*77 -> 18.48 | AS9: =(AO9/E9)*77 -> 24.414634 | AT9: =(AP9/F9)*77 -> 26.212766 | AU9: =(AQ9/G9)*77 -> 21.597561 | AV9: =((AR9/AR$146)*1000) -> 8.969528 | AW9: =((AS9/AS$146)*1000) -> 12.162 | AX9: =((AT9/AT$146)*1000) -> 11.132149 | AY9: =((AU9/AU$146)*1000) -> 8.8360931 | AZ9: =(AV9-H$147) -> 0.77280666 | BA9: =(AW9-I$147) -> 4.4100617 | BB9: =(AX9-J$147) -> 3.6694628 | BC9: =(AY9-K$147) -> 1.536823 | BD9: 233 | BE9: 230 | BF9: 98 | BG9: =VLOOKUP(A9,'Hard Stats 2013-2014'!$A$2:$L$691,9,0) -> 200 | BH9: =(BD9/D9)*77 -> 239.21333 | BI9: =(BE9/E9)*77 -> 215.97561 | BJ9: =(BF9/F9)*77 -> 160.55319 | BK9: =(BG9/G9)*77 -> 187.80488 | BL9: =(BH9/BH$146)*1000 -> 10.207609 | BM9: =(BI9/BI$146)*1000 -> 8.9738516 | BN9: =(BJ9/BJ$146)*1000 -> 6.4143386 | BO9: =(BK9/BK$146)*1000 -> 7.048012 | BP9: =(BL9-H$147) -> 2.0108872 | BQ9: =(BM9-I$147) -> 1.2219136 | BR9: =(BN9-J$147) -> -1.0483479 | BS9: =(BO9-K$147) -> -0.2512581 | BT9: =(((BP9+AZ9)+AJ9)+T9) -> 9.4914952 | BU9: =(((BQ9+BA9)+AK9)+U9) -> 11.110718 | BV9: =(((BR9+BB9)+AL9)+V9) -> 5.384681 | BW9: =(((BS9+BC9)+AM9)+W9) -> 4.5303356 | BX9: =((BW9*0.6)+(BV9*0.3)+(BU9*0.1)) -> 5.4446775 | BZ9: =RANK(CB9,CB$3:CB$17) -> 5 | CA9: =C9 -> Anze Kopitar | CB9: =BW9 -> 4.5303356 | CC9: =CC8+1 -> 7 | CD9: =VLOOKUP(CC9,BZ$3:CB$17,2,FALSE) -> Jordan Eberle | CE9: =VLOOKUP(CD9,CA$3:CC$17,2,FALSE) -> 3.0295616 | CG9: =RANK(CI9,CI$3:CI$161) -> #REF! | CH9: =#REF! -> #REF! | CI9: =#REF! -> #REF! | CJ9: =CJ8+1 -> 6 | CK9: =VLOOKUP(CJ9,CG$3:CI$161,2,FALSE) -> #N/A | CL9: =VLOOKUP(CK9,CH$3:CJ$161,2,FALSE) -> #N/A | CN9: =RANK(CP9,CP$3:CP$17) -> 4 | CO9: =C9 -> Anze Kopitar | CP9: =BX9 -> 5.4446775 | CQ9: 7 | CR9: =VLOOKUP(CQ9,CN$3:CP$17,2,FALSE) -> Daniel Sedin | CS9: =VLOOKUP(CR9,CO$3:CQ$17,2,FALSE) -> 3.2416994
A10: =C10 -> Bryan Little | B10: =RIGHT(C10,LEN(C10)-FIND(" ",C10)) -> Little | C10: Bryan Little | D10: 76 | E10: 74 | F10: 48 | G10: =VLOOKUP(A10,'Hard Stats 2013-2014'!$A$2:$L$691,4,0) -> 82 | H10: 18 | I10: 24 | J10: 7 | K10: =VLOOKUP(A10,'Hard Stats 2013-2014'!$A$2:$L$691,5,0) -> 23 | L10: =(H10/D10)*77 -> 18.236842 | M10: =(I10/E10)*77 -> 24.972973 | N10: =(J10/F10)*77 -> 11.229167 | O10: =(K10/G10)*77 -> 21.597561 | P10: =(L10/(L$146))*1000 -> 7.8002043 | Q10: =(M10/(M$146))*1000 -> 9.9992667 | R10: =(N10/(N$146))*1000 -> 4.3442234 | S10: =(O10/(O$146))*1000 -> 7.6264188 | T10: =(P10-H$147) -> -0.39651703 | U10: =(Q10-I$147) -> 2.2473287 | V10: =(R10-J$147) -> -3.1184632 | W10: =(S10-K$147) -> 0.3271487 | X10: 30 | Y10: 22 | Z10: 25 | AA10: =VLOOKUP(A10,'Hard Stats 2013-2014'!$A$2:$L$691,6,0) -> 41 | AB10: =(X10/D10)*77 -> 30.394737 | AC10: =(Y10/E10)*77 -> 22.891892 | AD10: =(Z10/F10)*77 -> 40.104167 | AE10: =(AA10/G10)*77 -> 38.5 | AF10: =(AB10/AB$146)*1000 -> 7.4772894 | AG10: =(AC10/AC$146)*1000 -> 5.5367129 | AH10: =(AD10/AD$146)*1000 -> 8.6831143 | AI10: =(AE10/AE$146)*1000 -> 8.2273915 | AJ10: =(AF10-H$147) -> -0.71943186 | AK10: =(AG10-I$147) -> -2.2152251 | AL10: =(AH10-J$147) -> 1.2204278 | AM10: =(AI10-K$147) -> 0.92812145 | AN10: 10 | AO10: 13 | AP10: 5 | AQ10: =VLOOKUP(A10,'Hard Stats 2013-2014'!$A$2:$L$691,8,0) -> 15 | AR10: =(AN10/D10)*77 -> 10.131579 | AS10: =(AO10/E10)*77 -> 13.527027 | AT10: =(AP10/F10)*77 -> 8.0208333 | AU10: =(AQ10/G10)*77 -> 14.085366 | AV10: =((AR10/AR$146)*1000) -> 4.9175044 | AW10: =((AS10/AS$146)*1000) -> 6.7384052 | AX10: =((AT10/AT$146)*1000) -> 3.4063217 | AY10: =((AU10/AU$146)*1000) -> 5.7626694 | AZ10: =(AV10-H$147) -> -3.2792169 | BA10: =(AW10-I$147) -> -1.0135327 | BB10: =(AX10-J$147) -> -4.0563648 | BC10: =(AY10-K$147) -> -1.5366007 | BD10: 158 | BE10: 162 | BF10: 84 | BG10: =VLOOKUP(A10,'Hard Stats 2013-2014'!$A$2:$L$691,9,0) -> 170 | BH10: =(BD10/D10)*77 -> 160.07895 | BI10: =(BE10/E10)*77 -> 168.56757 | BJ10: =(BF10/F10)*77 -> 134.75 | BK10: =(BG10/G10)*77 -> 159.63415 | BL10: =(BH10/BH$146)*1000 -> 6.83082 | BM10: =(BI10/BI$146)*1000 -> 7.0040332 | BN10: =(BJ10/BJ$146)*1000 -> 5.3834628 | BO10: =(BK10/BK$146)*1000 -> 5.9908102 | BP10: =(BL10-H$147) -> -1.3659013 | BQ10: =(BM10-I$147) -> -0.74790482 | BR10: =(BN10-J$147) -> -2.0792238 | BS10: =(BO10-K$147) -> -1.3084599 | BT10: =(((BP10+AZ10)+AJ10)+T10) -> -5.7610671 | BU10: =(((BQ10+BA10)+AK10)+U10) -> -1.7293339 | BV10: =(((BR10+BB10)+AL10)+V10) -> -8.0336241 | BW10: =(((BS10+BC10)+AM10)+W10) -> -1.5897904 | BX10: =((BW10*0.6)+(BV10*0.3)+(BU10*0.1)) -> -3.5368949 | BZ10: =RANK(CB10,CB$3:CB$17) -> 11 | CA10: =C10 -> Bryan Little | CB10: =BW10 -> -1.5897904 | CC10: =CC9+1 -> 8 | CD10: =VLOOKUP(CC10,BZ$3:CB$17,2,FALSE) -> Mikko Koivu | CE10: =VLOOKUP(CD10,CA$3:CC$17,2,FALSE) -> 1.5486777 | CG10: =RANK(CI10,CI$100:CI$136) -> #REF! | CH10: =#REF! -> #REF! | CI10: =#REF! -> #REF! | CJ10: =CJ104+1 -> #REF! | CK10: =VLOOKUP(CJ10,CG$100:CI$136,2,FALSE) -> #REF! | CL10: =VLOOKUP(CK10,CH$100:CJ$136,2,FALSE) -> #REF! | CN10: =RANK(CP10,CP$3:CP$17) -> 12 | CO10: =C10 -> Bryan Little | CP10: =BX10 -> -3.5368949 | CQ10: 8 | CR10: =VLOOKUP(CQ10,CN$3:CP$17,2,FALSE) -> Patrik Elias | CS10: =VLOOKUP(CR10,CO$3:CQ$17,2,FALSE) -> 2.5324847
A11: =C11 -> Joffrey Lupul | B11: =RIGHT(C11,LEN(C11)-FIND(" ",C11)) -> Lupul | C11: Joffrey Lupul | D11: 28 | E11: 66 | F11: 16 | G11: =VLOOKUP(A11,'Hard Stats 2013-2014'!$A$2:$L$691,4,0) -> 69 | H11: 9 | I11: 25 | J11: 11 | K11: =VLOOKUP(A11,'Hard Stats 2013-2014'!$A$2:$L$691,5,0) -> 22 | L11: =(H11/D11)*77 -> 24.75 | M11: =(I11/E11)*77 -> 29.166667 | N11: =(J11/F11)*77 -> 52.9375 | O11: =(K11/G11)*77 -> 24.550725 | P11: =(L11/(L$146))*1000 -> 10.585992 | Q11: =(M11/(M$146))*1000 -> 11.678436 | R11: =(N11/(N$146))*1000 -> 20.47991 | S11: =(O11/(O$146))*1000 -> 8.6692246 | T11: =(P11-H$147) -> 2.3892702 | U11: =(Q11-I$147) -> 3.9264985 | V11: =(R11-J$147) -> 13.017224 | W11: =(S11-K$147) -> 1.3699545 | X11: 9 | Y11: 42 | Z11: 7 | AA11: =VLOOKUP(A11,'Hard Stats 2013-2014'!$A$2:$L$691,6,0) -> 22 | AB11: =(X11/D11)*77 -> 24.75 | AC11: =(Y11/E11)*77 -> 49 | AD11: =(Z11/F11)*77 -> 33.6875 | AE11: =(AA11/G11)*77 -> 24.550725 | AF11: =(AB11/AB$146)*1000 -> 6.08865 | AG11: =(AC11/AC$146)*1000 -> 11.851311 | AH11: =(AD11/AD$146)*1000 -> 7.293816 | AI11: =(AE11/AE$146)*1000 -> 5.2464526 | AJ11: =(AF11-H$147) -> -2.1080713 | AK11: =(AG11-I$147) -> 4.0993731 | AL11: =(AH11-J$147) -> -0.16887053 | AM11: =(AI11-K$147) -> -2.0528175 | AN11: 7 | AO11: 21 | AP11: 3 | AQ11: =VLOOKUP(A11,'Hard Stats 2013-2014'!$A$2:$L$691,8,0) -> 12 | AR11: =(AN11/D11)*77 -> 19.25 | AS11: =(AO11/E11)*77 -> 24.5 | AT11: =(AP11/F11)*77 -> 14.4375 | AU11: =(AQ11/G11)*77 -> 13.391304 | AV11: =((AR11/AR$146)*1000) -> 9.3432583 | AW11: =((AS11/AS$146)*1000) -> 12.204524 | AX11: =((AT11/AT$146)*1000) -> 6.1313791 | AY11: =((AU11/AU$146)*1000) -> 5.4787118 | AZ11: =(AV11-H$147) -> 1.146537 | BA11: =(AW11-I$147) -> 4.4525862 | BB11: =(AX11-J$147) -> -1.3313074 | BC11: =(AY11-K$147) -> -1.8205583 | BD11: 75 | BE11: 191 | BF11: 42 | BG11: =VLOOKUP(A11,'Hard Stats 2013-2014'!$A$2:$L$691,9,0) -> 191 | BH11: =(BD11/D11)*77 -> 206.25 | BI11: =(BE11/E11)*77 -> 222.83333 | BJ11: =(BF11/F11)*77 -> 202.125 | BK11: =(BG11/G11)*77 -> 213.14493 | BL11: =(BH11/BH$146)*1000 -> 8.8010114 | BM11: =(BI11/BI$146)*1000 -> 9.2587921 | BN11: =(BJ11/BJ$146)*1000 -> 8.0751942 | BO11: =(BK11/BK$146)*1000 -> 7.9989829 | BP11: =(BL11-H$147) -> 0.60429004 | BQ11: =(BM11-I$147) -> 1.5068541 | BR11: =(BN11-J$147) -> 0.61250759 | BS11: =(BO11-K$147) -> 0.69971279 | BT11: =(((BP11+AZ11)+AJ11)+T11) -> 2.0320259 | BU11: =(((BQ11+BA11)+AK11)+U11) -> 13.985312 | BV11: =(((BR11+BB11)+AL11)+V11) -> 12.129553 | BW11: =(((BS11+BC11)+AM11)+W11) -> -1.8037085 | BX11: =((BW11*0.6)+(BV11*0.3)+(BU11*0.1)) -> 3.9551721 | BZ11: =RANK(CB11,CB$3:CB$17) -> 12 | CA11: =C11 -> Joffrey Lupul | CB11: =BW11 -> -1.8037085 | CC11: =CC10+1 -> 9 | CD11: =VLOOKUP(CC11,BZ$3:CB$17,2,FALSE) -> Patrik Elias | CE11: =VLOOKUP(CD11,CA$3:CC$17,2,FALSE) -> 0.58879767 | CH11: =#REF! -> #REF! | CN11: =RANK(CP11,CP$3:CP$17) -> 5 | CO11: =C11 -> Joffrey Lupul | CP11: =BX11 -> 3.9551721 | CQ11: 9 | CR11: =VLOOKUP(CQ11,CN$3:CP$17,2,FALSE) -> Mikko Koivu | CS11: =VLOOKUP(CR11,CO$3:CQ$17,2,FALSE) -> 2.281773
A12: =C12 -> James Neal | B12: =RIGHT(C12,LEN(C12)-FIND(" ",C12)) -> Neal | C12: James Neal | D12: 20 | E12: 80 | F12: 40 | G12: =VLOOKUP(A12,'Hard Stats 2013-2014'!$A$2:$L$691,4,0) -> 59 | H12: 1 | I12: 40 | J12: 21 | K12: =VLOOKUP(A12,'Hard Stats 2013-2014'!$A$2:$L$691,5,0) -> 27 | L12: =(H12/D12)*77 -> 3.85 | M12: =(I12/E12)*77 -> 38.5 | N12: =(J12/F12)*77 -> 40.425 | O12: =(K12/G12)*77 -> 35.237288 | P12: =(L12/(L$146))*1000 -> 1.6467098 | Q12: =(M12/(M$146))*1000 -> 15.415536 | R12: =(N12/(N$146))*1000 -> 15.639204 | S12: =(O12/(O$146))*1000 -> 12.442809 | T12: =(P12-H$147) -> -6.5500115 | U12: =(Q12-I$147) -> 7.6635982 | V12: =(R12-J$147) -> 8.1765176 | W12: =(S12-K$147) -> 5.1435385 | X12: 5 | Y12: 41 | Z12: 15 | AA12: =VLOOKUP(A12,'Hard Stats 2013-2014'!$A$2:$L$691,6,0) -> 34 | AB12: =(X12/D12)*77 -> 19.25 | AC12: =(Y12/E12)*77 -> 39.4625 | AD12: =(Z12/F12)*77 -> 28.875 | AE12: =(AA12/G12)*77 -> 44.372881 | AF12: =(AB12/AB$146)*1000 -> 4.7356167 | AG12: =(AC12/AC$146)*1000 -> 9.5445381 | AH12: =(AD12/AD$146)*1000 -> 6.2518423 | AI12: =(AE12/AE$146)*1000 -> 9.4824174 | AJ12: =(AF12-H$147) -> -3.4611047 | AK12: =(AG12-I$147) -> 1.7926001 | AL12: =(AH12-J$147) -> -1.2108442 | AM12: =(AI12-K$147) -> 2.1831473 | AN12: 2 | AO12: 30 | AP12: 16 | AQ12: =VLOOKUP(A12,'Hard Stats 2013-2014'!$A$2:$L$691,8,0) -> 26 | AR12: =(AN12/D12)*77 -> 7.7 | AS12: =(AO12/E12)*77 -> 28.875 | AT12: =(AP12/F12)*77 -> 30.8 | AU12: =(AQ12/G12)*77 -> 33.932203 | AV12: =((AR12/AR$146)*1000) -> 3.7373033 | AW12: =((AS12/AS$146)*1000) -> 14.383904 | AX12: =((AT12/AT$146)*1000) -> 13.080275 | AY12: =((AU12/AU$146)*1000) -> 13.882498 | AZ12: =(AV12-H$147) -> -4.459418 | BA12: =(AW12-I$147) -> 6.6319655 | BB12: =(AX12-J$147) -> 5.6175889 | BC12: =(AY12-K$147) -> 6.5832284 | BD12: 52 | BE12: 329 | BF12: 136 | BG12: =VLOOKUP(A12,'Hard Stats 2013-2014'!$A$2:$L$691,9,0) -> 238 | BH12: =(BD12/D12)*77 -> 200.2 | BI12: =(BE12/E12)*77 -> 316.6625 | BJ12: =(BF12/F12)*77 -> 261.8 | BK12: =(BG12/G12)*77 -> 310.61017 | BL12: =(BH12/BH$146)*1000 -> 8.5428484 | BM12: =(BI12/BI$146)*1000 -> 13.157422 | BN12: =(BJ12/BJ$146)*1000 -> 10.459299 | BO12: =(BK12/BK$146)*1000 -> 11.656695 | BP12: =(BL12-H$147) -> 0.34612704 | BQ12: =(BM12-I$147) -> 5.4054842 | BR12: =(BN12-J$147) -> 2.9966125 | BS12: =(BO12-K$147) -> 4.357425 | BT12: =(((BP12+AZ12)+AJ12)+T12) -> -14.124407 | BU12: =(((BQ12+BA12)+AK12)+U12) -> 21.493648 | BV12: =(((BR12+BB12)+AL12)+V12) -> 15.579875 | BW12: =(((BS12+BC12)+AM12)+W12) -> 18.267339 | BX12: =((BW12*0.6)+(BV12*0.3)+(BU12*0.1)) -> 17.783731 | BZ12: =RANK(CB12,CB$3:CB$17) -> 1 | CA12: =C12 -> James Neal | CB12: =BW12 -> 18.267339 | CC12: =CC11+1 -> 10 | CD12: =VLOOKUP(CC12,BZ$3:CB$17,2,FALSE) -> Daniel Sedin | CE12: =VLOOKUP(CD12,CA$3:CC$17,2,FALSE) -> 0.38472541 | CH12: =#REF! -> #REF! | CN12: =RANK(CP12,CP$3:CP$17) -> 1 | CO12: =C12 -> James Neal | CP12: =BX12 -> 17.783731 | CQ12: 10 | CR12: =VLOOKUP(CQ12,CN$3:CP$17,2,FALSE) -> Ryan O'Reilly | CS12: =VLOOKUP(CR12,CO$3:CQ$17,2,FALSE) -> 1.5187313
A13: =C13 -> Kyle Okposo | B13: =RIGHT(C13,LEN(C13)-FIND(" ",C13)) -> Okposo | C13: Kyle Okposo | D13: 38 | E13: 79 | F13: 48 | G13: =VLOOKUP(A13,'Hard Stats 2013-2014'!$A$2:$L$691,4,0) -> 71 | H13: 5 | I13: 24 | J13: 4 | K13: =VLOOKUP(A13,'Hard Stats 2013-2014'!$A$2:$L$691,5,0) -> 27 | L13: =(H13/D13)*77 -> 10.131579 | M13: =(I13/E13)*77 -> 23.392405 | N13: =(J13/F13)*77 -> 6.4166667 | O13: =(K13/G13)*77 -> 29.28169 | P13: =(L13/(L$146))*1000 -> 4.3334468 | Q13: =(M13/(M$146))*1000 -> 9.3664017 | R13: =(N13/(N$146))*1000 -> 2.4824134 | S13: =(O13/(O$146))*1000 -> 10.339799 | T13: =(P13-H$147) -> -3.8632745 | U13: =(Q13-I$147) -> 1.6144637 | V13: =(R13-J$147) -> -4.9802732 | W13: =(S13-K$147) -> 3.0405286 | X13: 15 | Y13: 21 | Z13: 20 | AA13: =VLOOKUP(A13,'Hard Stats 2013-2014'!$A$2:$L$691,6,0) -> 42 | AB13: =(X13/D13)*77 -> 30.394737 | AC13: =(Y13/E13)*77 -> 20.468354 | AD13: =(Z13/F13)*77 -> 32.083333 | AE13: =(AA13/G13)*77 -> 45.549296 | AF13: =(AB13/AB$146)*1000 -> 7.4772894 | AG13: =(AC13/AC$146)*1000 -> 4.9505477 | AH13: =(AD13/AD$146)*1000 -> 6.9464915 | AI13: =(AE13/AE$146)*1000 -> 9.7338153 | AJ13: =(AF13-H$147) -> -0.71943186 | AK13: =(AG13-I$147) -> -2.8013903 | AL13: =(AH13-J$147) -> -0.5161951 | AM13: =(AI13-K$147) -> 2.4345453 | AN13: 5 | AO13: 6 | AP13: 3 | AQ13: =VLOOKUP(A13,'Hard Stats 2013-2014'!$A$2:$L$691,8,0) -> 15 | AR13: =(AN13/D13)*77 -> 10.131579 | AS13: =(AO13/E13)*77 -> 5.8481013 | AT13: =(AP13/F13)*77 -> 4.8125 | AU13: =(AQ13/G13)*77 -> 16.267606 | AV13: =((AR13/AR$146)*1000) -> 4.9175044 | AW13: =((AS13/AS$146)*1000) -> 2.9131956 | AX13: =((AT13/AT$146)*1000) -> 2.043793 | AY13: =((AU13/AU$146)*1000) -> 6.6554773 | AZ13: =(AV13-H$147) -> -3.2792169 | BA13: =(AW13-I$147) -> -4.8387423 | BB13: =(AX13-J$147) -> -5.4188935 | BC13: =(AY13-K$147) -> -0.64379275 | BD13: 72 | BE13: 152 | BF13: 101 | BG13: =VLOOKUP(A13,'Hard Stats 2013-2014'!$A$2:$L$691,9,0) -> 195 | BH13: =(BD13/D13)*77 -> 145.89474 | BI13: =(BE13/E13)*77 -> 148.1519 | BJ13: =(BF13/F13)*77 -> 162.02083 | BK13: =(BG13/G13)*77 -> 211.47887 | BL13: =(BH13/BH$146)*1000 -> 6.2255575 | BM13: =(BI13/BI$146)*1000 -> 6.155756 | BN13: =(BJ13/BJ$146)*1000 -> 6.4729731 | BO13: =(BK13/BK$146)*1000 -> 7.9364586 | BP13: =(BL13-H$147) -> -1.9711638 | BQ13: =(BM13-I$147) -> -1.596182 | BR13: =(BN13-J$147) -> -0.98971347 | BS13: =(BO13-K$147) -> 0.63718848 | BT13: =(((BP13+AZ13)+AJ13)+T13) -> -9.8330871 | BU13: =(((BQ13+BA13)+AK13)+U13) -> -7.6218509 | BV13: =(((BR13+BB13)+AL13)+V13) -> -11.905075 | BW13: =(((BS13+BC13)+AM13)+W13) -> 5.4684696 | BX13: =((BW13*0.6)+(BV13*0.3)+(BU13*0.1)) -> -1.052626 | BZ13: =RANK(CB13,CB$3:CB$17) -> 4 | CA13: =C13 -> Kyle Okposo | CB13: =BW13 -> 5.4684696 | CC13: =CC12+1 -> 11 | CD13: =VLOOKUP(CC13,BZ$3:CB$17,2,FALSE) -> Bryan Little | CE13: =VLOOKUP(CD13,CA$3:CC$17,2,FALSE) -> -1.5897904 | CG13: =RANK(CI13,CI$3:CI$161) -> #REF! | CH13: =#REF! -> #REF! | CI13: =#REF! -> #REF! | CJ13: =CJ163+1 -> 3 | CK13: =VLOOKUP(CJ13,CG$3:CI$161,2,FALSE) -> #N/A | CL13: =VLOOKUP(CK13,CH$3:CJ$161,2,FALSE) -> #N/A | CN13: =RANK(CP13,CP$3:CP$17) -> 11 | CO13: =C13 -> Kyle Okposo | CP13: =BX13 -> -1.052626 | CQ13: 11 | CR13: =VLOOKUP(CQ13,CN$3:CP$17,2,FALSE) -> Kyle Okposo | CS13: =VLOOKUP(CR13,CO$3:CQ$17,2,FALSE) -> -1.052626
A14: =C14 -> Ryan O'Reilly | B14: =RIGHT(C14,LEN(C14)-FIND(" ",C14)) -> O'Reilly | C14: Ryan O'Reilly | D14: 74 | E14: 81 | F14: 29 | G14: =VLOOKUP(A14,'Hard Stats 2013-2014'!$A$2:$L$691,4,0) -> 80 | H14: 13 | I14: 18 | J14: 6 | K14: =VLOOKUP(A14,'Hard Stats 2013-2014'!$A$2:$L$691,5,0) -> 28 | L14: =(H14/D14)*77 -> 13.527027 | M14: =(I14/E14)*77 -> 17.111111 | N14: =(J14/F14)*77 -> 15.931034 | O14: =(K14/G14)*77 -> 26.95 | P14: =(L14/(L$146))*1000 -> 5.7857371 | Q14: =(M14/(M$146))*1000 -> 6.8513494 | R14: =(N14/(N$146))*1000 -> 6.1632332 | S14: =(O14/(O$146))*1000 -> 9.5164443 | T14: =(P14-H$147) -> -2.4109842 | U14: =(Q14-I$147) -> -0.90058859 | V14: =(R14-J$147) -> -1.2994534 | W14: =(S14-K$147) -> 2.2171742 | X14: 13 | Y14: 37 | Z14: 14 | AA14: =VLOOKUP(A14,'Hard Stats 2013-2014'!$A$2:$L$691,6,0) -> 36 | AB14: =(X14/D14)*77 -> 13.527027 | AC14: =(Y14/E14)*77 -> 35.17284 | AD14: =(Z14/F14)*77 -> 37.172414 | AE14: =(AA14/G14)*77 -> 34.65 | AF14: =(AB14/AB$146)*1000 -> 3.3277306 | AG14: =(AC14/AC$146)*1000 -> 8.5070258 | AH14: =(AD14/AD$146)*1000 -> 8.0483487 | AI14: =(AE14/AE$146)*1000 -> 7.4046524 | AJ14: =(AF14-H$147) -> -4.8689907 | AK14: =(AG14-I$147) -> 0.75508781 | AL14: =(AH14-J$147) -> 0.58566217 | AM14: =(AI14-K$147) -> 0.1053823 | AN14: 4 | AO14: 15 | AP14: 6 | AQ14: =VLOOKUP(A14,'Hard Stats 2013-2014'!$A$2:$L$691,8,0) -> 22 | AR14: =(AN14/D14)*77 -> 4.1621622 | AS14: =(AO14/E14)*77 -> 14.259259 | AT14: =(AP14/F14)*77 -> 15.931034 | AU14: =(AQ14/G14)*77 -> 21.175 | AV14: =((AR14/AR$146)*1000) -> 2.020164 | AW14: =((AS14/AS$146)*1000) -> 7.1031622 | AX14: =((AT14/AT$146)*1000) -> 6.7656597 | AY14: =((AU14/AU$146)*1000) -> 8.663213 | AZ14: =(AV14-H$147) -> -6.1765574 | BA14: =(AW14-I$147) -> -0.64877576 | BB14: =(AX14-J$147) -> -0.69702684 | BC14: =(AY14-K$147) -> 1.3639429 | BD14: 119 | BE14: 189 | BF14: 66 | BG14: =VLOOKUP(A14,'Hard Stats 2013-2014'!$A$2:$L$691,9,0) -> 201 | BH14: =(BD14/D14)*77 -> 123.82432 | BI14: =(BE14/E14)*77 -> 179.66667 | BJ14: =(BF14/F14)*77 -> 175.24138 | BK14: =(BG14/G14)*77 -> 193.4625 | BL14: =(BH14/BH$146)*1000 -> 5.2837783 | BM14: =(BI14/BI$146)*1000 -> 7.4652041 | BN14: =(BJ14/BJ$146)*1000 -> 7.0011536 | BO14: =(BK14/BK$146)*1000 -> 7.2603333 | BP14: =(BL14-H$147) -> -2.912943 | BQ14: =(BM14-I$147) -> -0.28673392 | BR14: =(BN14-J$147) -> -0.46153301 | BS14: =(BO14-K$147) -> -0.038936739 | BT14: =(((BP14+AZ14)+AJ14)+T14) -> -16.369475 | BU14: =(((BQ14+BA14)+AK14)+U14) -> -1.0810105 | BV14: =(((BR14+BB14)+AL14)+V14) -> -1.8723511 | BW14: =(((BS14+BC14)+AM14)+W14) -> 3.6475627 | BX14: =((BW14*0.6)+(BV14*0.3)+(BU14*0.1)) -> 1.5187313 | BZ14: =RANK(CB14,CB$3:CB$17) -> 6 | CA14: =C14 -> Ryan O'Reilly | CB14: =BW14 -> 3.6475627 | CC14: =CC13+1 -> 12 | CD14: =VLOOKUP(CC14,BZ$3:CB$17,2,FALSE) -> Joffrey Lupul | CE14: =VLOOKUP(CD14,CA$3:CC$17,2,FALSE) -> -1.8037085 | CH14: =#REF! -> #REF! | CN14: =RANK(CP14,CP$3:CP$17) -> 10 | CO14: =C14 -> Ryan O'Reilly | CP14: =BX14 -> 1.5187313 | CQ14: 12 | CR14: =VLOOKUP(CQ14,CN$3:CP$17,2,FALSE) -> Bryan Little | CS14: =VLOOKUP(CR14,CO$3:CQ$17,2,FALSE) -> -3.5368949
A15: =C15 -> Ondrej Palat | B15: =RIGHT(C15,LEN(C15)-FIND(" ",C15)) -> Palat | C15: Ondrej Palat | D15: NA | E15: NA | F15: 14 | G15: =VLOOKUP(A15,'Hard Stats 2013-2014'!$A$2:$L$691,4,0) -> 81 | H15: NA | I15: NA | J15: 2 | K15: =VLOOKUP(A15,'Hard Stats 2013-2014'!$A$2:$L$691,5,0) -> 23 | L15: NA | M15: NA | N15: =(J15/F15)*77 -> 11 | O15: =(K15/G15)*77 -> 21.864198 | P15: NA | Q15: NA | R15: =(N15/(N$146))*1000 -> 4.2555658 | S15: =(O15/(O$146))*1000 -> 7.7205721 | T15: NA | U15: NA | V15: =(R15-J$147) -> -3.2071208 | W15: =(S15-K$147) -> 0.42130202 | X15: NA | Y15: NA | Z15: 2 | AA15: =VLOOKUP(A15,'Hard Stats 2013-2014'!$A$2:$L$691,6,0) -> 36 | AB15: NA | AC15: NA | AD15: =(Z15/F15)*77 -> 11 | AE15: =(AA15/G15)*77 -> 34.222222 | AF15: NA | AG15: NA | AH15: =(AD15/AD$146)*1000 -> 2.3816542 | AI15: =(AE15/AE$146)*1000 -> 7.3132369 | AJ15: NA | AK15: NA | AL15: =(AH15-J$147) -> -5.0810323 | AM15: =(AI15-K$147) -> 0.01396684 | AN15: NA | AO15: NA | AP15: 0 | AQ15: =VLOOKUP(A15,'Hard Stats 2013-2014'!$A$2:$L$691,8,0) -> 11 | AR15: NA | AS15: NA | AT15: =(AP15/F15)*77 -> 0 | AU15: =(AQ15/G15)*77 -> 10.45679 | AV15: NA | AW15: NA | AX15: =((AT15/AT$146)*1000) -> 0 | AY15: =((AU15/AU$146)*1000) -> 4.2781299 | AZ15: NA | BA15: NA | BB15: =(AX15-J$147) -> -7.4626866 | BC15: =(AY15-K$147) -> -3.0211402 | BD15: NA | BE15: NA | BF15: 16 | BG15: =VLOOKUP(A15,'Hard Stats 2013-2014'!$A$2:$L$691,9,0) -> 165 | BH15: NA | BI15: NA | BJ15: =(BF15/F15)*77 -> 88 | BK15: =(BG15/G15)*77 -> 156.85185 | BL15: NA | BM15: NA | BN15: =(BJ15/BJ$146)*1000 -> 3.5157308 | BO15: =(BK15/BK$146)*1000 -> 5.8863952 | BP15: NA | BQ15: NA | BR15: =(BN15-J$147) -> -3.9469558 | BS15: =(BO15-K$147) -> -1.4128749 | BT15: NA | BU15: NA | BV15: =(((BR15+BB15)+AL15)+V15) -> -19.697796 | BW15: =(((BS15+BC15)+AM15)+W15) -> -3.9987462 | BX15: =((BW15*0.65)+(BV15*0.35)) -> -9.4934135 | BZ15: =RANK(CB15,CB$3:CB$17) -> 14 | CA15: =C15 -> Ondrej Palat | CB15: =BW15 -> -3.9987462 | CC15: =CC14+1 -> 13 | CD15: =VLOOKUP(CC15,BZ$3:CB$17,2,FALSE) -> Tyler Bozak | CE15: =VLOOKUP(CD15,CA$3:CC$17,2,FALSE) -> -2.9497898 | CH15: =#REF! -> #REF! | CN15: =RANK(CP15,CP$3:CP$17) -> 15 | CO15: =C15 -> Ondrej Palat | CP15: =BX15 -> -9.4934135 | CQ15: 13 | CR15: =VLOOKUP(CQ15,CN$3:CP$17,2,FALSE) -> Tyler Bozak | CS15: =VLOOKUP(CR15,CO$3:CQ$17,2,FALSE) -> -4.0034161
A16: =C16 -> Daniel Sedin | B16: =RIGHT(C16,LEN(C16)-FIND(" ",C16)) -> Sedin | C16: Daniel Sedin | D16: 82 | E16: 72 | F16: 47 | G16: =VLOOKUP(A16,'Hard Stats 2013-2014'!$A$2:$L$691,4,0) -> 73 | H16: 41 | I16: 30 | J16: 12 | K16: =VLOOKUP(A16,'Hard Stats 2013-2014'!$A$2:$L$691,5,0) -> 16 | L16: =(H16/D16)*77 -> 38.5 | M16: =(I16/E16)*77 -> 32.083333 | N16: =(J16/F16)*77 -> 19.659574 | O16: =(K16/G16)*77 -> 16.876712 | P16: =(L16/(L$146))*1000 -> 16.467098 | Q16: =(M16/(M$146))*1000 -> 12.84628 | R16: =(N16/(N$146))*1000 -> 7.605692 | S16: =(O16/(O$146))*1000 -> 5.9594172 | T16: =(P16-H$147) -> 8.2703766 | U16: =(Q16-I$147) -> 5.0943421 | V16: =(R16-J$147) -> 0.14300541 | W16: =(S16-K$147) -> -1.3398529 | X16: 63 | Y16: 37 | Z16: 28 | AA16: =VLOOKUP(A16,'Hard Stats 2013-2014'!$A$2:$L$691,6,0) -> 31 | AB16: =(X16/D16)*77 -> 59.158537 | AC16: =(Y16/E16)*77 -> 39.569444 | AD16: =(Z16/F16)*77 -> 45.87234 | AE16: =(AA16/G16)*77 -> 32.69863 | AF16: =(AB16/AB$146)*1000 -> 14.553358 | AG16: =(AC16/AC$146)*1000 -> 9.570404 | AH16: =(AD16/AD$146)*1000 -> 9.9320048 | AI16: =(AE16/AE$146)*1000 -> 6.9876476 | AJ16: =(AF16-H$147) -> 6.3566372 | AK16: =(AG16-I$147) -> 1.818466 | AL16: =(AH16-J$147) -> 2.4693183 | AM16: =(AI16-K$147) -> -0.31162248 | AN16: 42 | AO16: 25 | AP16: 12 | AQ16: =VLOOKUP(A16,'Hard Stats 2013-2014'!$A$2:$L$691,8,0) -> 18 | AR16: =(AN16/D16)*77 -> 39.439024 | AS16: =(AO16/E16)*77 -> 26.736111 | AT16: =(AP16/F16)*77 -> 19.659574 | AU16: =(AQ16/G16)*77 -> 18.986301 | AV16: =((AR16/AR$146)*1000) -> 19.142285 | AW16: =((AS16/AS$146)*1000) -> 13.318429 | AX16: =((AT16/AT$146)*1000) -> 8.349112 | AY16: =((AU16/AU$146)*1000) -> 7.7677626 | AZ16: =(AV16-H$147) -> 10.945564 | BA16: =(AW16-I$147) -> 5.5664912 | BB16: =(AX16-J$147) -> 0.88642544 | BC16: =(AY16-K$147) -> 0.46849251 | BD16: 266 | BE16: 229 | BF16: 138 | BG16: =VLOOKUP(A16,'Hard Stats 2013-2014'!$A$2:$L$691,9,0) -> 224 | BH16: =(BD16/D16)*77 -> 249.78049 | BI16: =(BE16/E16)*77 -> 244.90278 | BJ16: =(BF16/F16)*77 -> 226.08511 | BK16: =(BG16/G16)*77 -> 236.27397 | BL16: =(BH16/BH$146)*1000 -> 10.658526 | BM16: =(BI16/BI$146)*1000 -> 10.175784 | BN16: =(BJ16/BJ$146)*1000 -> 9.032436 | BO16: =(BK16/BK$146)*1000 -> 8.8669784 | BP16: =(BL16-H$147) -> 2.4618043 | BQ16: =(BM16-I$147) -> 2.4238461 | BR16: =(BN16-J$147) -> 1.5697495 | BS16: =(BO16-K$147) -> 1.5677083 | BT16: =(((BP16+AZ16)+AJ16)+T16) -> 28.034382 | BU16: =(((BQ16+BA16)+AK16)+U16) -> 14.903145 | BV16: =(((BR16+BB16)+AL16)+V16) -> 5.0684986 | BW16: =(((BS16+BC16)+AM16)+W16) -> 0.38472541 | BX16: =((BW16*0.6)+(BV16*0.3)+(BU16*0.1)) -> 3.2416994 | BZ16: =RANK(CB16,CB$3:CB$17) -> 10 | CA16: =C16 -> Daniel Sedin | CB16: =BW16 -> 0.38472541 | CC16: =CC15+1 -> 14 | CD16: =VLOOKUP(CC16,BZ$3:CB$17,2,FALSE) -> Ondrej Palat | CE16: =VLOOKUP(CD16,CA$3:CC$17,2,FALSE) -> -3.9987462 | CH16: =#REF! -> #REF! | CN16: =RANK(CP16,CP$3:CP$17) -> 7 | CO16: =C16 -> Daniel Sedin | CP16: =BX16 -> 3.2416994 | CQ16: 14 | CR16: =VLOOKUP(CQ16,CN$3:CP$17,2,FALSE) -> Lee Stempniak | CS16: =VLOOKUP(CR16,CO$3:CQ$17,2,FALSE) -> -8.8925004
A17: =C17 -> Lee Stempniak | B17: =RIGHT(C17,LEN(C17)-FIND(" ",C17)) -> Stempniak | C17: Lee Stempniak | D17: 82 | E17: 61 | F17: 47 | G17: =VLOOKUP(A17,'Hard Stats 2013-2014'!$A$2:$L$691,4,0) -> 73 | H17: 19 | I17: 14 | J17: 9 | K17: =VLOOKUP(A17,'Hard Stats 2013-2014'!$A$2:$L$691,5,0) -> 12 | L17: =(H17/D17)*77 -> 17.841463 | M17: =(I17/E17)*77 -> 17.672131 | N17: =(J17/F17)*77 -> 14.744681 | O17: =(K17/G17)*77 -> 12.657534 | P17: =(L17/(L$146))*1000 -> 7.6310942 | Q17: =(M17/(M$146))*1000 -> 7.0759838 | R17: =(N17/(N$146))*1000 -> 5.704269 | S17: =(O17/(O$146))*1000 -> 4.4695629 | T17: =(P17-H$147) -> -0.56562715 | U17: =(Q17-I$147) -> -0.67595418 | V17: =(R17-J$147) -> -1.7584176 | W17: =(S17-K$147) -> -2.8297072 | X17: 19 | Y17: 14 | Z17: 23 | AA17: =VLOOKUP(A17,'Hard Stats 2013-2014'!$A$2:$L$691,6,0) -> 22 | AB17: =(X17/D17)*77 -> 17.841463 | AC17: =(Y17/E17)*77 -> 17.672131 | AD17: =(Z17/F17)*77 -> 37.680851 | AE17: =(AA17/G17)*77 -> 23.205479 | AF17: =(AB17/AB$146)*1000 -> 4.3891081 | AG17: =(AC17/AC$146)*1000 -> 4.2742434 | AH17: =(AD17/AD$146)*1000 -> 8.1584325 | AI17: =(AE17/AE$146)*1000 -> 4.9589757 | AJ17: =(AF17-H$147) -> -3.8076132 | AK17: =(AG17-I$147) -> -3.4776946 | AL17: =(AH17-J$147) -> 0.69574597 | AM17: =(AI17-K$147) -> -2.3402944 | AN17: 6 | AO17: 5 | AP17: 6 | AQ17: =VLOOKUP(A17,'Hard Stats 2013-2014'!$A$2:$L$691,8,0) -> 4 | AR17: =(AN17/D17)*77 -> 5.6341463 | AS17: =(AO17/E17)*77 -> 6.3114754 | AT17: =(AP17/F17)*77 -> 9.8297872 | AU17: =(AQ17/G17)*77 -> 4.2191781 | AV17: =((AR17/AR$146)*1000) -> 2.7346122 | AW17: =((AS17/AS$146)*1000) -> 3.1440226 | AX17: =((AT17/AT$146)*1000) -> 4.174556 | AY17: =((AU17/AU$146)*1000) -> 1.7261695 | AZ17: =(AV17-H$147) -> -5.4621091 | BA17: =(AW17-I$147) -> -4.6079154 | BB17: =(AX17-J$147) -> -3.2881306 | BC17: =(AY17-K$147) -> -5.5731006 | BD17: 199 | BE17: 130 | BF17: 113 | BG17: =VLOOKUP(A17,'Hard Stats 2013-2014'!$A$2:$L$691,9,0) -> 178 | BH17: =(BD17/D17)*77 -> 186.86585 | BI17: =(BE17/E17)*77 -> 164.09836 | BJ17: =(BF17/F17)*77 -> 185.12766 | BK17: =(BG17/G17)*77 -> 187.75342 | BL17: =(BH17/BH$146)*1000 -> 7.9738594 | BM17: =(BI17/BI$146)*1000 -> 6.8183363 | BN17: =(BJ17/BJ$146)*1000 -> 7.3961251 | BO17: =(BK17/BK$146)*1000 -> 7.046081 | BP17: =(BL17-H$147) -> -0.22286192 | BQ17: =(BM17-I$147) -> -0.93360172 | BR17: =(BN17-J$147) -> -0.066561421 | BS17: =(BO17-K$147) -> -0.25318906 | BT17: =(((BP17+AZ17)+AJ17)+T17) -> -10.058211 | BU17: =(((BQ17+BA17)+AK17)+U17) -> -9.6951659 | BV17: =(((BR17+BB17)+AL17)+V17) -> -4.4173636 | BW17: =(((BS17+BC17)+AM17)+W17) -> -10.996291 | BX17: =((BW17*0.6)+(BV17*0.3)+(BU17*0.1)) -> -8.8925004 | BZ17: =RANK(CB17,CB$3:CB$17) -> 15 | CA17: =C17 -> Lee Stempniak | CB17: =BW17 -> -10.996291 | CC17: =CC16+1 -> 15 | CD17: =VLOOKUP(CC17,BZ$3:CB$17,2,FALSE) -> Lee Stempniak | CE17: =VLOOKUP(CD17,CA$3:CC$17,2,FALSE) -> -10.996291 | CH17: =#REF! -> #REF! | CN17: =RANK(CP17,CP$3:CP$17) -> 14 | CO17: =C17 -> Lee Stempniak | CP17: =BX17 -> -8.8925004 | CQ17: 15 | CR17: =VLOOKUP(CQ17,CN$3:CP$17,2,FALSE) -> Ondrej Palat | CS17: =VLOOKUP(CR17,CO$3:CQ$17,2,FALSE) -> -9.4934135
A18: =C18 -> Jay Bouwmeester | B18: =RIGHT(C18,LEN(C18)-FIND(" ",C18)) -> Bouwmeester | C18: Jay Bouwmeester | D18: 82 | E18: 33 | F18: 14 | G18: =VLOOKUP(A18,'Hard Stats 2013-2014'!$A$2:$L$691,4,0) -> 82 | H18: 5 | I18: 6 | J18: 7 | K18: =VLOOKUP(A18,'Hard Stats 2013-2014'!$A$2:$L$691,5,0) -> 4 | L18: =(H18/D18)*77 -> 4.695122 | M18: =(I18/E18)*77 -> 14 | N18: =(J18/F18)*77 -> 38.5 | O18: =(K18/G18)*77 -> 3.7560976 | P18: =(L18/(L$146))*1000 -> 2.0081827 | Q18: =(M18/(M$146))*1000 -> 5.6056495 | R18: =(N18/(N$146))*1000 -> 14.89448 | S18: =(O18/(O$146))*1000 -> 1.3263337 | T18: =(P18-H$147) -> -6.1885386 | U18: =(Q18-I$147) -> -2.1462885 | V18: =(R18-J$147) -> 7.4317936 | W18: =(S18-K$147) -> -5.9729364 | X18: 24 | Y18: 9 | Z18: 15 | AA18: =VLOOKUP(A18,'Hard Stats 2013-2014'!$A$2:$L$691,6,0) -> 33 | AB18: =(X18/D18)*77 -> 22.536585 | AC18: =(Y18/E18)*77 -> 21 | AD18: =(Z18/F18)*77 -> 82.5 | AE18: =(AA18/G18)*77 -> 30.987805 | AF18: =(AB18/AB$146)*1000 -> 5.5441366 | AG18: =(AC18/AC$146)*1000 -> 5.0791333 | AH18: =(AD18/AD$146)*1000 -> 17.862407 | AI18: =(AE18/AE$146)*1000 -> 6.6220468 | AJ18: =(AF18-H$147) -> -2.6525847 | AK18: =(AG18-I$147) -> -2.6728046 | AL18: =(AH18-J$147) -> 10.39972 | AM18: =(AI18-K$147) -> -0.67722323 | AN18: 10 | AO18: 5 | AP18: 7 | AQ18: =VLOOKUP(A18,'Hard Stats 2013-2014'!$A$2:$L$691,8,0) -> 11 | AR18: =(AN18/D18)*77 -> 9.3902439 | AS18: =(AO18/E18)*77 -> 11.666667 | AT18: =(AP18/F18)*77 -> 38.5 | AU18: =(AQ18/G18)*77 -> 10.329268 | AV18: =((AR18/AR$146)*1000) -> 4.557687 | AW18: =((AS18/AS$146)*1000) -> 5.8116782 | AX18: =((AT18/AT$146)*1000) -> 16.350344 | AY18: =((AU18/AU$146)*1000) -> 4.2259576 | AZ18: =(AV18-H$147) -> -3.6390343 | BA18: =(AW18-I$147) -> -1.9402598 | BB18: =(AX18-J$147) -> 8.8876578 | BC18: =(AY18-K$147) -> -3.0733125 | BD18: 107 | BE18: 55 | BF18: 79 | BG18: =VLOOKUP(A18,'Hard Stats 2013-2014'!$A$2:$L$691,9,0) -> 152 | BH18: =(BD18/D18)*77 -> 100.47561 | BI18: =(BE18/E18)*77 -> 128.33333 | BJ18: =(BF18/F18)*77 -> 434.5 | BK18: =(BG18/G18)*77 -> 142.73171 | BL18: =(BH18/BH$146)*1000 -> 4.287452 | BM18: =(BI18/BI$146)*1000 -> 5.3322886 | BN18: =(BJ18/BJ$146)*1000 -> 17.358921 | BO18: =(BK18/BK$146)*1000 -> 5.3564891 | BP18: =(BL18-H$147) -> -3.9092693 | BQ18: =(BM18-I$147) -> -2.4196494 | BR18: =(BN18-J$147) -> 9.8962342 | BS18: =(BO18-K$147) -> -1.942781 | BT18: =(((BP18+AZ18)+AJ18)+T18) -> -16.389427 | BU18: =(((BQ18+BA18)+AK18)+U18) -> -9.1790023 | BV18: =(((BR18+BB18)+AL18)+V18) -> 36.615406 | BW18: =(((BS18+BC18)+AM18)+W18) -> -11.666253 | BX18: =((BW18*0.6)+(BV18*0.3)+(BU18*0.1)) -> 3.0669696 | BZ18: =RANK(CB18,CB$18:CB$25) -> 6 | CA18: =C18 -> Jay Bouwmeester | CB18: =BW18 -> -11.666253 | CC18: 1 | CD18: =VLOOKUP(CC18,BZ$18:CB$25,2,FALSE) -> Mark Giordano | CE18: =VLOOKUP(CD18,CA$18:CC$25,2,FALSE) -> 3.2069939 | CG18: =RANK(CI18,CI$18:CI$120) -> #REF! | CH18: =#REF! -> #REF! | CI18: =#REF! -> #REF! | CJ18: 1 | CK18: =VLOOKUP(CJ18,CG$18:CI$120,2,FALSE) -> #N/A | CL18: =VLOOKUP(CK18,CH$18:CJ$120,2,FALSE) -> #N/A | CN18: =RANK(CP18,CP$18:CP$25) -> 1 | CO18: =C18 -> Jay Bouwmeester | CP18: =BX18 -> 3.0669696 | CQ18: 1 | CR18: =VLOOKUP(CQ18,CN$18:CP$25,2,FALSE) -> Jay Bouwmeester | CS18: =VLOOKUP(CR18,CO$18:CQ$25,2,FALSE) -> 3.0669696
A19: =C19 -> Brian Campbell | B19: =RIGHT(C19,LEN(C19)-FIND(" ",C19)) -> Campbell | C19: Brian Campbell | D19: 65 | E19: 82 | F19: 48 | G19: =VLOOKUP(A19,'Hard Stats 2013-2014'!$A$2:$L$691,4,0) -> 82 | H19: 5 | I19: 4 | J19: 8 | K19: =VLOOKUP(A19,'Hard Stats 2013-2014'!$A$2:$L$691,5,0) -> 7 | L19: =(H19/D19)*77 -> 5.9230769 | M19: =(I19/E19)*77 -> 3.7560976 | N19: =(J19/F19)*77 -> 12.833333 | O19: =(K19/G19)*77 -> 6.5731707 | P19: =(L19/(L$146))*1000 -> 2.5333997 | Q19: =(M19/(M$146))*1000 -> 1.5039547 | R19: =(N19/(N$146))*1000 -> 4.9648267 | S19: =(O19/(O$146))*1000 -> 2.321084 | T19: =(P19-H$147) -> -5.6633216 | U19: =(Q19-I$147) -> -6.2479832 | V19: =(R19-J$147) -> -2.4978599 | W19: =(S19-K$147) -> -4.9781861 | X19: 22 | Y19: 49 | Z19: 19 | AA19: =VLOOKUP(A19,'Hard Stats 2013-2014'!$A$2:$L$691,6,0) -> 30 | AB19: =(X19/D19)*77 -> 26.061538 | AC19: =(Y19/E19)*77 -> 46.012195 | AD19: =(Z19/F19)*77 -> 30.479167 | AE19: =(AA19/G19)*77 -> 28.170732 | AF19: =(AB19/AB$146)*1000 -> 6.4112964 | AG19: =(AC19/AC$146)*1000 -> 11.12867 | AH19: =(AD19/AD$146)*1000 -> 6.5991669 | AI19: =(AE19/AE$146)*1000 -> 6.0200426 | AJ19: =(AF19-H$147) -> -1.7854249 | AK19: =(AG19-I$147) -> 3.3767322 | AL19: =(AH19-J$147) -> -0.86351967 | AM19: =(AI19-K$147) -> -1.2792275 | AN19: 6 | AO19: 31 | AP19: 17 | AQ19: =VLOOKUP(A19,'Hard Stats 2013-2014'!$A$2:$L$691,8,0) -> 12 | AR19: =(AN19/D19)*77 -> 7.1076923 | AS19: =(AO19/E19)*77 -> 29.109756 | AT19: =(AP19/F19)*77 -> 27.270833 | AU19: =(AQ19/G19)*77 -> 11.268293 | AV19: =((AR19/AR$146)*1000) -> 3.4498185 | AW19: =((AS19/AS$146)*1000) -> 14.500846 | AX19: =((AT19/AT$146)*1000) -> 11.581494 | AY19: =((AU19/AU$146)*1000) -> 4.6101355 | AZ19: =(AV19-H$147) -> -4.7469029 | BA19: =(AW19-I$147) -> 6.7489078 | BB19: =(AX19-J$147) -> 4.1188073 | BC19: =(AY19-K$147) -> -2.6891346 | BD19: 84 | BE19: 131 | BF19: 70 | BG19: =VLOOKUP(A19,'Hard Stats 2013-2014'!$A$2:$L$691,9,0) -> 116 | BH19: =(BD19/D19)*77 -> 99.507692 | BI19: =(BE19/E19)*77 -> 123.0122 | BJ19: =(BF19/F19)*77 -> 112.29167 | BK19: =(BG19/G19)*77 -> 108.92683 | BL19: =(BH19/BH$146)*1000 -> 4.2461495 | BM19: =(BI19/BI$146)*1000 -> 5.1111937 | BN19: =(BJ19/BJ$146)*1000 -> 4.486219 | BO19: =(BK19/BK$146)*1000 -> 4.0878469 | BP19: =(BL19-H$147) -> -3.9505718 | BQ19: =(BM19-I$147) -> -2.6407443 | BR19: =(BN19-J$147) -> -2.9764676 | BS19: =(BO19-K$147) -> -3.2114231 | BT19: =(((BP19+AZ19)+AJ19)+T19) -> -16.146221 | BU19: =(((BQ19+BA19)+AK19)+U19) -> 1.2369125 | BV19: =(((BR19+BB19)+AL19)+V19) -> -2.2190398 | BW19: =(((BS19+BC19)+AM19)+W19) -> -12.157971 | BX19: =((BW19*0.6)+(BV19*0.3)+(BU19*0.1)) -> -7.8368034 | BZ19: =RANK(CB19,CB$18:CB$25) -> 7 | CA19: =C19 -> Brian Campbell | CB19: =BW19 -> -12.157971 | CC19: 2 | CD19: =VLOOKUP(CC19,BZ$18:CB$25,2,FALSE) -> Roman Josi | CE19: =VLOOKUP(CD19,CA$18:CC$25,2,FALSE) -> -5.6866936 | CG19: =RANK(CI19,CI$42:CI$49) -> #REF! | CH19: =#REF! -> #REF! | CI19: =#REF! -> #REF! | CJ19: =CJ172+1 -> 3 | CK19: =VLOOKUP(CJ19,CG$42:CI$49,2,FALSE) -> #N/A | CL19: =VLOOKUP(CK19,CH$42:CJ$49,2,FALSE) -> #N/A | CN19: =RANK(CP19,CP$18:CP$25) -> 4 | CO19: =C19 -> Brian Campbell | CP19: =BX19 -> -7.8368034 | CQ19: 2 | CR19: =VLOOKUP(CQ19,CN$18:CP$25,2,FALSE) -> Mark Giordano | CS19: =VLOOKUP(CR19,CO$18:CQ$25,2,FALSE) -> -4.146776
A20: =C20 -> Jason Demers | B20: =RIGHT(C20,LEN(C20)-FIND(" ",C20)) -> Demers | C20: Jason Demers | D20: 75 | E20: 57 | F20: 22 | G20: =VLOOKUP(A20,'Hard Stats 2013-2014'!$A$2:$L$691,4,0) -> 75 | H20: 2 | I20: 4 | J20: 1 | K20: =VLOOKUP(A20,'Hard Stats 2013-2014'!$A$2:$L$691,5,0) -> 5 | L20: =(H20/D20)*77 -> 2.0533333 | M20: =(I20/E20)*77 -> 5.4035088 | N20: =(J20/F20)*77 -> 3.5 | O20: =(K20/G20)*77 -> 5.1333333 | P20: =(L20/(L$146))*1000 -> 0.87824522 | Q20: =(M20/(M$146))*1000 -> 2.163584 | R20: =(N20/(N$146))*1000 -> 1.3540436 | S20: =(O20/(O$146))*1000 -> 1.8126561 | T20: =(P20-H$147) -> -7.3184761 | U20: =(Q20-I$147) -> -5.588354 | V20: =(R20-J$147) -> -6.1086429 | W20: =(S20-K$147) -> -5.486614 | X20: 22 | Y20: 9 | Z20: 2 | AA20: =VLOOKUP(A20,'Hard Stats 2013-2014'!$A$2:$L$691,6,0) -> 29 | AB20: =(X20/D20)*77 -> 22.586667 | AC20: =(Y20/E20)*77 -> 12.157895 | AD20: =(Z20/F20)*77 -> 7 | AE20: =(AA20/G20)*77 -> 29.773333 | AF20: =(AB20/AB$146)*1000 -> 5.5564569 | AG20: =(AC20/AC$146)*1000 -> 2.9405509 | AH20: =(AD20/AD$146)*1000 -> 1.5155981 | AI20: =(AE20/AE$146)*1000 -> 6.3625161 | AJ20: =(AF20-H$147) -> -2.6402644 | AK20: =(AG20-I$147) -> -4.8113871 | AL20: =(AH20-J$147) -> -5.9470884 | AM20: =(AI20-K$147) -> -0.93675396 | AN20: 6 | AO20: 5 | AP20: 0 | AQ20: =VLOOKUP(A20,'Hard Stats 2013-2014'!$A$2:$L$691,8,0) -> 9 | AR20: =(AN20/D20)*77 -> 6.16 | AS20: =(AO20/E20)*77 -> 6.754386 | AT20: =(AP20/F20)*77 -> 0 | AU20: =(AQ20/G20)*77 -> 9.24 | AV20: =((AR20/AR$146)*1000) -> 2.9898427 | AW20: =((AS20/AS$146)*1000) -> 3.3646558 | AX20: =((AT20/AT$146)*1000) -> 0 | AY20: =((AU20/AU$146)*1000) -> 3.7803111 | AZ20: =(AV20-H$147) -> -5.2068787 | BA20: =(AW20-I$147) -> -4.3872822 | BB20: =(AX20-J$147) -> -7.4626866 | BC20: =(AY20-K$147) -> -3.518959 | BD20: 105 | BE20: 73 | BF20: 27 | BG20: =VLOOKUP(A20,'Hard Stats 2013-2014'!$A$2:$L$691,9,0) -> 105 | BH20: =(BD20/D20)*77 -> 107.8 | BI20: =(BE20/E20)*77 -> 98.614035 | BJ20: =(BF20/F20)*77 -> 94.5 | BK20: =(BG20/G20)*77 -> 107.8 | BL20: =(BH20/BH$146)*1000 -> 4.5999953 | BM20: =(BI20/BI$146)*1000 -> 4.0974428 | BN20: =(BJ20/BJ$146)*1000 -> 3.7754155 | BO20: =(BK20/BK$146)*1000 -> 4.0455589 | BP20: =(BL20-H$147) -> -3.596726 | BQ20: =(BM20-I$147) -> -3.6544951 | BR20: =(BN20-J$147) -> -3.6872711 | BS20: =(BO20-K$147) -> -3.2537112 | BT20: =(((BP20+AZ20)+AJ20)+T20) -> -18.762345 | BU20: =(((BQ20+BA20)+AK20)+U20) -> -18.441518 | BV20: =(((BR20+BB20)+AL20)+V20) -> -23.205689 | BW20: =(((BS20+BC20)+AM20)+W20) -> -13.196038 | BX20: =((BW20*0.6)+(BV20*0.3)+(BU20*0.1)) -> -16.723481 | BZ20: =RANK(CB20,CB$18:CB$25) -> 8 | CA20: =C20 -> Jason Demers | CB20: =BW20 -> -13.196038 | CC20: 3 | CD20: =VLOOKUP(CC20,BZ$18:CB$25,2,FALSE) -> Andrei Markov | CE20: =VLOOKUP(CD20,CA$18:CC$25,2,FALSE) -> -6.6933242 | CN20: =RANK(CP20,CP$18:CP$25) -> 8 | CO20: =C20 -> Jason Demers | CP20: =BX20 -> -16.723481 | CQ20: 3 | CR20: =VLOOKUP(CQ20,CN$18:CP$25,2,FALSE) -> Andrei Markov | CS20: =VLOOKUP(CR20,CO$18:CQ$25,2,FALSE) -> -4.4683453
